Workbook

Sheet Α2. Σύνολο ΠΥ
A1: Πίνακας Α2: Έσοδα - Δαπάνες ΑΕ, ΝΠΙΔ και Ειδικών Λογαριασμών που εφαρμόζουν το Ελληνικό Γενικό Λογιστικό Σχέδιο (Τακτικός προϋπολογισμός και ΠΔΕ, ΤΑΑ & λοιπά εργαλεία)
D2: 2025 | E2: 2026 | F2: 2026 | G2: 2026 | H2: 2026 | I2: 2027 | J2: 2028 | K2: 2029 | L2: 2030
A3: α/α | B3: Λογαριασμοί ΕΓΛΣ | C3: Περιγραφή | D3: Πραγματοποιήσεις | E3: Αρχικός Προϋπολογισμός | F3: Διαμόρφωση (Αρχικός Π/Υ + τροποποιήσεις) | G3: Εκτέλεση Α΄ Εξαμήνου | H3: Εκτιμήσεις πραγματοποιήσεων έτους | I3: Προβλέψεις | J3: Προβλέψεις | K3: Προβλέψεις | L3: Προβλέψεις
A4: Α | B4: Έσοδα μη χρηματοοικονομικών συναλλαγών (1+2+3+4+5+6+7+8+9+10+11+12+13) | D4: ='Α2.1.Τακτικός ΠΥ'!D4+'Α2.2. ΠΔΕ, ΤΑΑ & λοιπά εργαλεία'!D4 -> 0 | E4: ='Α2.1.Τακτικός ΠΥ'!E4+'Α2.2. ΠΔΕ, ΤΑΑ & λοιπά εργαλεία'!E4 -> 0 | F4: ='Α2.1.Τακτικός ΠΥ'!F4+'Α2.2. ΠΔΕ, ΤΑΑ & λοιπά εργαλεία'!F4 -> 0 | G4: ='Α2.1.Τακτικός ΠΥ'!G4+'Α2.2. ΠΔΕ, ΤΑΑ & λοιπά εργαλεία'!G4 -> 0 | H4: ='Α2.1.Τακτικός ΠΥ'!H4+'Α2.2. ΠΔΕ, ΤΑΑ & λοιπά εργαλεία'!H4 -> 0 | I4: ='Α2.1.Τακτικός ΠΥ'!I4+'Α2.2. ΠΔΕ, ΤΑΑ & λοιπά εργαλεία'!I4 -> 0 | J4: ='Α2.1.Τακτικός ΠΥ'!J4+'Α2.2. ΠΔΕ, ΤΑΑ & λοιπά εργαλεία'!J4 -> 0 | K4: ='Α2.1.Τακτικός ΠΥ'!K4+'Α2.2. ΠΔΕ, ΤΑΑ & λοιπά εργαλεία'!K4 -> 0 | L4: ='Α2.1.Τακτικός ΠΥ'!L4+'Α2.2. ΠΔΕ, ΤΑΑ & λοιπά εργαλεία'!L4 -> 0
A5: 1 | B5: 70+71+72 | C5: Πωλήσεις εμπορευμάτων, έτοιμων και ημιτελών προϊόντων, λοιπών αποθεμάτων (70+71+72) | D5: ='Α2.1.Τακτικός ΠΥ'!D5+'Α2.2. ΠΔΕ, ΤΑΑ & λοιπά εργαλεία'!D5 -> 0 | E5: ='Α2.1.Τακτικός ΠΥ'!E5+'Α2.2. ΠΔΕ, ΤΑΑ & λοιπά εργαλεία'!E5 -> 0 | F5: ='Α2.1.Τακτικός ΠΥ'!F5+'Α2.2. ΠΔΕ, ΤΑΑ & λοιπά εργαλεία'!F5 -> 0 | G5: ='Α2.1.Τακτικός ΠΥ'!G5+'Α2.2. ΠΔΕ, ΤΑΑ & λοιπά εργαλεία'!G5 -> 0 | H5: ='Α2.1.Τακτικός ΠΥ'!H5+'Α2.2. ΠΔΕ, ΤΑΑ & λοιπά εργαλεία'!H5 -> 0 | I5: ='Α2.1.Τακτικός ΠΥ'!I5+'Α2.2. ΠΔΕ, ΤΑΑ & λοιπά εργαλεία'!I5 -> 0 | J5: ='Α2.1.Τακτικός ΠΥ'!J5+'Α2.2. ΠΔΕ, ΤΑΑ & λοιπά εργαλεία'!J5 -> 0 | K5: ='Α2.1.Τακτικός ΠΥ'!K5+'Α2.2. ΠΔΕ, ΤΑΑ & λοιπά εργαλεία'!K5 -> 0 | L5: ='Α2.1.Τακτικός ΠΥ'!L5+'Α2.2. ΠΔΕ, ΤΑΑ & λοιπά εργαλεία'!L5 -> 0
A6: 2 | B6: 73 | C6: Πωλήσεις υπηρεσιών (73) | D6: ='Α2.1.Τακτικός ΠΥ'!D6+'Α2.2. ΠΔΕ, ΤΑΑ & λοιπά εργαλεία'!D6 -> 0 | E6: ='Α2.1.Τακτικός ΠΥ'!E6+'Α2.2. ΠΔΕ, ΤΑΑ & λοιπά εργαλεία'!E6 -> 0 | F6: ='Α2.1.Τακτικός ΠΥ'!F6+'Α2.2. ΠΔΕ, ΤΑΑ & λοιπά εργαλεία'!F6 -> 0 | G6: ='Α2.1.Τακτικός ΠΥ'!G6+'Α2.2. ΠΔΕ, ΤΑΑ & λοιπά εργαλεία'!G6 -> 0 | H6: ='Α2.1.Τακτικός ΠΥ'!H6+'Α2.2. ΠΔΕ, ΤΑΑ & λοιπά εργαλεία'!H6 -> 0 | I6: ='Α2.1.Τακτικός ΠΥ'!I6+'Α2.2. ΠΔΕ, ΤΑΑ & λοιπά εργαλεία'!I6 -> 0 | J6: ='Α2.1.Τακτικός ΠΥ'!J6+'Α2.2. ΠΔΕ, ΤΑΑ & λοιπά εργαλεία'!J6 -> 0 | K6: ='Α2.1.Τακτικός ΠΥ'!K6+'Α2.2. ΠΔΕ, ΤΑΑ & λοιπά εργαλεία'!K6 -> 0 | L6: ='Α2.1.Τακτικός ΠΥ'!L6+'Α2.2. ΠΔΕ, ΤΑΑ & λοιπά εργαλεία'!L6 -> 0
A7: 3 | B7: 74 | C7: Επιχορηγήσεις και διάφορα έσοδα πωλήσεων (74) | D7: ='Α2.1.Τακτικός ΠΥ'!D7+'Α2.2. ΠΔΕ, ΤΑΑ & λοιπά εργαλεία'!D7 -> 0 | E7: ='Α2.1.Τακτικός ΠΥ'!E7+'Α2.2. ΠΔΕ, ΤΑΑ & λοιπά εργαλεία'!E7 -> 0 | F7: ='Α2.1.Τακτικός ΠΥ'!F7+'Α2.2. ΠΔΕ, ΤΑΑ & λοιπά εργαλεία'!F7 -> 0 | G7: ='Α2.1.Τακτικός ΠΥ'!G7+'Α2.2. ΠΔΕ, ΤΑΑ & λοιπά εργαλεία'!G7 -> 0 | H7: ='Α2.1.Τακτικός ΠΥ'!H7+'Α2.2. ΠΔΕ, ΤΑΑ & λοιπά εργαλεία'!H7 -> 0 | I7: ='Α2.1.Τακτικός ΠΥ'!I7+'Α2.2. ΠΔΕ, ΤΑΑ & λοιπά εργαλεία'!I7 -> 0 | J7: ='Α2.1.Τακτικός ΠΥ'!J7+'Α2.2. ΠΔΕ, ΤΑΑ & λοιπά εργαλεία'!J7 -> 0 | K7: ='Α2.1.Τακτικός ΠΥ'!K7+'Α2.2. ΠΔΕ, ΤΑΑ & λοιπά εργαλεία'!K7 -> 0 | L7: ='Α2.1.Τακτικός ΠΥ'!L7+'Α2.2. ΠΔΕ, ΤΑΑ & λοιπά εργαλεία'!L7 -> 0
A8: 4 | B8: 75 | C8: Έσοδα παρεπόμενων ασχολιών (75) | D8: ='Α2.1.Τακτικός ΠΥ'!D8+'Α2.2. ΠΔΕ, ΤΑΑ & λοιπά εργαλεία'!D8 -> 0 | E8: ='Α2.1.Τακτικός ΠΥ'!E8+'Α2.2. ΠΔΕ, ΤΑΑ & λοιπά εργαλεία'!E8 -> 0 | F8: ='Α2.1.Τακτικός ΠΥ'!F8+'Α2.2. ΠΔΕ, ΤΑΑ & λοιπά εργαλεία'!F8 -> 0 | G8: ='Α2.1.Τακτικός ΠΥ'!G8+'Α2.2. ΠΔΕ, ΤΑΑ & λοιπά εργαλεία'!G8 -> 0 | H8: ='Α2.1.Τακτικός ΠΥ'!H8+'Α2.2. ΠΔΕ, ΤΑΑ & λοιπά εργαλεία'!H8 -> 0 | I8: ='Α2.1.Τακτικός ΠΥ'!I8+'Α2.2. ΠΔΕ, ΤΑΑ & λοιπά εργαλεία'!I8 -> 0 | J8: ='Α2.1.Τακτικός ΠΥ'!J8+'Α2.2. ΠΔΕ, ΤΑΑ & λοιπά εργαλεία'!J8 -> 0 | K8: ='Α2.1.Τακτικός ΠΥ'!K8+'Α2.2. ΠΔΕ, ΤΑΑ & λοιπά εργαλεία'!K8 -> 0 | L8: ='Α2.1.Τακτικός ΠΥ'!L8+'Α2.2. ΠΔΕ, ΤΑΑ & λοιπά εργαλεία'!L8 -> 0
A9: 5 | B9: 76 | C9: Έσοδα κεφαλαίων (76 πλην 76.04) | D9: ='Α2.1.Τακτικός ΠΥ'!D9+'Α2.2. ΠΔΕ, ΤΑΑ & λοιπά εργαλεία'!D9 -> 0 | E9: ='Α2.1.Τακτικός ΠΥ'!E9+'Α2.2. ΠΔΕ, ΤΑΑ & λοιπά εργαλεία'!E9 -> 0 | F9: ='Α2.1.Τακτικός ΠΥ'!F9+'Α2.2. ΠΔΕ, ΤΑΑ & λοιπά εργαλεία'!F9 -> 0 | G9: ='Α2.1.Τακτικός ΠΥ'!G9+'Α2.2. ΠΔΕ, ΤΑΑ & λοιπά εργαλεία'!G9 -> 0 | H9: ='Α2.1.Τακτικός ΠΥ'!H9+'Α2.2. ΠΔΕ, ΤΑΑ & λοιπά εργαλεία'!H9 -> 0 | I9: ='Α2.1.Τακτικός ΠΥ'!I9+'Α2.2. ΠΔΕ, ΤΑΑ & λοιπά εργαλεία'!I9 -> 0 | J9: ='Α2.1.Τακτικός ΠΥ'!J9+'Α2.2. ΠΔΕ, ΤΑΑ & λοιπά εργαλεία'!J9 -> 0 | K9: ='Α2.1.Τακτικός ΠΥ'!K9+'Α2.2. ΠΔΕ, ΤΑΑ & λοιπά εργαλεία'!K9 -> 0 | L9: ='Α2.1.Τακτικός ΠΥ'!L9+'Α2.2. ΠΔΕ, ΤΑΑ & λοιπά εργαλεία'!L9 -> 0
A10: 6 | B10: 78 | C10: Ιδιοπαραγωγή παγίων (78 πλην 78.05) | D10: ='Α2.1.Τακτικός ΠΥ'!D10+'Α2.2. ΠΔΕ, ΤΑΑ & λοιπά εργαλεία'!D10 -> 0 | E10: ='Α2.1.Τακτικός ΠΥ'!E10+'Α2.2. ΠΔΕ, ΤΑΑ & λοιπά εργαλεία'!E10 -> 0 | F10: ='Α2.1.Τακτικός ΠΥ'!F10+'Α2.2. ΠΔΕ, ΤΑΑ & λοιπά εργαλεία'!F10 -> 0 | G10: ='Α2.1.Τακτικός ΠΥ'!G10+'Α2.2. ΠΔΕ, ΤΑΑ & λοιπά εργαλεία'!G10 -> 0 | H10: ='Α2.1.Τακτικός ΠΥ'!H10+'Α2.2. ΠΔΕ, ΤΑΑ & λοιπά εργαλεία'!H10 -> 0 | I10: ='Α2.1.Τακτικός ΠΥ'!I10+'Α2.2. ΠΔΕ, ΤΑΑ & λοιπά εργαλεία'!I10 -> 0 | J10: ='Α2.1.Τακτικός ΠΥ'!J10+'Α2.2. ΠΔΕ, ΤΑΑ & λοιπά εργαλεία'!J10 -> 0 | K10: ='Α2.1.Τακτικός ΠΥ'!K10+'Α2.2. ΠΔΕ, ΤΑΑ & λοιπά εργαλεία'!K10 -> 0 | L10: ='Α2.1.Τακτικός ΠΥ'!L10+'Α2.2. ΠΔΕ, ΤΑΑ & λοιπά εργαλεία'!L10 -> 0
A11: 7 | B11: 40* | C11: Αύξηση μετοχικού κεφαλαίου (40) | D11: ='Α2.1.Τακτικός ΠΥ'!D11+'Α2.2. ΠΔΕ, ΤΑΑ & λοιπά εργαλεία'!D11 -> 0 | E11: ='Α2.1.Τακτικός ΠΥ'!E11+'Α2.2. ΠΔΕ, ΤΑΑ & λοιπά εργαλεία'!E11 -> 0 | F11: ='Α2.1.Τακτικός ΠΥ'!F11+'Α2.2. ΠΔΕ, ΤΑΑ & λοιπά εργαλεία'!F11 -> 0 | G11: ='Α2.1.Τακτικός ΠΥ'!G11+'Α2.2. ΠΔΕ, ΤΑΑ & λοιπά εργαλεία'!G11 -> 0 | H11: ='Α2.1.Τακτικός ΠΥ'!H11+'Α2.2. ΠΔΕ, ΤΑΑ & λοιπά εργαλεία'!H11 -> 0 | I11: ='Α2.1.Τακτικός ΠΥ'!I11+'Α2.2. ΠΔΕ, ΤΑΑ & λοιπά εργαλεία'!I11 -> 0 | J11: ='Α2.1.Τακτικός ΠΥ'!J11+'Α2.2. ΠΔΕ, ΤΑΑ & λοιπά εργαλεία'!J11 -> 0 | K11: ='Α2.1.Τακτικός ΠΥ'!K11+'Α2.2. ΠΔΕ, ΤΑΑ & λοιπά εργαλεία'!K11 -> 0 | L11: ='Α2.1.Τακτικός ΠΥ'!L11+'Α2.2. ΠΔΕ, ΤΑΑ & λοιπά εργαλεία'!L11 -> 0
A12: 8 | B12: 41 | C12: Επιχορηγήσεις παγίων επενδύσεων (41.10) | D12: ='Α2.1.Τακτικός ΠΥ'!D12+'Α2.2. ΠΔΕ, ΤΑΑ & λοιπά εργαλεία'!D12 -> 0 | E12: ='Α2.1.Τακτικός ΠΥ'!E12+'Α2.2. ΠΔΕ, ΤΑΑ & λοιπά εργαλεία'!E12 -> 0 | F12: ='Α2.1.Τακτικός ΠΥ'!F12+'Α2.2. ΠΔΕ, ΤΑΑ & λοιπά εργαλεία'!F12 -> 0 | G12: ='Α2.1.Τακτικός ΠΥ'!G12+'Α2.2. ΠΔΕ, ΤΑΑ & λοιπά εργαλεία'!G12 -> 0 | H12: ='Α2.1.Τακτικός ΠΥ'!H12+'Α2.2. ΠΔΕ, ΤΑΑ & λοιπά εργαλεία'!H12 -> 0 | I12: ='Α2.1.Τακτικός ΠΥ'!I12+'Α2.2. ΠΔΕ, ΤΑΑ & λοιπά εργαλεία'!I12 -> 0 | J12: ='Α2.1.Τακτικός ΠΥ'!J12+'Α2.2. ΠΔΕ, ΤΑΑ & λοιπά εργαλεία'!J12 -> 0 | K12: ='Α2.1.Τακτικός ΠΥ'!K12+'Α2.2. ΠΔΕ, ΤΑΑ & λοιπά εργαλεία'!K12 -> 0 | L12: ='Α2.1.Τακτικός ΠΥ'!L12+'Α2.2. ΠΔΕ, ΤΑΑ & λοιπά εργαλεία'!L12 -> 0
A13: 9 | B13: 43** | C13: Ποσά προορισμένα για αύξηση κεφαλαίου (43) | D13: ='Α2.1.Τακτικός ΠΥ'!D13+'Α2.2. ΠΔΕ, ΤΑΑ & λοιπά εργαλεία'!D13 -> 0 | E13: ='Α2.1.Τακτικός ΠΥ'!E13+'Α2.2. ΠΔΕ, ΤΑΑ & λοιπά εργαλεία'!E13 -> 0 | F13: ='Α2.1.Τακτικός ΠΥ'!F13+'Α2.2. ΠΔΕ, ΤΑΑ & λοιπά εργαλεία'!F13 -> 0 | G13: ='Α2.1.Τακτικός ΠΥ'!G13+'Α2.2. ΠΔΕ, ΤΑΑ & λοιπά εργαλεία'!G13 -> 0 | H13: ='Α2.1.Τακτικός ΠΥ'!H13+'Α2.2. ΠΔΕ, ΤΑΑ & λοιπά εργαλεία'!H13 -> 0 | I13: ='Α2.1.Τακτικός ΠΥ'!I13+'Α2.2. ΠΔΕ, ΤΑΑ & λοιπά εργαλεία'!I13 -> 0 | J13: ='Α2.1.Τακτικός ΠΥ'!J13+'Α2.2. ΠΔΕ, ΤΑΑ & λοιπά εργαλεία'!J13 -> 0 | K13: ='Α2.1.Τακτικός ΠΥ'!K13+'Α2.2. ΠΔΕ, ΤΑΑ & λοιπά εργαλεία'!K13 -> 0 | L13: ='Α2.1.Τακτικός ΠΥ'!L13+'Α2.2. ΠΔΕ, ΤΑΑ & λοιπά εργαλεία'!L13 -> 0
A14: 10 | B14: 81 | C14: Έκτακτα και ανόργανα έσοδα (81.01 πλην 81.01.04 και 81.01.05) | D14: ='Α2.1.Τακτικός ΠΥ'!D14+'Α2.2. ΠΔΕ, ΤΑΑ & λοιπά εργαλεία'!D14 -> 0 | E14: ='Α2.1.Τακτικός ΠΥ'!E14+'Α2.2. ΠΔΕ, ΤΑΑ & λοιπά εργαλεία'!E14 -> 0 | F14: ='Α2.1.Τακτικός ΠΥ'!F14+'Α2.2. ΠΔΕ, ΤΑΑ & λοιπά εργαλεία'!F14 -> 0 | G14: ='Α2.1.Τακτικός ΠΥ'!G14+'Α2.2. ΠΔΕ, ΤΑΑ & λοιπά εργαλεία'!G14 -> 0 | H14: ='Α2.1.Τακτικός ΠΥ'!H14+'Α2.2. ΠΔΕ, ΤΑΑ & λοιπά εργαλεία'!H14 -> 0 | I14: ='Α2.1.Τακτικός ΠΥ'!I14+'Α2.2. ΠΔΕ, ΤΑΑ & λοιπά εργαλεία'!I14 -> 0 | J14: ='Α2.1.Τακτικός ΠΥ'!J14+'Α2.2. ΠΔΕ, ΤΑΑ & λοιπά εργαλεία'!J14 -> 0 | K14: ='Α2.1.Τακτικός ΠΥ'!K14+'Α2.2. ΠΔΕ, ΤΑΑ & λοιπά εργαλεία'!K14 -> 0 | L14: ='Α2.1.Τακτικός ΠΥ'!L14+'Α2.2. ΠΔΕ, ΤΑΑ & λοιπά εργαλεία'!L14 -> 0
A15: 11 | B15: 82 | C15: Έσοδα προηγούμενων χρήσεων (82.01) | D15: ='Α2.1.Τακτικός ΠΥ'!D15+'Α2.2. ΠΔΕ, ΤΑΑ & λοιπά εργαλεία'!D15 -> 0 | E15: ='Α2.1.Τακτικός ΠΥ'!E15+'Α2.2. ΠΔΕ, ΤΑΑ & λοιπά εργαλεία'!E15 -> 0 | F15: ='Α2.1.Τακτικός ΠΥ'!F15+'Α2.2. ΠΔΕ, ΤΑΑ & λοιπά εργαλεία'!F15 -> 0 | G15: ='Α2.1.Τακτικός ΠΥ'!G15+'Α2.2. ΠΔΕ, ΤΑΑ & λοιπά εργαλεία'!G15 -> 0 | H15: ='Α2.1.Τακτικός ΠΥ'!H15+'Α2.2. ΠΔΕ, ΤΑΑ & λοιπά εργαλεία'!H15 -> 0 | I15: ='Α2.1.Τακτικός ΠΥ'!I15+'Α2.2. ΠΔΕ, ΤΑΑ & λοιπά εργαλεία'!I15 -> 0 | J15: ='Α2.1.Τακτικός ΠΥ'!J15+'Α2.2. ΠΔΕ, ΤΑΑ & λοιπά εργαλεία'!J15 -> 0 | K15: ='Α2.1.Τακτικός ΠΥ'!K15+'Α2.2. ΠΔΕ, ΤΑΑ & λοιπά εργαλεία'!K15 -> 0 | L15: ='Α2.1.Τακτικός ΠΥ'!L15+'Α2.2. ΠΔΕ, ΤΑΑ & λοιπά εργαλεία'!L15 -> 0
A16: 12 | B16: 10+11+12+13+14+15+16 | C16: Πωλήσεις παγίων περιουσιακών στοιχείων (10+11+12+13+14+15+16) | D16: ='Α2.1.Τακτικός ΠΥ'!D16+'Α2.2. ΠΔΕ, ΤΑΑ & λοιπά εργαλεία'!D16 -> 0 | E16: ='Α2.1.Τακτικός ΠΥ'!E16+'Α2.2. ΠΔΕ, ΤΑΑ & λοιπά εργαλεία'!E16 -> 0 | F16: ='Α2.1.Τακτικός ΠΥ'!F16+'Α2.2. ΠΔΕ, ΤΑΑ & λοιπά εργαλεία'!F16 -> 0 | G16: ='Α2.1.Τακτικός ΠΥ'!G16+'Α2.2. ΠΔΕ, ΤΑΑ & λοιπά εργαλεία'!G16 -> 0 | H16: ='Α2.1.Τακτικός ΠΥ'!H16+'Α2.2. ΠΔΕ, ΤΑΑ & λοιπά εργαλεία'!H16 -> 0 | I16: ='Α2.1.Τακτικός ΠΥ'!I16+'Α2.2. ΠΔΕ, ΤΑΑ & λοιπά εργαλεία'!I16 -> 0 | J16: ='Α2.1.Τακτικός ΠΥ'!J16+'Α2.2. ΠΔΕ, ΤΑΑ & λοιπά εργαλεία'!J16 -> 0 | K16: ='Α2.1.Τακτικός ΠΥ'!K16+'Α2.2. ΠΔΕ, ΤΑΑ & λοιπά εργαλεία'!K16 -> 0 | L16: ='Α2.1.Τακτικός ΠΥ'!L16+'Α2.2. ΠΔΕ, ΤΑΑ & λοιπά εργαλεία'!L16 -> 0
A17: 13 | B17: 20+24+25+26+28 | C17: Εκπτώσεις επί αγορών εμπορευμάτων, πρώτων και βοηθητικών υλών, ανταλλακτικών και λοιπών αποθεμάτων (20+24+25+26+28) | D17: ='Α2.1.Τακτικός ΠΥ'!D17+'Α2.2. ΠΔΕ, ΤΑΑ & λοιπά εργαλεία'!D17 -> 0 | E17: ='Α2.1.Τακτικός ΠΥ'!E17+'Α2.2. ΠΔΕ, ΤΑΑ & λοιπά εργαλεία'!E17 -> 0 | F17: ='Α2.1.Τακτικός ΠΥ'!F17+'Α2.2. ΠΔΕ, ΤΑΑ & λοιπά εργαλεία'!F17 -> 0 | G17: ='Α2.1.Τακτικός ΠΥ'!G17+'Α2.2. ΠΔΕ, ΤΑΑ & λοιπά εργαλεία'!G17 -> 0 | H17: ='Α2.1.Τακτικός ΠΥ'!H17+'Α2.2. ΠΔΕ, ΤΑΑ & λοιπά εργαλεία'!H17 -> 0 | I17: ='Α2.1.Τακτικός ΠΥ'!I17+'Α2.2. ΠΔΕ, ΤΑΑ & λοιπά εργαλεία'!I17 -> 0 | J17: ='Α2.1.Τακτικός ΠΥ'!J17+'Α2.2. ΠΔΕ, ΤΑΑ & λοιπά εργαλεία'!J17 -> 0 | K17: ='Α2.1.Τακτικός ΠΥ'!K17+'Α2.2. ΠΔΕ, ΤΑΑ & λοιπά εργαλεία'!K17 -> 0 | L17: ='Α2.1.Τακτικός ΠΥ'!L17+'Α2.2. ΠΔΕ, ΤΑΑ & λοιπά εργαλεία'!L17 -> 0
A18: Β | B18: Δαπάνες μη χρηματοοικονομικών συναλλαγών (14+15+16+17+18+19+20+21+22+23+24+25+26+27) | D18: ='Α2.1.Τακτικός ΠΥ'!D18+'Α2.2. ΠΔΕ, ΤΑΑ & λοιπά εργαλεία'!D18 -> 0 | E18: ='Α2.1.Τακτικός ΠΥ'!E18+'Α2.2. ΠΔΕ, ΤΑΑ & λοιπά εργαλεία'!E18 -> 0 | F18: ='Α2.1.Τακτικός ΠΥ'!F18+'Α2.2. ΠΔΕ, ΤΑΑ & λοιπά εργαλεία'!F18 -> 0 | G18: ='Α2.1.Τακτικός ΠΥ'!G18+'Α2.2. ΠΔΕ, ΤΑΑ & λοιπά εργαλεία'!G18 -> 0 | H18: ='Α2.1.Τακτικός ΠΥ'!H18+'Α2.2. ΠΔΕ, ΤΑΑ & λοιπά εργαλεία'!H18 -> 0 | I18: ='Α2.1.Τακτικός ΠΥ'!I18+'Α2.2. ΠΔΕ, ΤΑΑ & λοιπά εργαλεία'!I18 -> 0 | J18: ='Α2.1.Τακτικός ΠΥ'!J18+'Α2.2. ΠΔΕ, ΤΑΑ & λοιπά εργαλεία'!J18 -> 0 | K18: ='Α2.1.Τακτικός ΠΥ'!K18+'Α2.2. ΠΔΕ, ΤΑΑ & λοιπά εργαλεία'!K18 -> 0 | L18: ='Α2.1.Τακτικός ΠΥ'!L18+'Α2.2. ΠΔΕ, ΤΑΑ & λοιπά εργαλεία'!L18 -> 0
A19: 14 | B19: 60 | C19: Αμοιβές και έξοδα προσωπικού (60 εκτός 60.05) | D19: ='Α2.1.Τακτικός ΠΥ'!D19+'Α2.2. ΠΔΕ, ΤΑΑ & λοιπά εργαλεία'!D19 -> 0 | E19: ='Α2.1.Τακτικός ΠΥ'!E19+'Α2.2. ΠΔΕ, ΤΑΑ & λοιπά εργαλεία'!E19 -> 0 | F19: ='Α2.1.Τακτικός ΠΥ'!F19+'Α2.2. ΠΔΕ, ΤΑΑ & λοιπά εργαλεία'!F19 -> 0 | G19: ='Α2.1.Τακτικός ΠΥ'!G19+'Α2.2. ΠΔΕ, ΤΑΑ & λοιπά εργαλεία'!G19 -> 0 | H19: ='Α2.1.Τακτικός ΠΥ'!H19+'Α2.2. ΠΔΕ, ΤΑΑ & λοιπά εργαλεία'!H19 -> 0 | I19: ='Α2.1.Τακτικός ΠΥ'!I19+'Α2.2. ΠΔΕ, ΤΑΑ & λοιπά εργαλεία'!I19 -> 0 | J19: ='Α2.1.Τακτικός ΠΥ'!J19+'Α2.2. ΠΔΕ, ΤΑΑ & λοιπά εργαλεία'!J19 -> 0 | K19: ='Α2.1.Τακτικός ΠΥ'!K19+'Α2.2. ΠΔΕ, ΤΑΑ & λοιπά εργαλεία'!K19 -> 0 | L19: ='Α2.1.Τακτικός ΠΥ'!L19+'Α2.2. ΠΔΕ, ΤΑΑ & λοιπά εργαλεία'!L19 -> 0
A20: 15 | B20: 61 | C20: Αμοιβές και έξοδα τρίτων (61) | D20: ='Α2.1.Τακτικός ΠΥ'!D20+'Α2.2. ΠΔΕ, ΤΑΑ & λοιπά εργαλεία'!D20 -> 0 | E20: ='Α2.1.Τακτικός ΠΥ'!E20+'Α2.2. ΠΔΕ, ΤΑΑ & λοιπά εργαλεία'!E20 -> 0 | F20: ='Α2.1.Τακτικός ΠΥ'!F20+'Α2.2. ΠΔΕ, ΤΑΑ & λοιπά εργαλεία'!F20 -> 0 | G20: ='Α2.1.Τακτικός ΠΥ'!G20+'Α2.2. ΠΔΕ, ΤΑΑ & λοιπά εργαλεία'!G20 -> 0 | H20: ='Α2.1.Τακτικός ΠΥ'!H20+'Α2.2. ΠΔΕ, ΤΑΑ & λοιπά εργαλεία'!H20 -> 0 | I20: ='Α2.1.Τακτικός ΠΥ'!I20+'Α2.2. ΠΔΕ, ΤΑΑ & λοιπά εργαλεία'!I20 -> 0 | J20: ='Α2.1.Τακτικός ΠΥ'!J20+'Α2.2. ΠΔΕ, ΤΑΑ & λοιπά εργαλεία'!J20 -> 0 | K20: ='Α2.1.Τακτικός ΠΥ'!K20+'Α2.2. ΠΔΕ, ΤΑΑ & λοιπά εργαλεία'!K20 -> 0 | L20: ='Α2.1.Τακτικός ΠΥ'!L20+'Α2.2. ΠΔΕ, ΤΑΑ & λοιπά εργαλεία'!L20 -> 0
A21: 16 | B21: 62 | C21: Παροχές τρίτων (62) | D21: ='Α2.1.Τακτικός ΠΥ'!D21+'Α2.2. ΠΔΕ, ΤΑΑ & λοιπά εργαλεία'!D21 -> 0 | E21: ='Α2.1.Τακτικός ΠΥ'!E21+'Α2.2. ΠΔΕ, ΤΑΑ & λοιπά εργαλεία'!E21 -> 0 | F21: ='Α2.1.Τακτικός ΠΥ'!F21+'Α2.2. ΠΔΕ, ΤΑΑ & λοιπά εργαλεία'!F21 -> 0 | G21: ='Α2.1.Τακτικός ΠΥ'!G21+'Α2.2. ΠΔΕ, ΤΑΑ & λοιπά εργαλεία'!G21 -> 0 | H21: ='Α2.1.Τακτικός ΠΥ'!H21+'Α2.2. ΠΔΕ, ΤΑΑ & λοιπά εργαλεία'!H21 -> 0 | I21: ='Α2.1.Τακτικός ΠΥ'!I21+'Α2.2. ΠΔΕ, ΤΑΑ & λοιπά εργαλεία'!I21 -> 0 | J21: ='Α2.1.Τακτικός ΠΥ'!J21+'Α2.2. ΠΔΕ, ΤΑΑ & λοιπά εργαλεία'!J21 -> 0 | K21: ='Α2.1.Τακτικός ΠΥ'!K21+'Α2.2. ΠΔΕ, ΤΑΑ & λοιπά εργαλεία'!K21 -> 0 | L21: ='Α2.1.Τακτικός ΠΥ'!L21+'Α2.2. ΠΔΕ, ΤΑΑ & λοιπά εργαλεία'!L21 -> 0
A22: 17 | B22: 63 | C22: Φόροι τέλη (63) | D22: ='Α2.1.Τακτικός ΠΥ'!D22+'Α2.2. ΠΔΕ, ΤΑΑ & λοιπά εργαλεία'!D22 -> 0 | E22: ='Α2.1.Τακτικός ΠΥ'!E22+'Α2.2. ΠΔΕ, ΤΑΑ & λοιπά εργαλεία'!E22 -> 0 | F22: ='Α2.1.Τακτικός ΠΥ'!F22+'Α2.2. ΠΔΕ, ΤΑΑ & λοιπά εργαλεία'!F22 -> 0 | G22: ='Α2.1.Τακτικός ΠΥ'!G22+'Α2.2. ΠΔΕ, ΤΑΑ & λοιπά εργαλεία'!G22 -> 0 | H22: ='Α2.1.Τακτικός ΠΥ'!H22+'Α2.2. ΠΔΕ, ΤΑΑ & λοιπά εργαλεία'!H22 -> 0 | I22: ='Α2.1.Τακτικός ΠΥ'!I22+'Α2.2. ΠΔΕ, ΤΑΑ & λοιπά εργαλεία'!I22 -> 0 | J22: ='Α2.1.Τακτικός ΠΥ'!J22+'Α2.2. ΠΔΕ, ΤΑΑ & λοιπά εργαλεία'!J22 -> 0 | K22: ='Α2.1.Τακτικός ΠΥ'!K22+'Α2.2. ΠΔΕ, ΤΑΑ & λοιπά εργαλεία'!K22 -> 0 | L22: ='Α2.1.Τακτικός ΠΥ'!L22+'Α2.2. ΠΔΕ, ΤΑΑ & λοιπά εργαλεία'!L22 -> 0
A23: 18 | B23: 64 | C23: Διάφορα έξοδα (64 συν 60.05, πλην 64.11 και 64.12) | D23: ='Α2.1.Τακτικός ΠΥ'!D23+'Α2.2. ΠΔΕ, ΤΑΑ & λοιπά εργαλεία'!D23 -> 0 | E23: ='Α2.1.Τακτικός ΠΥ'!E23+'Α2.2. ΠΔΕ, ΤΑΑ & λοιπά εργαλεία'!E23 -> 0 | F23: ='Α2.1.Τακτικός ΠΥ'!F23+'Α2.2. ΠΔΕ, ΤΑΑ & λοιπά εργαλεία'!F23 -> 0 | G23: ='Α2.1.Τακτικός ΠΥ'!G23+'Α2.2. ΠΔΕ, ΤΑΑ & λοιπά εργαλεία'!G23 -> 0 | H23: ='Α2.1.Τακτικός ΠΥ'!H23+'Α2.2. ΠΔΕ, ΤΑΑ & λοιπά εργαλεία'!H23 -> 0 | I23: ='Α2.1.Τακτικός ΠΥ'!I23+'Α2.2. ΠΔΕ, ΤΑΑ & λοιπά εργαλεία'!I23 -> 0 | J23: ='Α2.1.Τακτικός ΠΥ'!J23+'Α2.2. ΠΔΕ, ΤΑΑ & λοιπά εργαλεία'!J23 -> 0 | K23: ='Α2.1.Τακτικός ΠΥ'!K23+'Α2.2. ΠΔΕ, ΤΑΑ & λοιπά εργαλεία'!K23 -> 0 | L23: ='Α2.1.Τακτικός ΠΥ'!L23+'Α2.2. ΠΔΕ, ΤΑΑ & λοιπά εργαλεία'!L23 -> 0
A24: 19 | B24: 65 | C24: Τόκοι και συναφή έξοδα (65 συν 16.18) | D24: ='Α2.1.Τακτικός ΠΥ'!D24+'Α2.2. ΠΔΕ, ΤΑΑ & λοιπά εργαλεία'!D24 -> 0 | E24: ='Α2.1.Τακτικός ΠΥ'!E24+'Α2.2. ΠΔΕ, ΤΑΑ & λοιπά εργαλεία'!E24 -> 0 | F24: ='Α2.1.Τακτικός ΠΥ'!F24+'Α2.2. ΠΔΕ, ΤΑΑ & λοιπά εργαλεία'!F24 -> 0 | G24: ='Α2.1.Τακτικός ΠΥ'!G24+'Α2.2. ΠΔΕ, ΤΑΑ & λοιπά εργαλεία'!G24 -> 0 | H24: ='Α2.1.Τακτικός ΠΥ'!H24+'Α2.2. ΠΔΕ, ΤΑΑ & λοιπά εργαλεία'!H24 -> 0 | I24: ='Α2.1.Τακτικός ΠΥ'!I24+'Α2.2. ΠΔΕ, ΤΑΑ & λοιπά εργαλεία'!I24 -> 0 | J24: ='Α2.1.Τακτικός ΠΥ'!J24+'Α2.2. ΠΔΕ, ΤΑΑ & λοιπά εργαλεία'!J24 -> 0 | K24: ='Α2.1.Τακτικός ΠΥ'!K24+'Α2.2. ΠΔΕ, ΤΑΑ & λοιπά εργαλεία'!K24 -> 0 | L24: ='Α2.1.Τακτικός ΠΥ'!L24+'Α2.2. ΠΔΕ, ΤΑΑ & λοιπά εργαλεία'!L24 -> 0
A25: 20 | B25: 67 | C25: Έξοδα που δεν εντάσσονται στους λοιπούς λογαριασμούς και παρακολουθούνται στον λογ. 67 από τον φορέα | D25: ='Α2.1.Τακτικός ΠΥ'!D25+'Α2.2. ΠΔΕ, ΤΑΑ & λοιπά εργαλεία'!D25 -> 0 | E25: ='Α2.1.Τακτικός ΠΥ'!E25+'Α2.2. ΠΔΕ, ΤΑΑ & λοιπά εργαλεία'!E25 -> 0 | F25: ='Α2.1.Τακτικός ΠΥ'!F25+'Α2.2. ΠΔΕ, ΤΑΑ & λοιπά εργαλεία'!F25 -> 0 | G25: ='Α2.1.Τακτικός ΠΥ'!G25+'Α2.2. ΠΔΕ, ΤΑΑ & λοιπά εργαλεία'!G25 -> 0 | H25: ='Α2.1.Τακτικός ΠΥ'!H25+'Α2.2. ΠΔΕ, ΤΑΑ & λοιπά εργαλεία'!H25 -> 0 | I25: ='Α2.1.Τακτικός ΠΥ'!I25+'Α2.2. ΠΔΕ, ΤΑΑ & λοιπά εργαλεία'!I25 -> 0 | J25: ='Α2.1.Τακτικός ΠΥ'!J25+'Α2.2. ΠΔΕ, ΤΑΑ & λοιπά εργαλεία'!J25 -> 0 | K25: ='Α2.1.Τακτικός ΠΥ'!K25+'Α2.2. ΠΔΕ, ΤΑΑ & λοιπά εργαλεία'!K25 -> 0 | L25: ='Α2.1.Τακτικός ΠΥ'!L25+'Α2.2. ΠΔΕ, ΤΑΑ & λοιπά εργαλεία'!L25 -> 0
A26: 21 | B26: 69 | C26: Έξοδα που δεν εντάσσονται στους λοιπούς λογαριασμούς και παρακολουθούνται στον λογ. 69 από τον φορέα | D26: ='Α2.1.Τακτικός ΠΥ'!D26+'Α2.2. ΠΔΕ, ΤΑΑ & λοιπά εργαλεία'!D26 -> 0 | E26: ='Α2.1.Τακτικός ΠΥ'!E26+'Α2.2. ΠΔΕ, ΤΑΑ & λοιπά εργαλεία'!E26 -> 0 | F26: ='Α2.1.Τακτικός ΠΥ'!F26+'Α2.2. ΠΔΕ, ΤΑΑ & λοιπά εργαλεία'!F26 -> 0 | G26: ='Α2.1.Τακτικός ΠΥ'!G26+'Α2.2. ΠΔΕ, ΤΑΑ & λοιπά εργαλεία'!G26 -> 0 | H26: ='Α2.1.Τακτικός ΠΥ'!H26+'Α2.2. ΠΔΕ, ΤΑΑ & λοιπά εργαλεία'!H26 -> 0 | I26: ='Α2.1.Τακτικός ΠΥ'!I26+'Α2.2. ΠΔΕ, ΤΑΑ & λοιπά εργαλεία'!I26 -> 0 | J26: ='Α2.1.Τακτικός ΠΥ'!J26+'Α2.2. ΠΔΕ, ΤΑΑ & λοιπά εργαλεία'!J26 -> 0 | K26: ='Α2.1.Τακτικός ΠΥ'!K26+'Α2.2. ΠΔΕ, ΤΑΑ & λοιπά εργαλεία'!K26 -> 0 | L26: ='Α2.1.Τακτικός ΠΥ'!L26+'Α2.2. ΠΔΕ, ΤΑΑ & λοιπά εργαλεία'!L26 -> 0
A27: 22 | B27: 53.01 | C27: Μερίσματα πληρωτέα (53.01) | D27: ='Α2.1.Τακτικός ΠΥ'!D27+'Α2.2. ΠΔΕ, ΤΑΑ & λοιπά εργαλεία'!D27 -> 0 | E27: ='Α2.1.Τακτικός ΠΥ'!E27+'Α2.2. ΠΔΕ, ΤΑΑ & λοιπά εργαλεία'!E27 -> 0 | F27: ='Α2.1.Τακτικός ΠΥ'!F27+'Α2.2. ΠΔΕ, ΤΑΑ & λοιπά εργαλεία'!F27 -> 0 | G27: ='Α2.1.Τακτικός ΠΥ'!G27+'Α2.2. ΠΔΕ, ΤΑΑ & λοιπά εργαλεία'!G27 -> 0 | H27: ='Α2.1.Τακτικός ΠΥ'!H27+'Α2.2. ΠΔΕ, ΤΑΑ & λοιπά εργαλεία'!H27 -> 0 | I27: ='Α2.1.Τακτικός ΠΥ'!I27+'Α2.2. ΠΔΕ, ΤΑΑ & λοιπά εργαλεία'!I27 -> 0 | J27: ='Α2.1.Τακτικός ΠΥ'!J27+'Α2.2. ΠΔΕ, ΤΑΑ & λοιπά εργαλεία'!J27 -> 0 | K27: ='Α2.1.Τακτικός ΠΥ'!K27+'Α2.2. ΠΔΕ, ΤΑΑ & λοιπά εργαλεία'!K27 -> 0 | L27: ='Α2.1.Τακτικός ΠΥ'!L27+'Α2.2. ΠΔΕ, ΤΑΑ & λοιπά εργαλεία'!L27 -> 0
A28: 23 | B28: 54.08 | C28: Λογαριασμός εκκαθάρισης φόρων - τελών ετήσιας δήλωσης φόρου εισοδήματος (54.08) | D28: ='Α2.1.Τακτικός ΠΥ'!D28+'Α2.2. ΠΔΕ, ΤΑΑ & λοιπά εργαλεία'!D28 -> 0 | E28: ='Α2.1.Τακτικός ΠΥ'!E28+'Α2.2. ΠΔΕ, ΤΑΑ & λοιπά εργαλεία'!E28 -> 0 | F28: ='Α2.1.Τακτικός ΠΥ'!F28+'Α2.2. ΠΔΕ, ΤΑΑ & λοιπά εργαλεία'!F28 -> 0 | G28: ='Α2.1.Τακτικός ΠΥ'!G28+'Α2.2. ΠΔΕ, ΤΑΑ & λοιπά εργαλεία'!G28 -> 0 | H28: ='Α2.1.Τακτικός ΠΥ'!H28+'Α2.2. ΠΔΕ, ΤΑΑ & λοιπά εργαλεία'!H28 -> 0 | I28: ='Α2.1.Τακτικός ΠΥ'!I28+'Α2.2. ΠΔΕ, ΤΑΑ & λοιπά εργαλεία'!I28 -> 0 | J28: ='Α2.1.Τακτικός ΠΥ'!J28+'Α2.2. ΠΔΕ, ΤΑΑ & λοιπά εργαλεία'!J28 -> 0 | K28: ='Α2.1.Τακτικός ΠΥ'!K28+'Α2.2. ΠΔΕ, ΤΑΑ & λοιπά εργαλεία'!K28 -> 0 | L28: ='Α2.1.Τακτικός ΠΥ'!L28+'Α2.2. ΠΔΕ, ΤΑΑ & λοιπά εργαλεία'!L28 -> 0
A29: 24 | B29: 81 | C29: Έκτακτα και ανόργανα έξοδα (81.00 πλην 81.00.03 και 81.00.04) | D29: ='Α2.1.Τακτικός ΠΥ'!D29+'Α2.2. ΠΔΕ, ΤΑΑ & λοιπά εργαλεία'!D29 -> 0 | E29: ='Α2.1.Τακτικός ΠΥ'!E29+'Α2.2. ΠΔΕ, ΤΑΑ & λοιπά εργαλεία'!E29 -> 0 | F29: ='Α2.1.Τακτικός ΠΥ'!F29+'Α2.2. ΠΔΕ, ΤΑΑ & λοιπά εργαλεία'!F29 -> 0 | G29: ='Α2.1.Τακτικός ΠΥ'!G29+'Α2.2. ΠΔΕ, ΤΑΑ & λοιπά εργαλεία'!G29 -> 0 | H29: ='Α2.1.Τακτικός ΠΥ'!H29+'Α2.2. ΠΔΕ, ΤΑΑ & λοιπά εργαλεία'!H29 -> 0 | I29: ='Α2.1.Τακτικός ΠΥ'!I29+'Α2.2. ΠΔΕ, ΤΑΑ & λοιπά εργαλεία'!I29 -> 0 | J29: ='Α2.1.Τακτικός ΠΥ'!J29+'Α2.2. ΠΔΕ, ΤΑΑ & λοιπά εργαλεία'!J29 -> 0 | K29: ='Α2.1.Τακτικός ΠΥ'!K29+'Α2.2. ΠΔΕ, ΤΑΑ & λοιπά εργαλεία'!K29 -> 0 | L29: ='Α2.1.Τακτικός ΠΥ'!L29+'Α2.2. ΠΔΕ, ΤΑΑ & λοιπά εργαλεία'!L29 -> 0
A30: 25 | B30: 82 | C30: Έξοδα προηγούμενων χρήσεων (82.00) | D30: ='Α2.1.Τακτικός ΠΥ'!D30+'Α2.2. ΠΔΕ, ΤΑΑ & λοιπά εργαλεία'!D30 -> 0 | E30: ='Α2.1.Τακτικός ΠΥ'!E30+'Α2.2. ΠΔΕ, ΤΑΑ & λοιπά εργαλεία'!E30 -> 0 | F30: ='Α2.1.Τακτικός ΠΥ'!F30+'Α2.2. ΠΔΕ, ΤΑΑ & λοιπά εργαλεία'!F30 -> 0 | G30: ='Α2.1.Τακτικός ΠΥ'!G30+'Α2.2. ΠΔΕ, ΤΑΑ & λοιπά εργαλεία'!G30 -> 0 | H30: ='Α2.1.Τακτικός ΠΥ'!H30+'Α2.2. ΠΔΕ, ΤΑΑ & λοιπά εργαλεία'!H30 -> 0 | I30: ='Α2.1.Τακτικός ΠΥ'!I30+'Α2.2. ΠΔΕ, ΤΑΑ & λοιπά εργαλεία'!I30 -> 0 | J30: ='Α2.1.Τακτικός ΠΥ'!J30+'Α2.2. ΠΔΕ, ΤΑΑ & λοιπά εργαλεία'!J30 -> 0 | K30: ='Α2.1.Τακτικός ΠΥ'!K30+'Α2.2. ΠΔΕ, ΤΑΑ & λοιπά εργαλεία'!K30 -> 0 | L30: ='Α2.1.Τακτικός ΠΥ'!L30+'Α2.2. ΠΔΕ, ΤΑΑ & λοιπά εργαλεία'!L30 -> 0
A31: 26 | B31: 10+11+12+13+14+15+16 | C31: Αγορές παγίων περιουσιακών στοιχείων (10+11+12+13+14+15+16-16.18) | D31: ='Α2.1.Τακτικός ΠΥ'!D31+'Α2.2. ΠΔΕ, ΤΑΑ & λοιπά εργαλεία'!D31 -> 0 | E31: ='Α2.1.Τακτικός ΠΥ'!E31+'Α2.2. ΠΔΕ, ΤΑΑ & λοιπά εργαλεία'!E31 -> 0 | F31: ='Α2.1.Τακτικός ΠΥ'!F31+'Α2.2. ΠΔΕ, ΤΑΑ & λοιπά εργαλεία'!F31 -> 0 | G31: ='Α2.1.Τακτικός ΠΥ'!G31+'Α2.2. ΠΔΕ, ΤΑΑ & λοιπά εργαλεία'!G31 -> 0 | H31: ='Α2.1.Τακτικός ΠΥ'!H31+'Α2.2. ΠΔΕ, ΤΑΑ & λοιπά εργαλεία'!H31 -> 0 | I31: ='Α2.1.Τακτικός ΠΥ'!I31+'Α2.2. ΠΔΕ, ΤΑΑ & λοιπά εργαλεία'!I31 -> 0 | J31: ='Α2.1.Τακτικός ΠΥ'!J31+'Α2.2. ΠΔΕ, ΤΑΑ & λοιπά εργαλεία'!J31 -> 0 | K31: ='Α2.1.Τακτικός ΠΥ'!K31+'Α2.2. ΠΔΕ, ΤΑΑ & λοιπά εργαλεία'!K31 -> 0 | L31: ='Α2.1.Τακτικός ΠΥ'!L31+'Α2.2. ΠΔΕ, ΤΑΑ & λοιπά εργαλεία'!L31 -> 0
A32: 27 | B32: 20+24+25+26+28 | C32: Αγορές εμπορευμάτων, πρώτων και βοηθητικών υλών, ανταλλακτικών και λοιπών αποθεμάτων (20+24+25+26+28) | D32: ='Α2.1.Τακτικός ΠΥ'!D32+'Α2.2. ΠΔΕ, ΤΑΑ & λοιπά εργαλεία'!D32 -> 0 | E32: ='Α2.1.Τακτικός ΠΥ'!E32+'Α2.2. ΠΔΕ, ΤΑΑ & λοιπά εργαλεία'!E32 -> 0 | F32: ='Α2.1.Τακτικός ΠΥ'!F32+'Α2.2. ΠΔΕ, ΤΑΑ & λοιπά εργαλεία'!F32 -> 0 | G32: ='Α2.1.Τακτικός ΠΥ'!G32+'Α2.2. ΠΔΕ, ΤΑΑ & λοιπά εργαλεία'!G32 -> 0 | H32: ='Α2.1.Τακτικός ΠΥ'!H32+'Α2.2. ΠΔΕ, ΤΑΑ & λοιπά εργαλεία'!H32 -> 0 | I32: ='Α2.1.Τακτικός ΠΥ'!I32+'Α2.2. ΠΔΕ, ΤΑΑ & λοιπά εργαλεία'!I32 -> 0 | J32: ='Α2.1.Τακτικός ΠΥ'!J32+'Α2.2. ΠΔΕ, ΤΑΑ & λοιπά εργαλεία'!J32 -> 0 | K32: ='Α2.1.Τακτικός ΠΥ'!K32+'Α2.2. ΠΔΕ, ΤΑΑ & λοιπά εργαλεία'!K32 -> 0 | L32: ='Α2.1.Τακτικός ΠΥ'!L32+'Α2.2. ΠΔΕ, ΤΑΑ & λοιπά εργαλεία'!L32 -> 0
A33: Γ | B33: Ισοζύγιο (Α-Β) | D33: ='Α2.1.Τακτικός ΠΥ'!D33+'Α2.2. ΠΔΕ, ΤΑΑ & λοιπά εργαλεία'!D33 -> 0 | E33: ='Α2.1.Τακτικός ΠΥ'!E33+'Α2.2. ΠΔΕ, ΤΑΑ & λοιπά εργαλεία'!E33 -> 0 | F33: ='Α2.1.Τακτικός ΠΥ'!F33+'Α2.2. ΠΔΕ, ΤΑΑ & λοιπά εργαλεία'!F33 -> 0 | G33: ='Α2.1.Τακτικός ΠΥ'!G33+'Α2.2. ΠΔΕ, ΤΑΑ & λοιπά εργαλεία'!G33 -> 0 | H33: ='Α2.1.Τακτικός ΠΥ'!H33+'Α2.2. ΠΔΕ, ΤΑΑ & λοιπά εργαλεία'!H33 -> 0 | I33: ='Α2.1.Τακτικός ΠΥ'!I33+'Α2.2. ΠΔΕ, ΤΑΑ & λοιπά εργαλεία'!I33 -> 0 | J33: ='Α2.1.Τακτικός ΠΥ'!J33+'Α2.2. ΠΔΕ, ΤΑΑ & λοιπά εργαλεία'!J33 -> 0 | K33: ='Α2.1.Τακτικός ΠΥ'!K33+'Α2.2. ΠΔΕ, ΤΑΑ & λοιπά εργαλεία'!K33 -> 0 | L33: ='Α2.1.Τακτικός ΠΥ'!L33+'Α2.2. ΠΔΕ, ΤΑΑ & λοιπά εργαλεία'!L33 -> 0
A34: * | B34: Ποσά προορισμένα για αύξηση μετοχικού κεφαλαίου και για πληρωμές από το Κράτος λόγω κατάπτωσης εγγυήσεων.
A35: ** | B35: Ποσά προορισμένα για αύξηση μετοχικού κεφαλαίου.
A36: Δ | B36: Έσοδα χρηματοοικονομικών συναλλαγών (28+29+30+31+32+33+34+35+36) | D36: ='Α2.1.Τακτικός ΠΥ'!D36+'Α2.2. ΠΔΕ, ΤΑΑ & λοιπά εργαλεία'!D36 -> 0 | E36: ='Α2.1.Τακτικός ΠΥ'!E36+'Α2.2. ΠΔΕ, ΤΑΑ & λοιπά εργαλεία'!E36 -> 0 | F36: ='Α2.1.Τακτικός ΠΥ'!F36+'Α2.2. ΠΔΕ, ΤΑΑ & λοιπά εργαλεία'!F36 -> 0 | G36: ='Α2.1.Τακτικός ΠΥ'!G36+'Α2.2. ΠΔΕ, ΤΑΑ & λοιπά εργαλεία'!G36 -> 0 | H36: ='Α2.1.Τακτικός ΠΥ'!H36+'Α2.2. ΠΔΕ, ΤΑΑ & λοιπά εργαλεία'!H36 -> 0 | I36: ='Α2.1.Τακτικός ΠΥ'!I36+'Α2.2. ΠΔΕ, ΤΑΑ & λοιπά εργαλεία'!I36 -> 0 | J36: ='Α2.1.Τακτικός ΠΥ'!J36+'Α2.2. ΠΔΕ, ΤΑΑ & λοιπά εργαλεία'!J36 -> 0 | K36: ='Α2.1.Τακτικός ΠΥ'!K36+'Α2.2. ΠΔΕ, ΤΑΑ & λοιπά εργαλεία'!K36 -> 0 | L36: ='Α2.1.Τακτικός ΠΥ'!L36+'Α2.2. ΠΔΕ, ΤΑΑ & λοιπά εργαλεία'!L36 -> 0
A37: 28 | B37: 18 | C37: Συμμετοχές και λοιπές μακροπρόθεσμες απαιτήσεις (18) | D37: ='Α2.1.Τακτικός ΠΥ'!D37+'Α2.2. ΠΔΕ, ΤΑΑ & λοιπά εργαλεία'!D37 -> 0 | E37: ='Α2.1.Τακτικός ΠΥ'!E37+'Α2.2. ΠΔΕ, ΤΑΑ & λοιπά εργαλεία'!E37 -> 0 | F37: ='Α2.1.Τακτικός ΠΥ'!F37+'Α2.2. ΠΔΕ, ΤΑΑ & λοιπά εργαλεία'!F37 -> 0 | G37: ='Α2.1.Τακτικός ΠΥ'!G37+'Α2.2. ΠΔΕ, ΤΑΑ & λοιπά εργαλεία'!G37 -> 0 | H37: ='Α2.1.Τακτικός ΠΥ'!H37+'Α2.2. ΠΔΕ, ΤΑΑ & λοιπά εργαλεία'!H37 -> 0 | I37: ='Α2.1.Τακτικός ΠΥ'!I37+'Α2.2. ΠΔΕ, ΤΑΑ & λοιπά εργαλεία'!I37 -> 0 | J37: ='Α2.1.Τακτικός ΠΥ'!J37+'Α2.2. ΠΔΕ, ΤΑΑ & λοιπά εργαλεία'!J37 -> 0 | K37: ='Α2.1.Τακτικός ΠΥ'!K37+'Α2.2. ΠΔΕ, ΤΑΑ & λοιπά εργαλεία'!K37 -> 0 | L37: ='Α2.1.Τακτικός ΠΥ'!L37+'Α2.2. ΠΔΕ, ΤΑΑ & λοιπά εργαλεία'!L37 -> 0
A38: 29 | B38: 33 | C38: Χρεώστες διάφοροι (33) | D38: ='Α2.1.Τακτικός ΠΥ'!D38+'Α2.2. ΠΔΕ, ΤΑΑ & λοιπά εργαλεία'!D38 -> 0 | E38: ='Α2.1.Τακτικός ΠΥ'!E38+'Α2.2. ΠΔΕ, ΤΑΑ & λοιπά εργαλεία'!E38 -> 0 | F38: ='Α2.1.Τακτικός ΠΥ'!F38+'Α2.2. ΠΔΕ, ΤΑΑ & λοιπά εργαλεία'!F38 -> 0 | G38: ='Α2.1.Τακτικός ΠΥ'!G38+'Α2.2. ΠΔΕ, ΤΑΑ & λοιπά εργαλεία'!G38 -> 0 | H38: ='Α2.1.Τακτικός ΠΥ'!H38+'Α2.2. ΠΔΕ, ΤΑΑ & λοιπά εργαλεία'!H38 -> 0 | I38: ='Α2.1.Τακτικός ΠΥ'!I38+'Α2.2. ΠΔΕ, ΤΑΑ & λοιπά εργαλεία'!I38 -> 0 | J38: ='Α2.1.Τακτικός ΠΥ'!J38+'Α2.2. ΠΔΕ, ΤΑΑ & λοιπά εργαλεία'!J38 -> 0 | K38: ='Α2.1.Τακτικός ΠΥ'!K38+'Α2.2. ΠΔΕ, ΤΑΑ & λοιπά εργαλεία'!K38 -> 0 | L38: ='Α2.1.Τακτικός ΠΥ'!L38+'Α2.2. ΠΔΕ, ΤΑΑ & λοιπά εργαλεία'!L38 -> 0
A39: 30 | B39: 34 | C39: Χρεόγραφα (34) | D39: ='Α2.1.Τακτικός ΠΥ'!D39+'Α2.2. ΠΔΕ, ΤΑΑ & λοιπά εργαλεία'!D39 -> 0 | E39: ='Α2.1.Τακτικός ΠΥ'!E39+'Α2.2. ΠΔΕ, ΤΑΑ & λοιπά εργαλεία'!E39 -> 0 | F39: ='Α2.1.Τακτικός ΠΥ'!F39+'Α2.2. ΠΔΕ, ΤΑΑ & λοιπά εργαλεία'!F39 -> 0 | G39: ='Α2.1.Τακτικός ΠΥ'!G39+'Α2.2. ΠΔΕ, ΤΑΑ & λοιπά εργαλεία'!G39 -> 0 | H39: ='Α2.1.Τακτικός ΠΥ'!H39+'Α2.2. ΠΔΕ, ΤΑΑ & λοιπά εργαλεία'!H39 -> 0 | I39: ='Α2.1.Τακτικός ΠΥ'!I39+'Α2.2. ΠΔΕ, ΤΑΑ & λοιπά εργαλεία'!I39 -> 0 | J39: ='Α2.1.Τακτικός ΠΥ'!J39+'Α2.2. ΠΔΕ, ΤΑΑ & λοιπά εργαλεία'!J39 -> 0 | K39: ='Α2.1.Τακτικός ΠΥ'!K39+'Α2.2. ΠΔΕ, ΤΑΑ & λοιπά εργαλεία'!K39 -> 0 | L39: ='Α2.1.Τακτικός ΠΥ'!L39+'Α2.2. ΠΔΕ, ΤΑΑ & λοιπά εργαλεία'!L39 -> 0
A40: 31 | B40: 35 | C40: Λογαριασμοί διαχείρισης προκαταβολών και πιστώσεων (35) | D40: ='Α2.1.Τακτικός ΠΥ'!D40+'Α2.2. ΠΔΕ, ΤΑΑ & λοιπά εργαλεία'!D40 -> 0 | E40: ='Α2.1.Τακτικός ΠΥ'!E40+'Α2.2. ΠΔΕ, ΤΑΑ & λοιπά εργαλεία'!E40 -> 0 | F40: ='Α2.1.Τακτικός ΠΥ'!F40+'Α2.2. ΠΔΕ, ΤΑΑ & λοιπά εργαλεία'!F40 -> 0 | G40: ='Α2.1.Τακτικός ΠΥ'!G40+'Α2.2. ΠΔΕ, ΤΑΑ & λοιπά εργαλεία'!G40 -> 0 | H40: ='Α2.1.Τακτικός ΠΥ'!H40+'Α2.2. ΠΔΕ, ΤΑΑ & λοιπά εργαλεία'!H40 -> 0 | I40: ='Α2.1.Τακτικός ΠΥ'!I40+'Α2.2. ΠΔΕ, ΤΑΑ & λοιπά εργαλεία'!I40 -> 0 | J40: ='Α2.1.Τακτικός ΠΥ'!J40+'Α2.2. ΠΔΕ, ΤΑΑ & λοιπά εργαλεία'!J40 -> 0 | K40: ='Α2.1.Τακτικός ΠΥ'!K40+'Α2.2. ΠΔΕ, ΤΑΑ & λοιπά εργαλεία'!K40 -> 0 | L40: ='Α2.1.Τακτικός ΠΥ'!L40+'Α2.2. ΠΔΕ, ΤΑΑ & λοιπά εργαλεία'!L40 -> 0
A41: 32 | B41: 45 | C41: Μακροπρόθεσμες υποχρεώσεις (45) | D41: ='Α2.1.Τακτικός ΠΥ'!D41+'Α2.2. ΠΔΕ, ΤΑΑ & λοιπά εργαλεία'!D41 -> 0 | E41: ='Α2.1.Τακτικός ΠΥ'!E41+'Α2.2. ΠΔΕ, ΤΑΑ & λοιπά εργαλεία'!E41 -> 0 | F41: ='Α2.1.Τακτικός ΠΥ'!F41+'Α2.2. ΠΔΕ, ΤΑΑ & λοιπά εργαλεία'!F41 -> 0 | G41: ='Α2.1.Τακτικός ΠΥ'!G41+'Α2.2. ΠΔΕ, ΤΑΑ & λοιπά εργαλεία'!G41 -> 0 | H41: ='Α2.1.Τακτικός ΠΥ'!H41+'Α2.2. ΠΔΕ, ΤΑΑ & λοιπά εργαλεία'!H41 -> 0 | I41: ='Α2.1.Τακτικός ΠΥ'!I41+'Α2.2. ΠΔΕ, ΤΑΑ & λοιπά εργαλεία'!I41 -> 0 | J41: ='Α2.1.Τακτικός ΠΥ'!J41+'Α2.2. ΠΔΕ, ΤΑΑ & λοιπά εργαλεία'!J41 -> 0 | K41: ='Α2.1.Τακτικός ΠΥ'!K41+'Α2.2. ΠΔΕ, ΤΑΑ & λοιπά εργαλεία'!K41 -> 0 | L41: ='Α2.1.Τακτικός ΠΥ'!L41+'Α2.2. ΠΔΕ, ΤΑΑ & λοιπά εργαλεία'!L41 -> 0
A42: 33 | B42: 52 | C42: Τράπεζες - Λογαριασμοί βραχυπρόθεσμων υποχρεώσεων (52) | D42: ='Α2.1.Τακτικός ΠΥ'!D42+'Α2.2. ΠΔΕ, ΤΑΑ & λοιπά εργαλεία'!D42 -> 0 | E42: ='Α2.1.Τακτικός ΠΥ'!E42+'Α2.2. ΠΔΕ, ΤΑΑ & λοιπά εργαλεία'!E42 -> 0 | F42: ='Α2.1.Τακτικός ΠΥ'!F42+'Α2.2. ΠΔΕ, ΤΑΑ & λοιπά εργαλεία'!F42 -> 0 | G42: ='Α2.1.Τακτικός ΠΥ'!G42+'Α2.2. ΠΔΕ, ΤΑΑ & λοιπά εργαλεία'!G42 -> 0 | H42: ='Α2.1.Τακτικός ΠΥ'!H42+'Α2.2. ΠΔΕ, ΤΑΑ & λοιπά εργαλεία'!H42 -> 0 | I42: ='Α2.1.Τακτικός ΠΥ'!I42+'Α2.2. ΠΔΕ, ΤΑΑ & λοιπά εργαλεία'!I42 -> 0 | J42: ='Α2.1.Τακτικός ΠΥ'!J42+'Α2.2. ΠΔΕ, ΤΑΑ & λοιπά εργαλεία'!J42 -> 0 | K42: ='Α2.1.Τακτικός ΠΥ'!K42+'Α2.2. ΠΔΕ, ΤΑΑ & λοιπά εργαλεία'!K42 -> 0 | L42: ='Α2.1.Τακτικός ΠΥ'!L42+'Α2.2. ΠΔΕ, ΤΑΑ & λοιπά εργαλεία'!L42 -> 0
A43: 34 | B43: 53 | C43: Πιστωτές διάφοροι (53) | D43: ='Α2.1.Τακτικός ΠΥ'!D43+'Α2.2. ΠΔΕ, ΤΑΑ & λοιπά εργαλεία'!D43 -> 0 | E43: ='Α2.1.Τακτικός ΠΥ'!E43+'Α2.2. ΠΔΕ, ΤΑΑ & λοιπά εργαλεία'!E43 -> 0 | F43: ='Α2.1.Τακτικός ΠΥ'!F43+'Α2.2. ΠΔΕ, ΤΑΑ & λοιπά εργαλεία'!F43 -> 0 | G43: ='Α2.1.Τακτικός ΠΥ'!G43+'Α2.2. ΠΔΕ, ΤΑΑ & λοιπά εργαλεία'!G43 -> 0 | H43: ='Α2.1.Τακτικός ΠΥ'!H43+'Α2.2. ΠΔΕ, ΤΑΑ & λοιπά εργαλεία'!H43 -> 0 | I43: ='Α2.1.Τακτικός ΠΥ'!I43+'Α2.2. ΠΔΕ, ΤΑΑ & λοιπά εργαλεία'!I43 -> 0 | J43: ='Α2.1.Τακτικός ΠΥ'!J43+'Α2.2. ΠΔΕ, ΤΑΑ & λοιπά εργαλεία'!J43 -> 0 | K43: ='Α2.1.Τακτικός ΠΥ'!K43+'Α2.2. ΠΔΕ, ΤΑΑ & λοιπά εργαλεία'!K43 -> 0 | L43: ='Α2.1.Τακτικός ΠΥ'!L43+'Α2.2. ΠΔΕ, ΤΑΑ & λοιπά εργαλεία'!L43 -> 0
A44: 35 | B44: 54 | C44: Υποχρεώσεις από φόρους και τέλη (54 πλην 54.08) | D44: ='Α2.1.Τακτικός ΠΥ'!D44+'Α2.2. ΠΔΕ, ΤΑΑ & λοιπά εργαλεία'!D44 -> 0 | E44: ='Α2.1.Τακτικός ΠΥ'!E44+'Α2.2. ΠΔΕ, ΤΑΑ & λοιπά εργαλεία'!E44 -> 0 | F44: ='Α2.1.Τακτικός ΠΥ'!F44+'Α2.2. ΠΔΕ, ΤΑΑ & λοιπά εργαλεία'!F44 -> 0 | G44: ='Α2.1.Τακτικός ΠΥ'!G44+'Α2.2. ΠΔΕ, ΤΑΑ & λοιπά εργαλεία'!G44 -> 0 | H44: ='Α2.1.Τακτικός ΠΥ'!H44+'Α2.2. ΠΔΕ, ΤΑΑ & λοιπά εργαλεία'!H44 -> 0 | I44: ='Α2.1.Τακτικός ΠΥ'!I44+'Α2.2. ΠΔΕ, ΤΑΑ & λοιπά εργαλεία'!I44 -> 0 | J44: ='Α2.1.Τακτικός ΠΥ'!J44+'Α2.2. ΠΔΕ, ΤΑΑ & λοιπά εργαλεία'!J44 -> 0 | K44: ='Α2.1.Τακτικός ΠΥ'!K44+'Α2.2. ΠΔΕ, ΤΑΑ & λοιπά εργαλεία'!K44 -> 0 | L44: ='Α2.1.Τακτικός ΠΥ'!L44+'Α2.2. ΠΔΕ, ΤΑΑ & λοιπά εργαλεία'!L44 -> 0
A45: 36 | B45: 55 | C45: Ασφαλιστικοί οργανισμοί (55) | D45: ='Α2.1.Τακτικός ΠΥ'!D45+'Α2.2. ΠΔΕ, ΤΑΑ & λοιπά εργαλεία'!D45 -> 0 | E45: ='Α2.1.Τακτικός ΠΥ'!E45+'Α2.2. ΠΔΕ, ΤΑΑ & λοιπά εργαλεία'!E45 -> 0 | F45: ='Α2.1.Τακτικός ΠΥ'!F45+'Α2.2. ΠΔΕ, ΤΑΑ & λοιπά εργαλεία'!F45 -> 0 | G45: ='Α2.1.Τακτικός ΠΥ'!G45+'Α2.2. ΠΔΕ, ΤΑΑ & λοιπά εργαλεία'!G45 -> 0 | H45: ='Α2.1.Τακτικός ΠΥ'!H45+'Α2.2. ΠΔΕ, ΤΑΑ & λοιπά εργαλεία'!H45 -> 0 | I45: ='Α2.1.Τακτικός ΠΥ'!I45+'Α2.2. ΠΔΕ, ΤΑΑ & λοιπά εργαλεία'!I45 -> 0 | J45: ='Α2.1.Τακτικός ΠΥ'!J45+'Α2.2. ΠΔΕ, ΤΑΑ & λοιπά εργαλεία'!J45 -> 0 | K45: ='Α2.1.Τακτικός ΠΥ'!K45+'Α2.2. ΠΔΕ, ΤΑΑ & λοιπά εργαλεία'!K45 -> 0 | L45: ='Α2.1.Τακτικός ΠΥ'!L45+'Α2.2. ΠΔΕ, ΤΑΑ & λοιπά εργαλεία'!L45 -> 0
A46: Ε | B46: Δαπάνες χρηματοοικονομικών συναλλαγών (37+38+39+40+41+42+43+44+45) | D46: ='Α2.1.Τακτικός ΠΥ'!D46+'Α2.2. ΠΔΕ, ΤΑΑ & λοιπά εργαλεία'!D46 -> 0 | E46: ='Α2.1.Τακτικός ΠΥ'!E46+'Α2.2. ΠΔΕ, ΤΑΑ & λοιπά εργαλεία'!E46 -> 0 | F46: ='Α2.1.Τακτικός ΠΥ'!F46+'Α2.2. ΠΔΕ, ΤΑΑ & λοιπά εργαλεία'!F46 -> 0 | G46: ='Α2.1.Τακτικός ΠΥ'!G46+'Α2.2. ΠΔΕ, ΤΑΑ & λοιπά εργαλεία'!G46 -> 0 | H46: ='Α2.1.Τακτικός ΠΥ'!H46+'Α2.2. ΠΔΕ, ΤΑΑ & λοιπά εργαλεία'!H46 -> 0 | I46: ='Α2.1.Τακτικός ΠΥ'!I46+'Α2.2. ΠΔΕ, ΤΑΑ & λοιπά εργαλεία'!I46 -> 0 | J46: ='Α2.1.Τακτικός ΠΥ'!J46+'Α2.2. ΠΔΕ, ΤΑΑ & λοιπά εργαλεία'!J46 -> 0 | K46: ='Α2.1.Τακτικός ΠΥ'!K46+'Α2.2. ΠΔΕ, ΤΑΑ & λοιπά εργαλεία'!K46 -> 0 | L46: ='Α2.1.Τακτικός ΠΥ'!L46+'Α2.2. ΠΔΕ, ΤΑΑ & λοιπά εργαλεία'!L46 -> 0
A47: 37 | B47: 18 | C47: Συμμετοχές και λοιπές μακροπρόθεσμες απαιτήσεις (18) | D47: ='Α2.1.Τακτικός ΠΥ'!D47+'Α2.2. ΠΔΕ, ΤΑΑ & λοιπά εργαλεία'!D47 -> 0 | E47: ='Α2.1.Τακτικός ΠΥ'!E47+'Α2.2. ΠΔΕ, ΤΑΑ & λοιπά εργαλεία'!E47 -> 0 | F47: ='Α2.1.Τακτικός ΠΥ'!F47+'Α2.2. ΠΔΕ, ΤΑΑ & λοιπά εργαλεία'!F47 -> 0 | G47: ='Α2.1.Τακτικός ΠΥ'!G47+'Α2.2. ΠΔΕ, ΤΑΑ & λοιπά εργαλεία'!G47 -> 0 | H47: ='Α2.1.Τακτικός ΠΥ'!H47+'Α2.2. ΠΔΕ, ΤΑΑ & λοιπά εργαλεία'!H47 -> 0 | I47: ='Α2.1.Τακτικός ΠΥ'!I47+'Α2.2. ΠΔΕ, ΤΑΑ & λοιπά εργαλεία'!I47 -> 0 | J47: ='Α2.1.Τακτικός ΠΥ'!J47+'Α2.2. ΠΔΕ, ΤΑΑ & λοιπά εργαλεία'!J47 -> 0 | K47: ='Α2.1.Τακτικός ΠΥ'!K47+'Α2.2. ΠΔΕ, ΤΑΑ & λοιπά εργαλεία'!K47 -> 0 | L47: ='Α2.1.Τακτικός ΠΥ'!L47+'Α2.2. ΠΔΕ, ΤΑΑ & λοιπά εργαλεία'!L47 -> 0
A48: 38 | B48: 33 | C48: Χρεώστες διάφοροι (33) | D48: ='Α2.1.Τακτικός ΠΥ'!D48+'Α2.2. ΠΔΕ, ΤΑΑ & λοιπά εργαλεία'!D48 -> 0 | E48: ='Α2.1.Τακτικός ΠΥ'!E48+'Α2.2. ΠΔΕ, ΤΑΑ & λοιπά εργαλεία'!E48 -> 0 | F48: ='Α2.1.Τακτικός ΠΥ'!F48+'Α2.2. ΠΔΕ, ΤΑΑ & λοιπά εργαλεία'!F48 -> 0 | G48: ='Α2.1.Τακτικός ΠΥ'!G48+'Α2.2. ΠΔΕ, ΤΑΑ & λοιπά εργαλεία'!G48 -> 0 | H48: ='Α2.1.Τακτικός ΠΥ'!H48+'Α2.2. ΠΔΕ, ΤΑΑ & λοιπά εργαλεία'!H48 -> 0 | I48: ='Α2.1.Τακτικός ΠΥ'!I48+'Α2.2. ΠΔΕ, ΤΑΑ & λοιπά εργαλεία'!I48 -> 0 | J48: ='Α2.1.Τακτικός ΠΥ'!J48+'Α2.2. ΠΔΕ, ΤΑΑ & λοιπά εργαλεία'!J48 -> 0 | K48: ='Α2.1.Τακτικός ΠΥ'!K48+'Α2.2. ΠΔΕ, ΤΑΑ & λοιπά εργαλεία'!K48 -> 0 | L48: ='Α2.1.Τακτικός ΠΥ'!L48+'Α2.2. ΠΔΕ, ΤΑΑ & λοιπά εργαλεία'!L48 -> 0
A49: 39 | B49: 34 | C49: Χρεόγραφα (34) | D49: ='Α2.1.Τακτικός ΠΥ'!D49+'Α2.2. ΠΔΕ, ΤΑΑ & λοιπά εργαλεία'!D49 -> 0 | E49: ='Α2.1.Τακτικός ΠΥ'!E49+'Α2.2. ΠΔΕ, ΤΑΑ & λοιπά εργαλεία'!E49 -> 0 | F49: ='Α2.1.Τακτικός ΠΥ'!F49+'Α2.2. ΠΔΕ, ΤΑΑ & λοιπά εργαλεία'!F49 -> 0 | G49: ='Α2.1.Τακτικός ΠΥ'!G49+'Α2.2. ΠΔΕ, ΤΑΑ & λοιπά εργαλεία'!G49 -> 0 | H49: ='Α2.1.Τακτικός ΠΥ'!H49+'Α2.2. ΠΔΕ, ΤΑΑ & λοιπά εργαλεία'!H49 -> 0 | I49: ='Α2.1.Τακτικός ΠΥ'!I49+'Α2.2. ΠΔΕ, ΤΑΑ & λοιπά εργαλεία'!I49 -> 0 | J49: ='Α2.1.Τακτικός ΠΥ'!J49+'Α2.2. ΠΔΕ, ΤΑΑ & λοιπά εργαλεία'!J49 -> 0 | K49: ='Α2.1.Τακτικός ΠΥ'!K49+'Α2.2. ΠΔΕ, ΤΑΑ & λοιπά εργαλεία'!K49 -> 0 | L49: ='Α2.1.Τακτικός ΠΥ'!L49+'Α2.2. ΠΔΕ, ΤΑΑ & λοιπά εργαλεία'!L49 -> 0
A50: 40 | B50: 35 | C50: Λογαριασμοί διαχείρισης προκαταβολών και πιστώσεων (35) | D50: ='Α2.1.Τακτικός ΠΥ'!D50+'Α2.2. ΠΔΕ, ΤΑΑ & λοιπά εργαλεία'!D50 -> 0 | E50: ='Α2.1.Τακτικός ΠΥ'!E50+'Α2.2. ΠΔΕ, ΤΑΑ & λοιπά εργαλεία'!E50 -> 0 | F50: ='Α2.1.Τακτικός ΠΥ'!F50+'Α2.2. ΠΔΕ, ΤΑΑ & λοιπά εργαλεία'!F50 -> 0 | G50: ='Α2.1.Τακτικός ΠΥ'!G50+'Α2.2. ΠΔΕ, ΤΑΑ & λοιπά εργαλεία'!G50 -> 0 | H50: ='Α2.1.Τακτικός ΠΥ'!H50+'Α2.2. ΠΔΕ, ΤΑΑ & λοιπά εργαλεία'!H50 -> 0 | I50: ='Α2.1.Τακτικός ΠΥ'!I50+'Α2.2. ΠΔΕ, ΤΑΑ & λοιπά εργαλεία'!I50 -> 0 | J50: ='Α2.1.Τακτικός ΠΥ'!J50+'Α2.2. ΠΔΕ, ΤΑΑ & λοιπά εργαλεία'!J50 -> 0 | K50: ='Α2.1.Τακτικός ΠΥ'!K50+'Α2.2. ΠΔΕ, ΤΑΑ & λοιπά εργαλεία'!K50 -> 0 | L50: ='Α2.1.Τακτικός ΠΥ'!L50+'Α2.2. ΠΔΕ, ΤΑΑ & λοιπά εργαλεία'!L50 -> 0
A51: 41 | B51: 45 | C51: Μακροπρόθεσμες υποχρεώσεις (45) | D51: ='Α2.1.Τακτικός ΠΥ'!D51+'Α2.2. ΠΔΕ, ΤΑΑ & λοιπά εργαλεία'!D51 -> 0 | E51: ='Α2.1.Τακτικός ΠΥ'!E51+'Α2.2. ΠΔΕ, ΤΑΑ & λοιπά εργαλεία'!E51 -> 0 | F51: ='Α2.1.Τακτικός ΠΥ'!F51+'Α2.2. ΠΔΕ, ΤΑΑ & λοιπά εργαλεία'!F51 -> 0 | G51: ='Α2.1.Τακτικός ΠΥ'!G51+'Α2.2. ΠΔΕ, ΤΑΑ & λοιπά εργαλεία'!G51 -> 0 | H51: ='Α2.1.Τακτικός ΠΥ'!H51+'Α2.2. ΠΔΕ, ΤΑΑ & λοιπά εργαλεία'!H51 -> 0 | I51: ='Α2.1.Τακτικός ΠΥ'!I51+'Α2.2. ΠΔΕ, ΤΑΑ & λοιπά εργαλεία'!I51 -> 0 | J51: ='Α2.1.Τακτικός ΠΥ'!J51+'Α2.2. ΠΔΕ, ΤΑΑ & λοιπά εργαλεία'!J51 -> 0 | K51: ='Α2.1.Τακτικός ΠΥ'!K51+'Α2.2. ΠΔΕ, ΤΑΑ & λοιπά εργαλεία'!K51 -> 0 | L51: ='Α2.1.Τακτικός ΠΥ'!L51+'Α2.2. ΠΔΕ, ΤΑΑ & λοιπά εργαλεία'!L51 -> 0
A52: 42 | B52: 52 | C52: Τράπεζες - Λογαριασμοί βραχυπρόθεσμων υποχρεώσεων (52) | D52: ='Α2.1.Τακτικός ΠΥ'!D52+'Α2.2. ΠΔΕ, ΤΑΑ & λοιπά εργαλεία'!D52 -> 0 | E52: ='Α2.1.Τακτικός ΠΥ'!E52+'Α2.2. ΠΔΕ, ΤΑΑ & λοιπά εργαλεία'!E52 -> 0 | F52: ='Α2.1.Τακτικός ΠΥ'!F52+'Α2.2. ΠΔΕ, ΤΑΑ & λοιπά εργαλεία'!F52 -> 0 | G52: ='Α2.1.Τακτικός ΠΥ'!G52+'Α2.2. ΠΔΕ, ΤΑΑ & λοιπά εργαλεία'!G52 -> 0 | H52: ='Α2.1.Τακτικός ΠΥ'!H52+'Α2.2. ΠΔΕ, ΤΑΑ & λοιπά εργαλεία'!H52 -> 0 | I52: ='Α2.1.Τακτικός ΠΥ'!I52+'Α2.2. ΠΔΕ, ΤΑΑ & λοιπά εργαλεία'!I52 -> 0 | J52: ='Α2.1.Τακτικός ΠΥ'!J52+'Α2.2. ΠΔΕ, ΤΑΑ & λοιπά εργαλεία'!J52 -> 0 | K52: ='Α2.1.Τακτικός ΠΥ'!K52+'Α2.2. ΠΔΕ, ΤΑΑ & λοιπά εργαλεία'!K52 -> 0 | L52: ='Α2.1.Τακτικός ΠΥ'!L52+'Α2.2. ΠΔΕ, ΤΑΑ & λοιπά εργαλεία'!L52 -> 0
A53: 43 | B53: 53 | C53: Πιστωτές διάφοροι (53 πλην 53.01) | D53: ='Α2.1.Τακτικός ΠΥ'!D53+'Α2.2. ΠΔΕ, ΤΑΑ & λοιπά εργαλεία'!D53 -> 0 | E53: ='Α2.1.Τακτικός ΠΥ'!E53+'Α2.2. ΠΔΕ, ΤΑΑ & λοιπά εργαλεία'!E53 -> 0 | F53: ='Α2.1.Τακτικός ΠΥ'!F53+'Α2.2. ΠΔΕ, ΤΑΑ & λοιπά εργαλεία'!F53 -> 0 | G53: ='Α2.1.Τακτικός ΠΥ'!G53+'Α2.2. ΠΔΕ, ΤΑΑ & λοιπά εργαλεία'!G53 -> 0 | H53: ='Α2.1.Τακτικός ΠΥ'!H53+'Α2.2. ΠΔΕ, ΤΑΑ & λοιπά εργαλεία'!H53 -> 0 | I53: ='Α2.1.Τακτικός ΠΥ'!I53+'Α2.2. ΠΔΕ, ΤΑΑ & λοιπά εργαλεία'!I53 -> 0 | J53: ='Α2.1.Τακτικός ΠΥ'!J53+'Α2.2. ΠΔΕ, ΤΑΑ & λοιπά εργαλεία'!J53 -> 0 | K53: ='Α2.1.Τακτικός ΠΥ'!K53+'Α2.2. ΠΔΕ, ΤΑΑ & λοιπά εργαλεία'!K53 -> 0 | L53: ='Α2.1.Τακτικός ΠΥ'!L53+'Α2.2. ΠΔΕ, ΤΑΑ & λοιπά εργαλεία'!L53 -> 0
A54: 44 | B54: 54 | C54: Υποχρεώσεις από φόρους και τέλη (54 πλην 54.08) | D54: ='Α2.1.Τακτικός ΠΥ'!D54+'Α2.2. ΠΔΕ, ΤΑΑ & λοιπά εργαλεία'!D54 -> 0 | E54: ='Α2.1.Τακτικός ΠΥ'!E54+'Α2.2. ΠΔΕ, ΤΑΑ & λοιπά εργαλεία'!E54 -> 0 | F54: ='Α2.1.Τακτικός ΠΥ'!F54+'Α2.2. ΠΔΕ, ΤΑΑ & λοιπά εργαλεία'!F54 -> 0 | G54: ='Α2.1.Τακτικός ΠΥ'!G54+'Α2.2. ΠΔΕ, ΤΑΑ & λοιπά εργαλεία'!G54 -> 0 | H54: ='Α2.1.Τακτικός ΠΥ'!H54+'Α2.2. ΠΔΕ, ΤΑΑ & λοιπά εργαλεία'!H54 -> 0 | I54: ='Α2.1.Τακτικός ΠΥ'!I54+'Α2.2. ΠΔΕ, ΤΑΑ & λοιπά εργαλεία'!I54 -> 0 | J54: ='Α2.1.Τακτικός ΠΥ'!J54+'Α2.2. ΠΔΕ, ΤΑΑ & λοιπά εργαλεία'!J54 -> 0 | K54: ='Α2.1.Τακτικός ΠΥ'!K54+'Α2.2. ΠΔΕ, ΤΑΑ & λοιπά εργαλεία'!K54 -> 0 | L54: ='Α2.1.Τακτικός ΠΥ'!L54+'Α2.2. ΠΔΕ, ΤΑΑ & λοιπά εργαλεία'!L54 -> 0
A55: 45 | B55: 55 | C55: Ασφαλιστικοί οργανισμοί (55) | D55: ='Α2.1.Τακτικός ΠΥ'!D55+'Α2.2. ΠΔΕ, ΤΑΑ & λοιπά εργαλεία'!D55 -> 0 | E55: ='Α2.1.Τακτικός ΠΥ'!E55+'Α2.2. ΠΔΕ, ΤΑΑ & λοιπά εργαλεία'!E55 -> 0 | F55: ='Α2.1.Τακτικός ΠΥ'!F55+'Α2.2. ΠΔΕ, ΤΑΑ & λοιπά εργαλεία'!F55 -> 0 | G55: ='Α2.1.Τακτικός ΠΥ'!G55+'Α2.2. ΠΔΕ, ΤΑΑ & λοιπά εργαλεία'!G55 -> 0 | H55: ='Α2.1.Τακτικός ΠΥ'!H55+'Α2.2. ΠΔΕ, ΤΑΑ & λοιπά εργαλεία'!H55 -> 0 | I55: ='Α2.1.Τακτικός ΠΥ'!I55+'Α2.2. ΠΔΕ, ΤΑΑ & λοιπά εργαλεία'!I55 -> 0 | J55: ='Α2.1.Τακτικός ΠΥ'!J55+'Α2.2. ΠΔΕ, ΤΑΑ & λοιπά εργαλεία'!J55 -> 0 | K55: ='Α2.1.Τακτικός ΠΥ'!K55+'Α2.2. ΠΔΕ, ΤΑΑ & λοιπά εργαλεία'!K55 -> 0 | L55: ='Α2.1.Τακτικός ΠΥ'!L55+'Α2.2. ΠΔΕ, ΤΑΑ & λοιπά εργαλεία'!L55 -> 0
A56: ΣΤ | B56: Γενικό Σύνολο Εσόδων (Α+Δ) | D56: ='Α2.1.Τακτικός ΠΥ'!D56+'Α2.2. ΠΔΕ, ΤΑΑ & λοιπά εργαλεία'!D56 -> 0 | E56: ='Α2.1.Τακτικός ΠΥ'!E56+'Α2.2. ΠΔΕ, ΤΑΑ & λοιπά εργαλεία'!E56 -> 0 | F56: ='Α2.1.Τακτικός ΠΥ'!F56+'Α2.2. ΠΔΕ, ΤΑΑ & λοιπά εργαλεία'!F56 -> 0 | G56: ='Α2.1.Τακτικός ΠΥ'!G56+'Α2.2. ΠΔΕ, ΤΑΑ & λοιπά εργαλεία'!G56 -> 0 | H56: ='Α2.1.Τακτικός ΠΥ'!H56+'Α2.2. ΠΔΕ, ΤΑΑ & λοιπά εργαλεία'!H56 -> 0 | I56: ='Α2.1.Τακτικός ΠΥ'!I56+'Α2.2. ΠΔΕ, ΤΑΑ & λοιπά εργαλεία'!I56 -> 0 | J56: ='Α2.1.Τακτικός ΠΥ'!J56+'Α2.2. ΠΔΕ, ΤΑΑ & λοιπά εργαλεία'!J56 -> 0 | K56: ='Α2.1.Τακτικός ΠΥ'!K56+'Α2.2. ΠΔΕ, ΤΑΑ & λοιπά εργαλεία'!K56 -> 0 | L56: ='Α2.1.Τακτικός ΠΥ'!L56+'Α2.2. ΠΔΕ, ΤΑΑ & λοιπά εργαλεία'!L56 -> 0
A57: Ζ | B57: Γενικό Σύνολο Δαπανών (Β+Ε) | D57: ='Α2.1.Τακτικός ΠΥ'!D57+'Α2.2. ΠΔΕ, ΤΑΑ & λοιπά εργαλεία'!D57 -> 0 | E57: ='Α2.1.Τακτικός ΠΥ'!E57+'Α2.2. ΠΔΕ, ΤΑΑ & λοιπά εργαλεία'!E57 -> 0 | F57: ='Α2.1.Τακτικός ΠΥ'!F57+'Α2.2. ΠΔΕ, ΤΑΑ & λοιπά εργαλεία'!F57 -> 0 | G57: ='Α2.1.Τακτικός ΠΥ'!G57+'Α2.2. ΠΔΕ, ΤΑΑ & λοιπά εργαλεία'!G57 -> 0 | H57: ='Α2.1.Τακτικός ΠΥ'!H57+'Α2.2. ΠΔΕ, ΤΑΑ & λοιπά εργαλεία'!H57 -> 0 | I57: ='Α2.1.Τακτικός ΠΥ'!I57+'Α2.2. ΠΔΕ, ΤΑΑ & λοιπά εργαλεία'!I57 -> 0 | J57: ='Α2.1.Τακτικός ΠΥ'!J57+'Α2.2. ΠΔΕ, ΤΑΑ & λοιπά εργαλεία'!J57 -> 0 | K57: ='Α2.1.Τακτικός ΠΥ'!K57+'Α2.2. ΠΔΕ, ΤΑΑ & λοιπά εργαλεία'!K57 -> 0 | L57: ='Α2.1.Τακτικός ΠΥ'!L57+'Α2.2. ΠΔΕ, ΤΑΑ & λοιπά εργαλεία'!L57 -> 0

Sheet Α2.1.Τακτικός ΠΥ
A1: Πίνακας Α2.1: Έσοδα - Δαπάνες ΑΕ, ΝΠΙΔ και Ειδικών Λογαριασμών που εφαρμόζουν το Ελληνικό Γενικό Λογιστικό Σχέδιο (Τακτικός προϋπολογισμός)
D2: 2025 | E2: 2026 | F2: 2026 | G2: 2026 | H2: 2026 | I2: 2027 | J2: 2028 | K2: 2029 | L2: 2030
A3: α/α | B3: Λογαριασμοί ΕΓΛΣ | C3: Περιγραφή | D3: Πραγματοποιήσεις | E3: Αρχικός Προϋπολογισμός | F3: Διαμόρφωση (Αρχικός Π/Υ + τροποποιήσεις) | G3: Εκτέλεση Α΄ Εξαμήνου | H3: Εκτιμήσεις πραγματοποιήσεων έτους | I3: Προβλέψεις | J3: Προβλέψεις | K3: Προβλέψεις | L3: Προβλέψεις
A4: Α | B4: Έσοδα μη χρηματοοικονομικών συναλλαγών (1+2+3+4+5+6+7+8+9+10+11+12+13) | D4: =D5+D6+D7+D8+D9+D10+D11+D12+D13+D14+D15+D16+D17 -> 0 | E4: =E5+E6+E7+E8+E9+E10+E11+E12+E13+E14+E15+E16+E17 -> 0 | F4: =F5+F6+F7+F8+F9+F10+F11+F12+F13+F14+F15+F16+F17 -> 0 | G4: =G5+G6+G7+G8+G9+G10+G11+G12+G13+G14+G15+G16+G17 -> 0 | H4: =H5+H6+H7+H8+H9+H10+H11+H12+H13+H14+H15+H16+H17 -> 0 | I4: =I5+I6+I7+I8+I9+I10+I11+I12+I13+I14+I15+I16+I17 -> 0 | J4: =J5+J6+J7+J8+J9+J10+J11+J12+J13+J14+J15+J16+J17 -> 0 | K4: =K5+K6+K7+K8+K9+K10+K11+K12+K13+K14+K15+K16+K17 -> 0 | L4: =L5+L6+L7+L8+L9+L10+L11+L12+L13+L14+L15+L16+L17 -> 0
A5: 1 | B5: 70+71+72 | C5: Πωλήσεις εμπορευμάτων, έτοιμων και ημιτελών προϊόντων, λοιπών αποθεμάτων (70+71+72)
A6: 2 | B6: 73 | C6: Πωλήσεις υπηρεσιών (73)
A7: 3 | B7: 74 | C7: Επιχορηγήσεις και διάφορα έσοδα πωλήσεων (74)
A8: 4 | B8: 75 | C8: Έσοδα παρεπόμενων ασχολιών (75)
A9: 5 | B9: 76 | C9: Έσοδα κεφαλαίων (76 πλην 76.04)
A10: 6 | B10: 78 | C10: Ιδιοπαραγωγή παγίων (78 πλην 78.05)
A11: 7 | B11: 40* | C11: Αύξηση μετοχικού κεφαλαίου (40)
A12: 8 | B12: 41 | C12: Επιχορηγήσεις παγίων επενδύσεων (41.10)
A13: 9 | B13: 43** | C13: Ποσά προορισμένα για αύξηση κεφαλαίου (43)
A14: 10 | B14: 81 | C14: Έκτακτα και ανόργανα έσοδα (81.01 πλην 81.01.04 και 81.01.05)
A15: 11 | B15: 82 | C15: Έσοδα προηγούμενων χρήσεων (82.01)
A16: 12 | B16: 10+11+12+13+14+15+16 | C16: Πωλήσεις παγίων περιουσιακών στοιχείων (10+11+12+13+14+15+16)
A17: 13 | B17: 20+24+25+26+28 | C17: Εκπτώσεις επί αγορών εμπορευμάτων, πρώτων και βοηθητικών υλών, ανταλλακτικών και λοιπών αποθεμάτων (20+24+25+26+28)
A18: Β | B18: Δαπάνες μη χρηματοοικονομικών συναλλαγών (14+15+16+17+18+19+20+21+22+23+24+25+26+27) | D18: =D19+D20+D21+D22+D23+D24+D25+D26+D27+D28+D29+D30+D31+D32 -> 0 | E18: =E19+E20+E21+E22+E23+E24+E25+E26+E27+E28+E29+E30+E31+E32 -> 0 | F18: =F19+F20+F21+F22+F23+F24+F25+F26+F27+F28+F29+F30+F31+F32 -> 0 | G18: =G19+G20+G21+G22+G23+G24+G25+G26+G27+G28+G29+G30+G31+G32 -> 0 | H18: =H19+H20+H21+H22+H23+H24+H25+H26+H27+H28+H29+H30+H31+H32 -> 0 | I18: =I19+I20+I21+I22+I23+I24+I25+I26+I27+I28+I29+I30+I31+I32 -> 0 | J18: =J19+J20+J21+J22+J23+J24+J25+J26+J27+J28+J29+J30+J31+J32 -> 0 | K18: =K19+K20+K21+K22+K23+K24+K25+K26+K27+K28+K29+K30+K31+K32 -> 0 | L18: =L19+L20+L21+L22+L23+L24+L25+L26+L27+L28+L29+L30+L31+L32 -> 0
A19: 14 | B19: 60 | C19: Αμοιβές και έξοδα προσωπικού (60 εκτός 60.05)
A20: 15 | B20: 61 | C20: Αμοιβές και έξοδα τρίτων (61)
A21: 16 | B21: 62 | C21: Παροχές τρίτων (62)
A22: 17 | B22: 63 | C22: Φόροι τέλη (63)
A23: 18 | B23: 64 | C23: Διάφορα έξοδα (64 συν 60.05, πλην 64.11 και 64.12)
A24: 19 | B24: 65 | C24: Τόκοι και συναφή έξοδα (65 συν 16.18)
A25: 20 | B25: 67 | C25: Έξοδα που δεν εντάσσονται στους λοιπούς λογαριασμούς και παρακολουθούνται στον λογ. 67 από τον φορέα
A26: 21 | B26: 69 | C26: Έξοδα που δεν εντάσσονται στους λοιπούς λογαριασμούς και παρακολουθούνται στον λογ. 69 από τον φορέα
A27: 22 | B27: 53.01 | C27: Μερίσματα πληρωτέα (53.01)
A28: 23 | B28: 54.08 | C28: Λογαριασμός εκκαθάρισης φόρων - τελών ετήσιας δήλωσης φόρου εισοδήματος (54.08)
A29: 24 | B29: 81 | C29: Έκτακτα και ανόργανα έξοδα (81.00 πλην 81.00.03 και 81.00.04)
A30: 25 | B30: 82 | C30: Έξοδα προηγούμενων χρήσεων (82.00)
A31: 26 | B31: 10+11+12+13+14+15+16 | C31: Αγορές παγίων περιουσιακών στοιχείων (10+11+12+13+14+15+16-16.18)
A32: 27 | B32: 20+24+25+26+28 | C32: Αγορές εμπορευμάτων, πρώτων και βοηθητικών υλών, ανταλλακτικών και λοιπών αποθεμάτων (20+24+25+26+28)
A33: Γ | B33: Ισοζύγιο (Α-Β) | D33: =D4-D18 -> 0 | E33: =E4-E18 -> 0 | F33: =F4-F18 -> 0 | G33: =G4-G18 -> 0 | H33: =H4-H18 -> 0 | I33: =I4-I18 -> 0 | J33: =J4-J18 -> 0 | K33: =K4-K18 -> 0 | L33: =L4-L18 -> 0
A34: * | B34: Ποσά προορισμένα για αύξηση μετοχικού κεφαλαίου και για πληρωμές από το Κράτος λόγω κατάπτωσης εγγυήσεων.
A35: ** | B35: Ποσά προορισμένα για αύξηση μετοχικού κεφαλαίου.
A36: Δ | B36: Έσοδα χρηματοοικονομικών συναλλαγών (28+29+30+31+32+33+34+35+36) | D36: =SUM(D37:D45) -> 0 | E36: =SUM(E37:E45) -> 0 | F36: =SUM(F37:F45) -> 0 | G36: =SUM(G37:G45) -> 0 | H36: =SUM(H37:H45) -> 0 | I36: =SUM(I37:I45) -> 0 | J36: =SUM(J37:J45) -> 0 | K36: =SUM(K37:K45) -> 0 | L36: =SUM(L37:L45) -> 0
A37: 28 | B37: 18 | C37: Συμμετοχές και λοιπές μακροπρόθεσμες απαιτήσεις (18)
A38: 29 | B38: 33 | C38: Χρεώστες διάφοροι (33)
A39: 30 | B39: 34 | C39: Χρεόγραφα (34)
A40: 31 | B40: 35 | C40: Λογαριασμοί διαχείρισης προκαταβολών και πιστώσεων (35)
A41: 32 | B41: 45 | C41: Μακροπρόθεσμες υποχρεώσεις (45)
A42: 33 | B42: 52 | C42: Τράπεζες - Λογαριασμοί βραχυπρόθεσμων υποχρεώσεων (52)
A43: 34 | B43: 53 | C43: Πιστωτές διάφοροι (53)
A44: 35 | B44: 54 | C44: Υποχρεώσεις από φόρους και τέλη (54 πλην 54.08)
A45: 36 | B45: 55 | C45: Ασφαλιστικοί οργανισμοί (55)
A46: Ε | B46: Δαπάνες χρηματοοικονομικών συναλλαγών (37+38+39+40+41+42+43+44+45) | D46: =SUM(D47:D55) -> 0 | E46: =SUM(E47:E55) -> 0 | F46: =SUM(F47:F55) -> 0 | G46: =SUM(G47:G55) -> 0 | H46: =SUM(H47:H55) -> 0 | I46: =SUM(I47:I55) -> 0 | J46: =SUM(J47:J55) -> 0 | K46: =SUM(K47:K55) -> 0 | L46: =SUM(L47:L55) -> 0
A47: 37 | B47: 18 | C47: Συμμετοχές και λοιπές μακροπρόθεσμες απαιτήσεις (18)
A48: 38 | B48: 33 | C48: Χρεώστες διάφοροι (33)
A49: 39 | B49: 34 | C49: Χρεόγραφα (34)
A50: 40 | B50: 35 | C50: Λογαριασμοί διαχείρισης προκαταβολών και πιστώσεων (35)
A51: 41 | B51: 45 | C51: Μακροπρόθεσμες υποχρεώσεις (45)
A52: 42 | B52: 52 | C52: Τράπεζες - Λογαριασμοί βραχυπρόθεσμων υποχρεώσεων (52)
A53: 43 | B53: 53 | C53: Πιστωτές διάφοροι (53 πλην 53.01)
A54: 44 | B54: 54 | C54: Υποχρεώσεις από φόρους και τέλη (54 πλην 54.08)
A55: 45 | B55: 55 | C55: Ασφαλιστικοί οργανισμοί (55)
A56: ΣΤ | B56: Γενικό Σύνολο Εσόδων (Α+Δ) | D56: =D4+D36 -> 0 | E56: =E4+E36 -> 0 | F56: =F4+F36 -> 0 | G56: =G4+G36 -> 0 | H56: =H4+H36 -> 0 | I56: =I4+I36 -> 0 | J56: =J4+J36 -> 0 | K56: =K4+K36 -> 0 | L56: =L4+L36 -> 0
A57: Ζ | B57: Γενικό Σύνολο Δαπανών (Β+Ε) | D57: =D18+D46 -> 0 | E57: =E18+E46 -> 0 | F57: =F18+F46 -> 0 | G57: =G18+G46 -> 0 | H57: =H18+H46 -> 0 | I57: =I18+I46 -> 0 | J57: =J18+J46 -> 0 | K57: =K18+K46 -> 0 | L57: =L18+L46 -> 0

Sheet Α2.2. ΠΔΕ, ΤΑΑ & λοιπά εργαλεία
A1: Πίνακας Α2.2: Έσοδα - Δαπάνες ΑΕ, ΝΠΙΔ και Ειδικών Λογαριασμών που εφαρμόζουν το Ελληνικό Γενικό Λογιστικό Σχέδιο (ΠΔΕ, ΤΑΑ και λοιπά εργαλεία)
D2: 2025 | E2: 2026 | F2: 2026 | G2: 2026 | H2: 2026 | I2: 2027 | J2: 2028 | K2: 2029 | L2: 2030
A3: α/α | B3: Λογαριασμοί ΕΓΛΣ | C3: Περιγραφή | D3: Πραγματοποιήσεις | E3: Αρχικός Προϋπολογισμός | F3: Διαμόρφωση (Αρχικός Π/Υ + τροποποιήσεις) | G3: Εκτέλεση Α΄ Εξαμήνου | H3: Εκτιμήσεις πραγματοποιήσεων έτους | I3: Προβλέψεις | J3: Προβλέψεις | K3: Προβλέψεις | L3: Προβλέψεις
A4: Α | B4: Έσοδα μη χρηματοοικονομικών συναλλαγών (1+2+3+4+5+6+7+8+9+10+11+12+13) | D4: ='Α2.2.1 ΠΔΕ Εθνικό'!D4+'Α2.2.2 ΠΔΕ Συγχρημ.'!D4+'Α2.2.3 ΤΑΑ'!D4+'Α2.2.4 Πράσινο Ταμείο'!D4+'Α2.2.5 ΑΝΤΩΝΗΣ ΤΡΙΤΣΗΣ κτλ'!D4 -> 0 | E4: ='Α2.2.1 ΠΔΕ Εθνικό'!E4+'Α2.2.2 ΠΔΕ Συγχρημ.'!E4+'Α2.2.3 ΤΑΑ'!E4+'Α2.2.4 Πράσινο Ταμείο'!E4+'Α2.2.5 ΑΝΤΩΝΗΣ ΤΡΙΤΣΗΣ κτλ'!E4 -> 0 | F4: ='Α2.2.1 ΠΔΕ Εθνικό'!F4+'Α2.2.2 ΠΔΕ Συγχρημ.'!F4+'Α2.2.3 ΤΑΑ'!F4+'Α2.2.4 Πράσινο Ταμείο'!F4+'Α2.2.5 ΑΝΤΩΝΗΣ ΤΡΙΤΣΗΣ κτλ'!F4 -> 0 | G4: ='Α2.2.1 ΠΔΕ Εθνικό'!G4+'Α2.2.2 ΠΔΕ Συγχρημ.'!G4+'Α2.2.3 ΤΑΑ'!G4+'Α2.2.4 Πράσινο Ταμείο'!G4+'Α2.2.5 ΑΝΤΩΝΗΣ ΤΡΙΤΣΗΣ κτλ'!G4 -> 0 | H4: ='Α2.2.1 ΠΔΕ Εθνικό'!H4+'Α2.2.2 ΠΔΕ Συγχρημ.'!H4+'Α2.2.3 ΤΑΑ'!H4+'Α2.2.4 Πράσινο Ταμείο'!H4+'Α2.2.5 ΑΝΤΩΝΗΣ ΤΡΙΤΣΗΣ κτλ'!H4 -> 0 | I4: ='Α2.2.1 ΠΔΕ Εθνικό'!I4+'Α2.2.2 ΠΔΕ Συγχρημ.'!I4+'Α2.2.3 ΤΑΑ'!I4+'Α2.2.4 Πράσινο Ταμείο'!I4+'Α2.2.5 ΑΝΤΩΝΗΣ ΤΡΙΤΣΗΣ κτλ'!I4 -> 0 | J4: ='Α2.2.1 ΠΔΕ Εθνικό'!J4+'Α2.2.2 ΠΔΕ Συγχρημ.'!J4+'Α2.2.3 ΤΑΑ'!J4+'Α2.2.4 Πράσινο Ταμείο'!J4+'Α2.2.5 ΑΝΤΩΝΗΣ ΤΡΙΤΣΗΣ κτλ'!J4 -> 0 | K4: ='Α2.2.1 ΠΔΕ Εθνικό'!K4+'Α2.2.2 ΠΔΕ Συγχρημ.'!K4+'Α2.2.3 ΤΑΑ'!K4+'Α2.2.4 Πράσινο Ταμείο'!K4+'Α2.2.5 ΑΝΤΩΝΗΣ ΤΡΙΤΣΗΣ κτλ'!K4 -> 0 | L4: ='Α2.2.1 ΠΔΕ Εθνικό'!L4+'Α2.2.2 ΠΔΕ Συγχρημ.'!L4+'Α2.2.3 ΤΑΑ'!L4+'Α2.2.4 Πράσινο Ταμείο'!L4+'Α2.2.5 ΑΝΤΩΝΗΣ ΤΡΙΤΣΗΣ κτλ'!L4 -> 0
A5: 1 | B5: 70+71+72 | C5: Πωλήσεις εμπορευμάτων, έτοιμων και ημιτελών προϊόντων, λοιπών αποθεμάτων (70+71+72) | D5: ='Α2.2.1 ΠΔΕ Εθνικό'!D5+'Α2.2.2 ΠΔΕ Συγχρημ.'!D5+'Α2.2.3 ΤΑΑ'!D5+'Α2.2.4 Πράσινο Ταμείο'!D5+'Α2.2.5 ΑΝΤΩΝΗΣ ΤΡΙΤΣΗΣ κτλ'!D5 -> 0 | E5: ='Α2.2.1 ΠΔΕ Εθνικό'!E5+'Α2.2.2 ΠΔΕ Συγχρημ.'!E5+'Α2.2.3 ΤΑΑ'!E5+'Α2.2.4 Πράσινο Ταμείο'!E5+'Α2.2.5 ΑΝΤΩΝΗΣ ΤΡΙΤΣΗΣ κτλ'!E5 -> 0 | F5: ='Α2.2.1 ΠΔΕ Εθνικό'!F5+'Α2.2.2 ΠΔΕ Συγχρημ.'!F5+'Α2.2.3 ΤΑΑ'!F5+'Α2.2.4 Πράσινο Ταμείο'!F5+'Α2.2.5 ΑΝΤΩΝΗΣ ΤΡΙΤΣΗΣ κτλ'!F5 -> 0 | G5: ='Α2.2.1 ΠΔΕ Εθνικό'!G5+'Α2.2.2 ΠΔΕ Συγχρημ.'!G5+'Α2.2.3 ΤΑΑ'!G5+'Α2.2.4 Πράσινο Ταμείο'!G5+'Α2.2.5 ΑΝΤΩΝΗΣ ΤΡΙΤΣΗΣ κτλ'!G5 -> 0 | H5: ='Α2.2.1 ΠΔΕ Εθνικό'!H5+'Α2.2.2 ΠΔΕ Συγχρημ.'!H5+'Α2.2.3 ΤΑΑ'!H5+'Α2.2.4 Πράσινο Ταμείο'!H5+'Α2.2.5 ΑΝΤΩΝΗΣ ΤΡΙΤΣΗΣ κτλ'!H5 -> 0 | I5: ='Α2.2.1 ΠΔΕ Εθνικό'!I5+'Α2.2.2 ΠΔΕ Συγχρημ.'!I5+'Α2.2.3 ΤΑΑ'!I5+'Α2.2.4 Πράσινο Ταμείο'!I5+'Α2.2.5 ΑΝΤΩΝΗΣ ΤΡΙΤΣΗΣ κτλ'!I5 -> 0 | J5: ='Α2.2.1 ΠΔΕ Εθνικό'!J5+'Α2.2.2 ΠΔΕ Συγχρημ.'!J5+'Α2.2.3 ΤΑΑ'!J5+'Α2.2.4 Πράσινο Ταμείο'!J5+'Α2.2.5 ΑΝΤΩΝΗΣ ΤΡΙΤΣΗΣ κτλ'!J5 -> 0 | K5: ='Α2.2.1 ΠΔΕ Εθνικό'!K5+'Α2.2.2 ΠΔΕ Συγχρημ.'!K5+'Α2.2.3 ΤΑΑ'!K5+'Α2.2.4 Πράσινο Ταμείο'!K5+'Α2.2.5 ΑΝΤΩΝΗΣ ΤΡΙΤΣΗΣ κτλ'!K5 -> 0 | L5: ='Α2.2.1 ΠΔΕ Εθνικό'!L5+'Α2.2.2 ΠΔΕ Συγχρημ.'!L5+'Α2.2.3 ΤΑΑ'!L5+'Α2.2.4 Πράσινο Ταμείο'!L5+'Α2.2.5 ΑΝΤΩΝΗΣ ΤΡΙΤΣΗΣ κτλ'!L5 -> 0
A6: 2 | B6: 73 | C6: Πωλήσεις υπηρεσιών (73) | D6: ='Α2.2.1 ΠΔΕ Εθνικό'!D6+'Α2.2.2 ΠΔΕ Συγχρημ.'!D6+'Α2.2.3 ΤΑΑ'!D6+'Α2.2.4 Πράσινο Ταμείο'!D6+'Α2.2.5 ΑΝΤΩΝΗΣ ΤΡΙΤΣΗΣ κτλ'!D6 -> 0 | E6: ='Α2.2.1 ΠΔΕ Εθνικό'!E6+'Α2.2.2 ΠΔΕ Συγχρημ.'!E6+'Α2.2.3 ΤΑΑ'!E6+'Α2.2.4 Πράσινο Ταμείο'!E6+'Α2.2.5 ΑΝΤΩΝΗΣ ΤΡΙΤΣΗΣ κτλ'!E6 -> 0 | F6: ='Α2.2.1 ΠΔΕ Εθνικό'!F6+'Α2.2.2 ΠΔΕ Συγχρημ.'!F6+'Α2.2.3 ΤΑΑ'!F6+'Α2.2.4 Πράσινο Ταμείο'!F6+'Α2.2.5 ΑΝΤΩΝΗΣ ΤΡΙΤΣΗΣ κτλ'!F6 -> 0 | G6: ='Α2.2.1 ΠΔΕ Εθνικό'!G6+'Α2.2.2 ΠΔΕ Συγχρημ.'!G6+'Α2.2.3 ΤΑΑ'!G6+'Α2.2.4 Πράσινο Ταμείο'!G6+'Α2.2.5 ΑΝΤΩΝΗΣ ΤΡΙΤΣΗΣ κτλ'!G6 -> 0 | H6: ='Α2.2.1 ΠΔΕ Εθνικό'!H6+'Α2.2.2 ΠΔΕ Συγχρημ.'!H6+'Α2.2.3 ΤΑΑ'!H6+'Α2.2.4 Πράσινο Ταμείο'!H6+'Α2.2.5 ΑΝΤΩΝΗΣ ΤΡΙΤΣΗΣ κτλ'!H6 -> 0 | I6: ='Α2.2.1 ΠΔΕ Εθνικό'!I6+'Α2.2.2 ΠΔΕ Συγχρημ.'!I6+'Α2.2.3 ΤΑΑ'!I6+'Α2.2.4 Πράσινο Ταμείο'!I6+'Α2.2.5 ΑΝΤΩΝΗΣ ΤΡΙΤΣΗΣ κτλ'!I6 -> 0 | J6: ='Α2.2.1 ΠΔΕ Εθνικό'!J6+'Α2.2.2 ΠΔΕ Συγχρημ.'!J6+'Α2.2.3 ΤΑΑ'!J6+'Α2.2.4 Πράσινο Ταμείο'!J6+'Α2.2.5 ΑΝΤΩΝΗΣ ΤΡΙΤΣΗΣ κτλ'!J6 -> 0 | K6: ='Α2.2.1 ΠΔΕ Εθνικό'!K6+'Α2.2.2 ΠΔΕ Συγχρημ.'!K6+'Α2.2.3 ΤΑΑ'!K6+'Α2.2.4 Πράσινο Ταμείο'!K6+'Α2.2.5 ΑΝΤΩΝΗΣ ΤΡΙΤΣΗΣ κτλ'!K6 -> 0 | L6: ='Α2.2.1 ΠΔΕ Εθνικό'!L6+'Α2.2.2 ΠΔΕ Συγχρημ.'!L6+'Α2.2.3 ΤΑΑ'!L6+'Α2.2.4 Πράσινο Ταμείο'!L6+'Α2.2.5 ΑΝΤΩΝΗΣ ΤΡΙΤΣΗΣ κτλ'!L6 -> 0
A7: 3 | B7: 74 | C7: Επιχορηγήσεις και διάφορα έσοδα πωλήσεων (74) | D7: ='Α2.2.1 ΠΔΕ Εθνικό'!D7+'Α2.2.2 ΠΔΕ Συγχρημ.'!D7+'Α2.2.3 ΤΑΑ'!D7+'Α2.2.4 Πράσινο Ταμείο'!D7+'Α2.2.5 ΑΝΤΩΝΗΣ ΤΡΙΤΣΗΣ κτλ'!D7 -> 0 | E7: ='Α2.2.1 ΠΔΕ Εθνικό'!E7+'Α2.2.2 ΠΔΕ Συγχρημ.'!E7+'Α2.2.3 ΤΑΑ'!E7+'Α2.2.4 Πράσινο Ταμείο'!E7+'Α2.2.5 ΑΝΤΩΝΗΣ ΤΡΙΤΣΗΣ κτλ'!E7 -> 0 | F7: ='Α2.2.1 ΠΔΕ Εθνικό'!F7+'Α2.2.2 ΠΔΕ Συγχρημ.'!F7+'Α2.2.3 ΤΑΑ'!F7+'Α2.2.4 Πράσινο Ταμείο'!F7+'Α2.2.5 ΑΝΤΩΝΗΣ ΤΡΙΤΣΗΣ κτλ'!F7 -> 0 | G7: ='Α2.2.1 ΠΔΕ Εθνικό'!G7+'Α2.2.2 ΠΔΕ Συγχρημ.'!G7+'Α2.2.3 ΤΑΑ'!G7+'Α2.2.4 Πράσινο Ταμείο'!G7+'Α2.2.5 ΑΝΤΩΝΗΣ ΤΡΙΤΣΗΣ κτλ'!G7 -> 0 | H7: ='Α2.2.1 ΠΔΕ Εθνικό'!H7+'Α2.2.2 ΠΔΕ Συγχρημ.'!H7+'Α2.2.3 ΤΑΑ'!H7+'Α2.2.4 Πράσινο Ταμείο'!H7+'Α2.2.5 ΑΝΤΩΝΗΣ ΤΡΙΤΣΗΣ κτλ'!H7 -> 0 | I7: ='Α2.2.1 ΠΔΕ Εθνικό'!I7+'Α2.2.2 ΠΔΕ Συγχρημ.'!I7+'Α2.2.3 ΤΑΑ'!I7+'Α2.2.4 Πράσινο Ταμείο'!I7+'Α2.2.5 ΑΝΤΩΝΗΣ ΤΡΙΤΣΗΣ κτλ'!I7 -> 0 | J7: ='Α2.2.1 ΠΔΕ Εθνικό'!J7+'Α2.2.2 ΠΔΕ Συγχρημ.'!J7+'Α2.2.3 ΤΑΑ'!J7+'Α2.2.4 Πράσινο Ταμείο'!J7+'Α2.2.5 ΑΝΤΩΝΗΣ ΤΡΙΤΣΗΣ κτλ'!J7 -> 0 | K7: ='Α2.2.1 ΠΔΕ Εθνικό'!K7+'Α2.2.2 ΠΔΕ Συγχρημ.'!K7+'Α2.2.3 ΤΑΑ'!K7+'Α2.2.4 Πράσινο Ταμείο'!K7+'Α2.2.5 ΑΝΤΩΝΗΣ ΤΡΙΤΣΗΣ κτλ'!K7 -> 0 | L7: ='Α2.2.1 ΠΔΕ Εθνικό'!L7+'Α2.2.2 ΠΔΕ Συγχρημ.'!L7+'Α2.2.3 ΤΑΑ'!L7+'Α2.2.4 Πράσινο Ταμείο'!L7+'Α2.2.5 ΑΝΤΩΝΗΣ ΤΡΙΤΣΗΣ κτλ'!L7 -> 0
A8: 4 | B8: 75 | C8: Έσοδα παρεπόμενων ασχολιών (75) | D8: ='Α2.2.1 ΠΔΕ Εθνικό'!D8+'Α2.2.2 ΠΔΕ Συγχρημ.'!D8+'Α2.2.3 ΤΑΑ'!D8+'Α2.2.4 Πράσινο Ταμείο'!D8+'Α2.2.5 ΑΝΤΩΝΗΣ ΤΡΙΤΣΗΣ κτλ'!D8 -> 0 | E8: ='Α2.2.1 ΠΔΕ Εθνικό'!E8+'Α2.2.2 ΠΔΕ Συγχρημ.'!E8+'Α2.2.3 ΤΑΑ'!E8+'Α2.2.4 Πράσινο Ταμείο'!E8+'Α2.2.5 ΑΝΤΩΝΗΣ ΤΡΙΤΣΗΣ κτλ'!E8 -> 0 | F8: ='Α2.2.1 ΠΔΕ Εθνικό'!F8+'Α2.2.2 ΠΔΕ Συγχρημ.'!F8+'Α2.2.3 ΤΑΑ'!F8+'Α2.2.4 Πράσινο Ταμείο'!F8+'Α2.2.5 ΑΝΤΩΝΗΣ ΤΡΙΤΣΗΣ κτλ'!F8 -> 0 | G8: ='Α2.2.1 ΠΔΕ Εθνικό'!G8+'Α2.2.2 ΠΔΕ Συγχρημ.'!G8+'Α2.2.3 ΤΑΑ'!G8+'Α2.2.4 Πράσινο Ταμείο'!G8+'Α2.2.5 ΑΝΤΩΝΗΣ ΤΡΙΤΣΗΣ κτλ'!G8 -> 0 | H8: ='Α2.2.1 ΠΔΕ Εθνικό'!H8+'Α2.2.2 ΠΔΕ Συγχρημ.'!H8+'Α2.2.3 ΤΑΑ'!H8+'Α2.2.4 Πράσινο Ταμείο'!H8+'Α2.2.5 ΑΝΤΩΝΗΣ ΤΡΙΤΣΗΣ κτλ'!H8 -> 0 | I8: ='Α2.2.1 ΠΔΕ Εθνικό'!I8+'Α2.2.2 ΠΔΕ Συγχρημ.'!I8+'Α2.2.3 ΤΑΑ'!I8+'Α2.2.4 Πράσινο Ταμείο'!I8+'Α2.2.5 ΑΝΤΩΝΗΣ ΤΡΙΤΣΗΣ κτλ'!I8 -> 0 | J8: ='Α2.2.1 ΠΔΕ Εθνικό'!J8+'Α2.2.2 ΠΔΕ Συγχρημ.'!J8+'Α2.2.3 ΤΑΑ'!J8+'Α2.2.4 Πράσινο Ταμείο'!J8+'Α2.2.5 ΑΝΤΩΝΗΣ ΤΡΙΤΣΗΣ κτλ'!J8 -> 0 | K8: ='Α2.2.1 ΠΔΕ Εθνικό'!K8+'Α2.2.2 ΠΔΕ Συγχρημ.'!K8+'Α2.2.3 ΤΑΑ'!K8+'Α2.2.4 Πράσινο Ταμείο'!K8+'Α2.2.5 ΑΝΤΩΝΗΣ ΤΡΙΤΣΗΣ κτλ'!K8 -> 0 | L8: ='Α2.2.1 ΠΔΕ Εθνικό'!L8+'Α2.2.2 ΠΔΕ Συγχρημ.'!L8+'Α2.2.3 ΤΑΑ'!L8+'Α2.2.4 Πράσινο Ταμείο'!L8+'Α2.2.5 ΑΝΤΩΝΗΣ ΤΡΙΤΣΗΣ κτλ'!L8 -> 0
A9: 5 | B9: 76 | C9: Έσοδα κεφαλαίων (76 πλην 76.04) | D9: ='Α2.2.1 ΠΔΕ Εθνικό'!D9+'Α2.2.2 ΠΔΕ Συγχρημ.'!D9+'Α2.2.3 ΤΑΑ'!D9+'Α2.2.4 Πράσινο Ταμείο'!D9+'Α2.2.5 ΑΝΤΩΝΗΣ ΤΡΙΤΣΗΣ κτλ'!D9 -> 0 | E9: ='Α2.2.1 ΠΔΕ Εθνικό'!E9+'Α2.2.2 ΠΔΕ Συγχρημ.'!E9+'Α2.2.3 ΤΑΑ'!E9+'Α2.2.4 Πράσινο Ταμείο'!E9+'Α2.2.5 ΑΝΤΩΝΗΣ ΤΡΙΤΣΗΣ κτλ'!E9 -> 0 | F9: ='Α2.2.1 ΠΔΕ Εθνικό'!F9+'Α2.2.2 ΠΔΕ Συγχρημ.'!F9+'Α2.2.3 ΤΑΑ'!F9+'Α2.2.4 Πράσινο Ταμείο'!F9+'Α2.2.5 ΑΝΤΩΝΗΣ ΤΡΙΤΣΗΣ κτλ'!F9 -> 0 | G9: ='Α2.2.1 ΠΔΕ Εθνικό'!G9+'Α2.2.2 ΠΔΕ Συγχρημ.'!G9+'Α2.2.3 ΤΑΑ'!G9+'Α2.2.4 Πράσινο Ταμείο'!G9+'Α2.2.5 ΑΝΤΩΝΗΣ ΤΡΙΤΣΗΣ κτλ'!G9 -> 0 | H9: ='Α2.2.1 ΠΔΕ Εθνικό'!H9+'Α2.2.2 ΠΔΕ Συγχρημ.'!H9+'Α2.2.3 ΤΑΑ'!H9+'Α2.2.4 Πράσινο Ταμείο'!H9+'Α2.2.5 ΑΝΤΩΝΗΣ ΤΡΙΤΣΗΣ κτλ'!H9 -> 0 | I9: ='Α2.2.1 ΠΔΕ Εθνικό'!I9+'Α2.2.2 ΠΔΕ Συγχρημ.'!I9+'Α2.2.3 ΤΑΑ'!I9+'Α2.2.4 Πράσινο Ταμείο'!I9+'Α2.2.5 ΑΝΤΩΝΗΣ ΤΡΙΤΣΗΣ κτλ'!I9 -> 0 | J9: ='Α2.2.1 ΠΔΕ Εθνικό'!J9+'Α2.2.2 ΠΔΕ Συγχρημ.'!J9+'Α2.2.3 ΤΑΑ'!J9+'Α2.2.4 Πράσινο Ταμείο'!J9+'Α2.2.5 ΑΝΤΩΝΗΣ ΤΡΙΤΣΗΣ κτλ'!J9 -> 0 | K9: ='Α2.2.1 ΠΔΕ Εθνικό'!K9+'Α2.2.2 ΠΔΕ Συγχρημ.'!K9+'Α2.2.3 ΤΑΑ'!K9+'Α2.2.4 Πράσινο Ταμείο'!K9+'Α2.2.5 ΑΝΤΩΝΗΣ ΤΡΙΤΣΗΣ κτλ'!K9 -> 0 | L9: ='Α2.2.1 ΠΔΕ Εθνικό'!L9+'Α2.2.2 ΠΔΕ Συγχρημ.'!L9+'Α2.2.3 ΤΑΑ'!L9+'Α2.2.4 Πράσινο Ταμείο'!L9+'Α2.2.5 ΑΝΤΩΝΗΣ ΤΡΙΤΣΗΣ κτλ'!L9 -> 0
A10: 6 | B10: 78 | C10: Ιδιοπαραγωγή παγίων (78 πλην 78.05) | D10: ='Α2.2.1 ΠΔΕ Εθνικό'!D10+'Α2.2.2 ΠΔΕ Συγχρημ.'!D10+'Α2.2.3 ΤΑΑ'!D10+'Α2.2.4 Πράσινο Ταμείο'!D10+'Α2.2.5 ΑΝΤΩΝΗΣ ΤΡΙΤΣΗΣ κτλ'!D10 -> 0 | E10: ='Α2.2.1 ΠΔΕ Εθνικό'!E10+'Α2.2.2 ΠΔΕ Συγχρημ.'!E10+'Α2.2.3 ΤΑΑ'!E10+'Α2.2.4 Πράσινο Ταμείο'!E10+'Α2.2.5 ΑΝΤΩΝΗΣ ΤΡΙΤΣΗΣ κτλ'!E10 -> 0 | F10: ='Α2.2.1 ΠΔΕ Εθνικό'!F10+'Α2.2.2 ΠΔΕ Συγχρημ.'!F10+'Α2.2.3 ΤΑΑ'!F10+'Α2.2.4 Πράσινο Ταμείο'!F10+'Α2.2.5 ΑΝΤΩΝΗΣ ΤΡΙΤΣΗΣ κτλ'!F10 -> 0 | G10: ='Α2.2.1 ΠΔΕ Εθνικό'!G10+'Α2.2.2 ΠΔΕ Συγχρημ.'!G10+'Α2.2.3 ΤΑΑ'!G10+'Α2.2.4 Πράσινο Ταμείο'!G10+'Α2.2.5 ΑΝΤΩΝΗΣ ΤΡΙΤΣΗΣ κτλ'!G10 -> 0 | H10: ='Α2.2.1 ΠΔΕ Εθνικό'!H10+'Α2.2.2 ΠΔΕ Συγχρημ.'!H10+'Α2.2.3 ΤΑΑ'!H10+'Α2.2.4 Πράσινο Ταμείο'!H10+'Α2.2.5 ΑΝΤΩΝΗΣ ΤΡΙΤΣΗΣ κτλ'!H10 -> 0 | I10: ='Α2.2.1 ΠΔΕ Εθνικό'!I10+'Α2.2.2 ΠΔΕ Συγχρημ.'!I10+'Α2.2.3 ΤΑΑ'!I10+'Α2.2.4 Πράσινο Ταμείο'!I10+'Α2.2.5 ΑΝΤΩΝΗΣ ΤΡΙΤΣΗΣ κτλ'!I10 -> 0 | J10: ='Α2.2.1 ΠΔΕ Εθνικό'!J10+'Α2.2.2 ΠΔΕ Συγχρημ.'!J10+'Α2.2.3 ΤΑΑ'!J10+'Α2.2.4 Πράσινο Ταμείο'!J10+'Α2.2.5 ΑΝΤΩΝΗΣ ΤΡΙΤΣΗΣ κτλ'!J10 -> 0 | K10: ='Α2.2.1 ΠΔΕ Εθνικό'!K10+'Α2.2.2 ΠΔΕ Συγχρημ.'!K10+'Α2.2.3 ΤΑΑ'!K10+'Α2.2.4 Πράσινο Ταμείο'!K10+'Α2.2.5 ΑΝΤΩΝΗΣ ΤΡΙΤΣΗΣ κτλ'!K10 -> 0 | L10: ='Α2.2.1 ΠΔΕ Εθνικό'!L10+'Α2.2.2 ΠΔΕ Συγχρημ.'!L10+'Α2.2.3 ΤΑΑ'!L10+'Α2.2.4 Πράσινο Ταμείο'!L10+'Α2.2.5 ΑΝΤΩΝΗΣ ΤΡΙΤΣΗΣ κτλ'!L10 -> 0
A11: 7 | B11: 40* | C11: Αύξηση μετοχικού κεφαλαίου (40) | D11: ='Α2.2.1 ΠΔΕ Εθνικό'!D11+'Α2.2.2 ΠΔΕ Συγχρημ.'!D11+'Α2.2.3 ΤΑΑ'!D11+'Α2.2.4 Πράσινο Ταμείο'!D11+'Α2.2.5 ΑΝΤΩΝΗΣ ΤΡΙΤΣΗΣ κτλ'!D11 -> 0 | E11: ='Α2.2.1 ΠΔΕ Εθνικό'!E11+'Α2.2.2 ΠΔΕ Συγχρημ.'!E11+'Α2.2.3 ΤΑΑ'!E11+'Α2.2.4 Πράσινο Ταμείο'!E11+'Α2.2.5 ΑΝΤΩΝΗΣ ΤΡΙΤΣΗΣ κτλ'!E11 -> 0 | F11: ='Α2.2.1 ΠΔΕ Εθνικό'!F11+'Α2.2.2 ΠΔΕ Συγχρημ.'!F11+'Α2.2.3 ΤΑΑ'!F11+'Α2.2.4 Πράσινο Ταμείο'!F11+'Α2.2.5 ΑΝΤΩΝΗΣ ΤΡΙΤΣΗΣ κτλ'!F11 -> 0 | G11: ='Α2.2.1 ΠΔΕ Εθνικό'!G11+'Α2.2.2 ΠΔΕ Συγχρημ.'!G11+'Α2.2.3 ΤΑΑ'!G11+'Α2.2.4 Πράσινο Ταμείο'!G11+'Α2.2.5 ΑΝΤΩΝΗΣ ΤΡΙΤΣΗΣ κτλ'!G11 -> 0 | H11: ='Α2.2.1 ΠΔΕ Εθνικό'!H11+'Α2.2.2 ΠΔΕ Συγχρημ.'!H11+'Α2.2.3 ΤΑΑ'!H11+'Α2.2.4 Πράσινο Ταμείο'!H11+'Α2.2.5 ΑΝΤΩΝΗΣ ΤΡΙΤΣΗΣ κτλ'!H11 -> 0 | I11: ='Α2.2.1 ΠΔΕ Εθνικό'!I11+'Α2.2.2 ΠΔΕ Συγχρημ.'!I11+'Α2.2.3 ΤΑΑ'!I11+'Α2.2.4 Πράσινο Ταμείο'!I11+'Α2.2.5 ΑΝΤΩΝΗΣ ΤΡΙΤΣΗΣ κτλ'!I11 -> 0 | J11: ='Α2.2.1 ΠΔΕ Εθνικό'!J11+'Α2.2.2 ΠΔΕ Συγχρημ.'!J11+'Α2.2.3 ΤΑΑ'!J11+'Α2.2.4 Πράσινο Ταμείο'!J11+'Α2.2.5 ΑΝΤΩΝΗΣ ΤΡΙΤΣΗΣ κτλ'!J11 -> 0 | K11: ='Α2.2.1 ΠΔΕ Εθνικό'!K11+'Α2.2.2 ΠΔΕ Συγχρημ.'!K11+'Α2.2.3 ΤΑΑ'!K11+'Α2.2.4 Πράσινο Ταμείο'!K11+'Α2.2.5 ΑΝΤΩΝΗΣ ΤΡΙΤΣΗΣ κτλ'!K11 -> 0 | L11: ='Α2.2.1 ΠΔΕ Εθνικό'!L11+'Α2.2.2 ΠΔΕ Συγχρημ.'!L11+'Α2.2.3 ΤΑΑ'!L11+'Α2.2.4 Πράσινο Ταμείο'!L11+'Α2.2.5 ΑΝΤΩΝΗΣ ΤΡΙΤΣΗΣ κτλ'!L11 -> 0
A12: 8 | B12: 41 | C12: Επιχορηγήσεις παγίων επενδύσεων (41.10) | D12: ='Α2.2.1 ΠΔΕ Εθνικό'!D12+'Α2.2.2 ΠΔΕ Συγχρημ.'!D12+'Α2.2.3 ΤΑΑ'!D12+'Α2.2.4 Πράσινο Ταμείο'!D12+'Α2.2.5 ΑΝΤΩΝΗΣ ΤΡΙΤΣΗΣ κτλ'!D12 -> 0 | E12: ='Α2.2.1 ΠΔΕ Εθνικό'!E12+'Α2.2.2 ΠΔΕ Συγχρημ.'!E12+'Α2.2.3 ΤΑΑ'!E12+'Α2.2.4 Πράσινο Ταμείο'!E12+'Α2.2.5 ΑΝΤΩΝΗΣ ΤΡΙΤΣΗΣ κτλ'!E12 -> 0 | F12: ='Α2.2.1 ΠΔΕ Εθνικό'!F12+'Α2.2.2 ΠΔΕ Συγχρημ.'!F12+'Α2.2.3 ΤΑΑ'!F12+'Α2.2.4 Πράσινο Ταμείο'!F12+'Α2.2.5 ΑΝΤΩΝΗΣ ΤΡΙΤΣΗΣ κτλ'!F12 -> 0 | G12: ='Α2.2.1 ΠΔΕ Εθνικό'!G12+'Α2.2.2 ΠΔΕ Συγχρημ.'!G12+'Α2.2.3 ΤΑΑ'!G12+'Α2.2.4 Πράσινο Ταμείο'!G12+'Α2.2.5 ΑΝΤΩΝΗΣ ΤΡΙΤΣΗΣ κτλ'!G12 -> 0 | H12: ='Α2.2.1 ΠΔΕ Εθνικό'!H12+'Α2.2.2 ΠΔΕ Συγχρημ.'!H12+'Α2.2.3 ΤΑΑ'!H12+'Α2.2.4 Πράσινο Ταμείο'!H12+'Α2.2.5 ΑΝΤΩΝΗΣ ΤΡΙΤΣΗΣ κτλ'!H12 -> 0 | I12: ='Α2.2.1 ΠΔΕ Εθνικό'!I12+'Α2.2.2 ΠΔΕ Συγχρημ.'!I12+'Α2.2.3 ΤΑΑ'!I12+'Α2.2.4 Πράσινο Ταμείο'!I12+'Α2.2.5 ΑΝΤΩΝΗΣ ΤΡΙΤΣΗΣ κτλ'!I12 -> 0 | J12: ='Α2.2.1 ΠΔΕ Εθνικό'!J12+'Α2.2.2 ΠΔΕ Συγχρημ.'!J12+'Α2.2.3 ΤΑΑ'!J12+'Α2.2.4 Πράσινο Ταμείο'!J12+'Α2.2.5 ΑΝΤΩΝΗΣ ΤΡΙΤΣΗΣ κτλ'!J12 -> 0 | K12: ='Α2.2.1 ΠΔΕ Εθνικό'!K12+'Α2.2.2 ΠΔΕ Συγχρημ.'!K12+'Α2.2.3 ΤΑΑ'!K12+'Α2.2.4 Πράσινο Ταμείο'!K12+'Α2.2.5 ΑΝΤΩΝΗΣ ΤΡΙΤΣΗΣ κτλ'!K12 -> 0 | L12: ='Α2.2.1 ΠΔΕ Εθνικό'!L12+'Α2.2.2 ΠΔΕ Συγχρημ.'!L12+'Α2.2.3 ΤΑΑ'!L12+'Α2.2.4 Πράσινο Ταμείο'!L12+'Α2.2.5 ΑΝΤΩΝΗΣ ΤΡΙΤΣΗΣ κτλ'!L12 -> 0
A13: 9 | B13: 43** | C13: Ποσά προορισμένα για αύξηση κεφαλαίου (43) | D13: ='Α2.2.1 ΠΔΕ Εθνικό'!D13+'Α2.2.2 ΠΔΕ Συγχρημ.'!D13+'Α2.2.3 ΤΑΑ'!D13+'Α2.2.4 Πράσινο Ταμείο'!D13+'Α2.2.5 ΑΝΤΩΝΗΣ ΤΡΙΤΣΗΣ κτλ'!D13 -> 0 | E13: ='Α2.2.1 ΠΔΕ Εθνικό'!E13+'Α2.2.2 ΠΔΕ Συγχρημ.'!E13+'Α2.2.3 ΤΑΑ'!E13+'Α2.2.4 Πράσινο Ταμείο'!E13+'Α2.2.5 ΑΝΤΩΝΗΣ ΤΡΙΤΣΗΣ κτλ'!E13 -> 0 | F13: ='Α2.2.1 ΠΔΕ Εθνικό'!F13+'Α2.2.2 ΠΔΕ Συγχρημ.'!F13+'Α2.2.3 ΤΑΑ'!F13+'Α2.2.4 Πράσινο Ταμείο'!F13+'Α2.2.5 ΑΝΤΩΝΗΣ ΤΡΙΤΣΗΣ κτλ'!F13 -> 0 | G13: ='Α2.2.1 ΠΔΕ Εθνικό'!G13+'Α2.2.2 ΠΔΕ Συγχρημ.'!G13+'Α2.2.3 ΤΑΑ'!G13+'Α2.2.4 Πράσινο Ταμείο'!G13+'Α2.2.5 ΑΝΤΩΝΗΣ ΤΡΙΤΣΗΣ κτλ'!G13 -> 0 | H13: ='Α2.2.1 ΠΔΕ Εθνικό'!H13+'Α2.2.2 ΠΔΕ Συγχρημ.'!H13+'Α2.2.3 ΤΑΑ'!H13+'Α2.2.4 Πράσινο Ταμείο'!H13+'Α2.2.5 ΑΝΤΩΝΗΣ ΤΡΙΤΣΗΣ κτλ'!H13 -> 0 | I13: ='Α2.2.1 ΠΔΕ Εθνικό'!I13+'Α2.2.2 ΠΔΕ Συγχρημ.'!I13+'Α2.2.3 ΤΑΑ'!I13+'Α2.2.4 Πράσινο Ταμείο'!I13+'Α2.2.5 ΑΝΤΩΝΗΣ ΤΡΙΤΣΗΣ κτλ'!I13 -> 0 | J13: ='Α2.2.1 ΠΔΕ Εθνικό'!J13+'Α2.2.2 ΠΔΕ Συγχρημ.'!J13+'Α2.2.3 ΤΑΑ'!J13+'Α2.2.4 Πράσινο Ταμείο'!J13+'Α2.2.5 ΑΝΤΩΝΗΣ ΤΡΙΤΣΗΣ κτλ'!J13 -> 0 | K13: ='Α2.2.1 ΠΔΕ Εθνικό'!K13+'Α2.2.2 ΠΔΕ Συγχρημ.'!K13+'Α2.2.3 ΤΑΑ'!K13+'Α2.2.4 Πράσινο Ταμείο'!K13+'Α2.2.5 ΑΝΤΩΝΗΣ ΤΡΙΤΣΗΣ κτλ'!K13 -> 0 | L13: ='Α2.2.1 ΠΔΕ Εθνικό'!L13+'Α2.2.2 ΠΔΕ Συγχρημ.'!L13+'Α2.2.3 ΤΑΑ'!L13+'Α2.2.4 Πράσινο Ταμείο'!L13+'Α2.2.5 ΑΝΤΩΝΗΣ ΤΡΙΤΣΗΣ κτλ'!L13 -> 0
A14: 10 | B14: 81 | C14: Έκτακτα και ανόργανα έσοδα (81.01 πλην 81.01.04 και 81.01.05) | D14: ='Α2.2.1 ΠΔΕ Εθνικό'!D14+'Α2.2.2 ΠΔΕ Συγχρημ.'!D14+'Α2.2.3 ΤΑΑ'!D14+'Α2.2.4 Πράσινο Ταμείο'!D14+'Α2.2.5 ΑΝΤΩΝΗΣ ΤΡΙΤΣΗΣ κτλ'!D14 -> 0 | E14: ='Α2.2.1 ΠΔΕ Εθνικό'!E14+'Α2.2.2 ΠΔΕ Συγχρημ.'!E14+'Α2.2.3 ΤΑΑ'!E14+'Α2.2.4 Πράσινο Ταμείο'!E14+'Α2.2.5 ΑΝΤΩΝΗΣ ΤΡΙΤΣΗΣ κτλ'!E14 -> 0 | F14: ='Α2.2.1 ΠΔΕ Εθνικό'!F14+'Α2.2.2 ΠΔΕ Συγχρημ.'!F14+'Α2.2.3 ΤΑΑ'!F14+'Α2.2.4 Πράσινο Ταμείο'!F14+'Α2.2.5 ΑΝΤΩΝΗΣ ΤΡΙΤΣΗΣ κτλ'!F14 -> 0 | G14: ='Α2.2.1 ΠΔΕ Εθνικό'!G14+'Α2.2.2 ΠΔΕ Συγχρημ.'!G14+'Α2.2.3 ΤΑΑ'!G14+'Α2.2.4 Πράσινο Ταμείο'!G14+'Α2.2.5 ΑΝΤΩΝΗΣ ΤΡΙΤΣΗΣ κτλ'!G14 -> 0 | H14: ='Α2.2.1 ΠΔΕ Εθνικό'!H14+'Α2.2.2 ΠΔΕ Συγχρημ.'!H14+'Α2.2.3 ΤΑΑ'!H14+'Α2.2.4 Πράσινο Ταμείο'!H14+'Α2.2.5 ΑΝΤΩΝΗΣ ΤΡΙΤΣΗΣ κτλ'!H14 -> 0 | I14: ='Α2.2.1 ΠΔΕ Εθνικό'!I14+'Α2.2.2 ΠΔΕ Συγχρημ.'!I14+'Α2.2.3 ΤΑΑ'!I14+'Α2.2.4 Πράσινο Ταμείο'!I14+'Α2.2.5 ΑΝΤΩΝΗΣ ΤΡΙΤΣΗΣ κτλ'!I14 -> 0 | J14: ='Α2.2.1 ΠΔΕ Εθνικό'!J14+'Α2.2.2 ΠΔΕ Συγχρημ.'!J14+'Α2.2.3 ΤΑΑ'!J14+'Α2.2.4 Πράσινο Ταμείο'!J14+'Α2.2.5 ΑΝΤΩΝΗΣ ΤΡΙΤΣΗΣ κτλ'!J14 -> 0 | K14: ='Α2.2.1 ΠΔΕ Εθνικό'!K14+'Α2.2.2 ΠΔΕ Συγχρημ.'!K14+'Α2.2.3 ΤΑΑ'!K14+'Α2.2.4 Πράσινο Ταμείο'!K14+'Α2.2.5 ΑΝΤΩΝΗΣ ΤΡΙΤΣΗΣ κτλ'!K14 -> 0 | L14: ='Α2.2.1 ΠΔΕ Εθνικό'!L14+'Α2.2.2 ΠΔΕ Συγχρημ.'!L14+'Α2.2.3 ΤΑΑ'!L14+'Α2.2.4 Πράσινο Ταμείο'!L14+'Α2.2.5 ΑΝΤΩΝΗΣ ΤΡΙΤΣΗΣ κτλ'!L14 -> 0
A15: 11 | B15: 82 | C15: Έσοδα προηγούμενων χρήσεων (82.01) | D15: ='Α2.2.1 ΠΔΕ Εθνικό'!D15+'Α2.2.2 ΠΔΕ Συγχρημ.'!D15+'Α2.2.3 ΤΑΑ'!D15+'Α2.2.4 Πράσινο Ταμείο'!D15+'Α2.2.5 ΑΝΤΩΝΗΣ ΤΡΙΤΣΗΣ κτλ'!D15 -> 0 | E15: ='Α2.2.1 ΠΔΕ Εθνικό'!E15+'Α2.2.2 ΠΔΕ Συγχρημ.'!E15+'Α2.2.3 ΤΑΑ'!E15+'Α2.2.4 Πράσινο Ταμείο'!E15+'Α2.2.5 ΑΝΤΩΝΗΣ ΤΡΙΤΣΗΣ κτλ'!E15 -> 0 | F15: ='Α2.2.1 ΠΔΕ Εθνικό'!F15+'Α2.2.2 ΠΔΕ Συγχρημ.'!F15+'Α2.2.3 ΤΑΑ'!F15+'Α2.2.4 Πράσινο Ταμείο'!F15+'Α2.2.5 ΑΝΤΩΝΗΣ ΤΡΙΤΣΗΣ κτλ'!F15 -> 0 | G15: ='Α2.2.1 ΠΔΕ Εθνικό'!G15+'Α2.2.2 ΠΔΕ Συγχρημ.'!G15+'Α2.2.3 ΤΑΑ'!G15+'Α2.2.4 Πράσινο Ταμείο'!G15+'Α2.2.5 ΑΝΤΩΝΗΣ ΤΡΙΤΣΗΣ κτλ'!G15 -> 0 | H15: ='Α2.2.1 ΠΔΕ Εθνικό'!H15+'Α2.2.2 ΠΔΕ Συγχρημ.'!H15+'Α2.2.3 ΤΑΑ'!H15+'Α2.2.4 Πράσινο Ταμείο'!H15+'Α2.2.5 ΑΝΤΩΝΗΣ ΤΡΙΤΣΗΣ κτλ'!H15 -> 0 | I15: ='Α2.2.1 ΠΔΕ Εθνικό'!I15+'Α2.2.2 ΠΔΕ Συγχρημ.'!I15+'Α2.2.3 ΤΑΑ'!I15+'Α2.2.4 Πράσινο Ταμείο'!I15+'Α2.2.5 ΑΝΤΩΝΗΣ ΤΡΙΤΣΗΣ κτλ'!I15 -> 0 | J15: ='Α2.2.1 ΠΔΕ Εθνικό'!J15+'Α2.2.2 ΠΔΕ Συγχρημ.'!J15+'Α2.2.3 ΤΑΑ'!J15+'Α2.2.4 Πράσινο Ταμείο'!J15+'Α2.2.5 ΑΝΤΩΝΗΣ ΤΡΙΤΣΗΣ κτλ'!J15 -> 0 | K15: ='Α2.2.1 ΠΔΕ Εθνικό'!K15+'Α2.2.2 ΠΔΕ Συγχρημ.'!K15+'Α2.2.3 ΤΑΑ'!K15+'Α2.2.4 Πράσινο Ταμείο'!K15+'Α2.2.5 ΑΝΤΩΝΗΣ ΤΡΙΤΣΗΣ κτλ'!K15 -> 0 | L15: ='Α2.2.1 ΠΔΕ Εθνικό'!L15+'Α2.2.2 ΠΔΕ Συγχρημ.'!L15+'Α2.2.3 ΤΑΑ'!L15+'Α2.2.4 Πράσινο Ταμείο'!L15+'Α2.2.5 ΑΝΤΩΝΗΣ ΤΡΙΤΣΗΣ κτλ'!L15 -> 0
A16: 12 | B16: 10+11+12+13+14+15+16 | C16: Πωλήσεις παγίων περιουσιακών στοιχείων (10+11+12+13+14+15+16) | D16: ='Α2.2.1 ΠΔΕ Εθνικό'!D16+'Α2.2.2 ΠΔΕ Συγχρημ.'!D16+'Α2.2.3 ΤΑΑ'!D16+'Α2.2.4 Πράσινο Ταμείο'!D16+'Α2.2.5 ΑΝΤΩΝΗΣ ΤΡΙΤΣΗΣ κτλ'!D16 -> 0 | E16: ='Α2.2.1 ΠΔΕ Εθνικό'!E16+'Α2.2.2 ΠΔΕ Συγχρημ.'!E16+'Α2.2.3 ΤΑΑ'!E16+'Α2.2.4 Πράσινο Ταμείο'!E16+'Α2.2.5 ΑΝΤΩΝΗΣ ΤΡΙΤΣΗΣ κτλ'!E16 -> 0 | F16: ='Α2.2.1 ΠΔΕ Εθνικό'!F16+'Α2.2.2 ΠΔΕ Συγχρημ.'!F16+'Α2.2.3 ΤΑΑ'!F16+'Α2.2.4 Πράσινο Ταμείο'!F16+'Α2.2.5 ΑΝΤΩΝΗΣ ΤΡΙΤΣΗΣ κτλ'!F16 -> 0 | G16: ='Α2.2.1 ΠΔΕ Εθνικό'!G16+'Α2.2.2 ΠΔΕ Συγχρημ.'!G16+'Α2.2.3 ΤΑΑ'!G16+'Α2.2.4 Πράσινο Ταμείο'!G16+'Α2.2.5 ΑΝΤΩΝΗΣ ΤΡΙΤΣΗΣ κτλ'!G16 -> 0 | H16: ='Α2.2.1 ΠΔΕ Εθνικό'!H16+'Α2.2.2 ΠΔΕ Συγχρημ.'!H16+'Α2.2.3 ΤΑΑ'!H16+'Α2.2.4 Πράσινο Ταμείο'!H16+'Α2.2.5 ΑΝΤΩΝΗΣ ΤΡΙΤΣΗΣ κτλ'!H16 -> 0 | I16: ='Α2.2.1 ΠΔΕ Εθνικό'!I16+'Α2.2.2 ΠΔΕ Συγχρημ.'!I16+'Α2.2.3 ΤΑΑ'!I16+'Α2.2.4 Πράσινο Ταμείο'!I16+'Α2.2.5 ΑΝΤΩΝΗΣ ΤΡΙΤΣΗΣ κτλ'!I16 -> 0 | J16: ='Α2.2.1 ΠΔΕ Εθνικό'!J16+'Α2.2.2 ΠΔΕ Συγχρημ.'!J16+'Α2.2.3 ΤΑΑ'!J16+'Α2.2.4 Πράσινο Ταμείο'!J16+'Α2.2.5 ΑΝΤΩΝΗΣ ΤΡΙΤΣΗΣ κτλ'!J16 -> 0 | K16: ='Α2.2.1 ΠΔΕ Εθνικό'!K16+'Α2.2.2 ΠΔΕ Συγχρημ.'!K16+'Α2.2.3 ΤΑΑ'!K16+'Α2.2.4 Πράσινο Ταμείο'!K16+'Α2.2.5 ΑΝΤΩΝΗΣ ΤΡΙΤΣΗΣ κτλ'!K16 -> 0 | L16: ='Α2.2.1 ΠΔΕ Εθνικό'!L16+'Α2.2.2 ΠΔΕ Συγχρημ.'!L16+'Α2.2.3 ΤΑΑ'!L16+'Α2.2.4 Πράσινο Ταμείο'!L16+'Α2.2.5 ΑΝΤΩΝΗΣ ΤΡΙΤΣΗΣ κτλ'!L16 -> 0
A17: 13 | B17: 20+24+25+26+28 | C17: Εκπτώσεις επί αγορών εμπορευμάτων, πρώτων και βοηθητικών υλών, ανταλλακτικών και λοιπών αποθεμάτων (20+24+25+26+28) | D17: ='Α2.2.1 ΠΔΕ Εθνικό'!D17+'Α2.2.2 ΠΔΕ Συγχρημ.'!D17+'Α2.2.3 ΤΑΑ'!D17+'Α2.2.4 Πράσινο Ταμείο'!D17+'Α2.2.5 ΑΝΤΩΝΗΣ ΤΡΙΤΣΗΣ κτλ'!D17 -> 0 | E17: ='Α2.2.1 ΠΔΕ Εθνικό'!E17+'Α2.2.2 ΠΔΕ Συγχρημ.'!E17+'Α2.2.3 ΤΑΑ'!E17+'Α2.2.4 Πράσινο Ταμείο'!E17+'Α2.2.5 ΑΝΤΩΝΗΣ ΤΡΙΤΣΗΣ κτλ'!E17 -> 0 | F17: ='Α2.2.1 ΠΔΕ Εθνικό'!F17+'Α2.2.2 ΠΔΕ Συγχρημ.'!F17+'Α2.2.3 ΤΑΑ'!F17+'Α2.2.4 Πράσινο Ταμείο'!F17+'Α2.2.5 ΑΝΤΩΝΗΣ ΤΡΙΤΣΗΣ κτλ'!F17 -> 0 | G17: ='Α2.2.1 ΠΔΕ Εθνικό'!G17+'Α2.2.2 ΠΔΕ Συγχρημ.'!G17+'Α2.2.3 ΤΑΑ'!G17+'Α2.2.4 Πράσινο Ταμείο'!G17+'Α2.2.5 ΑΝΤΩΝΗΣ ΤΡΙΤΣΗΣ κτλ'!G17 -> 0 | H17: ='Α2.2.1 ΠΔΕ Εθνικό'!H17+'Α2.2.2 ΠΔΕ Συγχρημ.'!H17+'Α2.2.3 ΤΑΑ'!H17+'Α2.2.4 Πράσινο Ταμείο'!H17+'Α2.2.5 ΑΝΤΩΝΗΣ ΤΡΙΤΣΗΣ κτλ'!H17 -> 0 | I17: ='Α2.2.1 ΠΔΕ Εθνικό'!I17+'Α2.2.2 ΠΔΕ Συγχρημ.'!I17+'Α2.2.3 ΤΑΑ'!I17+'Α2.2.4 Πράσινο Ταμείο'!I17+'Α2.2.5 ΑΝΤΩΝΗΣ ΤΡΙΤΣΗΣ κτλ'!I17 -> 0 | J17: ='Α2.2.1 ΠΔΕ Εθνικό'!J17+'Α2.2.2 ΠΔΕ Συγχρημ.'!J17+'Α2.2.3 ΤΑΑ'!J17+'Α2.2.4 Πράσινο Ταμείο'!J17+'Α2.2.5 ΑΝΤΩΝΗΣ ΤΡΙΤΣΗΣ κτλ'!J17 -> 0 | K17: ='Α2.2.1 ΠΔΕ Εθνικό'!K17+'Α2.2.2 ΠΔΕ Συγχρημ.'!K17+'Α2.2.3 ΤΑΑ'!K17+'Α2.2.4 Πράσινο Ταμείο'!K17+'Α2.2.5 ΑΝΤΩΝΗΣ ΤΡΙΤΣΗΣ κτλ'!K17 -> 0 | L17: ='Α2.2.1 ΠΔΕ Εθνικό'!L17+'Α2.2.2 ΠΔΕ Συγχρημ.'!L17+'Α2.2.3 ΤΑΑ'!L17+'Α2.2.4 Πράσινο Ταμείο'!L17+'Α2.2.5 ΑΝΤΩΝΗΣ ΤΡΙΤΣΗΣ κτλ'!L17 -> 0
A18: Β | B18: Δαπάνες μη χρηματοοικονομικών συναλλαγών (14+15+16+17+18+19+20+21+22+23+24+25+26+27) | D18: ='Α2.2.1 ΠΔΕ Εθνικό'!D18+'Α2.2.2 ΠΔΕ Συγχρημ.'!D18+'Α2.2.3 ΤΑΑ'!D18+'Α2.2.4 Πράσινο Ταμείο'!D18+'Α2.2.5 ΑΝΤΩΝΗΣ ΤΡΙΤΣΗΣ κτλ'!D18 -> 0 | E18: ='Α2.2.1 ΠΔΕ Εθνικό'!E18+'Α2.2.2 ΠΔΕ Συγχρημ.'!E18+'Α2.2.3 ΤΑΑ'!E18+'Α2.2.4 Πράσινο Ταμείο'!E18+'Α2.2.5 ΑΝΤΩΝΗΣ ΤΡΙΤΣΗΣ κτλ'!E18 -> 0 | F18: ='Α2.2.1 ΠΔΕ Εθνικό'!F18+'Α2.2.2 ΠΔΕ Συγχρημ.'!F18+'Α2.2.3 ΤΑΑ'!F18+'Α2.2.4 Πράσινο Ταμείο'!F18+'Α2.2.5 ΑΝΤΩΝΗΣ ΤΡΙΤΣΗΣ κτλ'!F18 -> 0 | G18: ='Α2.2.1 ΠΔΕ Εθνικό'!G18+'Α2.2.2 ΠΔΕ Συγχρημ.'!G18+'Α2.2.3 ΤΑΑ'!G18+'Α2.2.4 Πράσινο Ταμείο'!G18+'Α2.2.5 ΑΝΤΩΝΗΣ ΤΡΙΤΣΗΣ κτλ'!G18 -> 0 | H18: ='Α2.2.1 ΠΔΕ Εθνικό'!H18+'Α2.2.2 ΠΔΕ Συγχρημ.'!H18+'Α2.2.3 ΤΑΑ'!H18+'Α2.2.4 Πράσινο Ταμείο'!H18+'Α2.2.5 ΑΝΤΩΝΗΣ ΤΡΙΤΣΗΣ κτλ'!H18 -> 0 | I18: ='Α2.2.1 ΠΔΕ Εθνικό'!I18+'Α2.2.2 ΠΔΕ Συγχρημ.'!I18+'Α2.2.3 ΤΑΑ'!I18+'Α2.2.4 Πράσινο Ταμείο'!I18+'Α2.2.5 ΑΝΤΩΝΗΣ ΤΡΙΤΣΗΣ κτλ'!I18 -> 0 | J18: ='Α2.2.1 ΠΔΕ Εθνικό'!J18+'Α2.2.2 ΠΔΕ Συγχρημ.'!J18+'Α2.2.3 ΤΑΑ'!J18+'Α2.2.4 Πράσινο Ταμείο'!J18+'Α2.2.5 ΑΝΤΩΝΗΣ ΤΡΙΤΣΗΣ κτλ'!J18 -> 0 | K18: ='Α2.2.1 ΠΔΕ Εθνικό'!K18+'Α2.2.2 ΠΔΕ Συγχρημ.'!K18+'Α2.2.3 ΤΑΑ'!K18+'Α2.2.4 Πράσινο Ταμείο'!K18+'Α2.2.5 ΑΝΤΩΝΗΣ ΤΡΙΤΣΗΣ κτλ'!K18 -> 0 | L18: ='Α2.2.1 ΠΔΕ Εθνικό'!L18+'Α2.2.2 ΠΔΕ Συγχρημ.'!L18+'Α2.2.3 ΤΑΑ'!L18+'Α2.2.4 Πράσινο Ταμείο'!L18+'Α2.2.5 ΑΝΤΩΝΗΣ ΤΡΙΤΣΗΣ κτλ'!L18 -> 0
A19: 14 | B19: 60 | C19: Αμοιβές και έξοδα προσωπικού (60 εκτός 60.05) | D19: ='Α2.2.1 ΠΔΕ Εθνικό'!D19+'Α2.2.2 ΠΔΕ Συγχρημ.'!D19+'Α2.2.3 ΤΑΑ'!D19+'Α2.2.4 Πράσινο Ταμείο'!D19+'Α2.2.5 ΑΝΤΩΝΗΣ ΤΡΙΤΣΗΣ κτλ'!D19 -> 0 | E19: ='Α2.2.1 ΠΔΕ Εθνικό'!E19+'Α2.2.2 ΠΔΕ Συγχρημ.'!E19+'Α2.2.3 ΤΑΑ'!E19+'Α2.2.4 Πράσινο Ταμείο'!E19+'Α2.2.5 ΑΝΤΩΝΗΣ ΤΡΙΤΣΗΣ κτλ'!E19 -> 0 | F19: ='Α2.2.1 ΠΔΕ Εθνικό'!F19+'Α2.2.2 ΠΔΕ Συγχρημ.'!F19+'Α2.2.3 ΤΑΑ'!F19+'Α2.2.4 Πράσινο Ταμείο'!F19+'Α2.2.5 ΑΝΤΩΝΗΣ ΤΡΙΤΣΗΣ κτλ'!F19 -> 0 | G19: ='Α2.2.1 ΠΔΕ Εθνικό'!G19+'Α2.2.2 ΠΔΕ Συγχρημ.'!G19+'Α2.2.3 ΤΑΑ'!G19+'Α2.2.4 Πράσινο Ταμείο'!G19+'Α2.2.5 ΑΝΤΩΝΗΣ ΤΡΙΤΣΗΣ κτλ'!G19 -> 0 | H19: ='Α2.2.1 ΠΔΕ Εθνικό'!H19+'Α2.2.2 ΠΔΕ Συγχρημ.'!H19+'Α2.2.3 ΤΑΑ'!H19+'Α2.2.4 Πράσινο Ταμείο'!H19+'Α2.2.5 ΑΝΤΩΝΗΣ ΤΡΙΤΣΗΣ κτλ'!H19 -> 0 | I19: ='Α2.2.1 ΠΔΕ Εθνικό'!I19+'Α2.2.2 ΠΔΕ Συγχρημ.'!I19+'Α2.2.3 ΤΑΑ'!I19+'Α2.2.4 Πράσινο Ταμείο'!I19+'Α2.2.5 ΑΝΤΩΝΗΣ ΤΡΙΤΣΗΣ κτλ'!I19 -> 0 | J19: ='Α2.2.1 ΠΔΕ Εθνικό'!J19+'Α2.2.2 ΠΔΕ Συγχρημ.'!J19+'Α2.2.3 ΤΑΑ'!J19+'Α2.2.4 Πράσινο Ταμείο'!J19+'Α2.2.5 ΑΝΤΩΝΗΣ ΤΡΙΤΣΗΣ κτλ'!J19 -> 0 | K19: ='Α2.2.1 ΠΔΕ Εθνικό'!K19+'Α2.2.2 ΠΔΕ Συγχρημ.'!K19+'Α2.2.3 ΤΑΑ'!K19+'Α2.2.4 Πράσινο Ταμείο'!K19+'Α2.2.5 ΑΝΤΩΝΗΣ ΤΡΙΤΣΗΣ κτλ'!K19 -> 0 | L19: ='Α2.2.1 ΠΔΕ Εθνικό'!L19+'Α2.2.2 ΠΔΕ Συγχρημ.'!L19+'Α2.2.3 ΤΑΑ'!L19+'Α2.2.4 Πράσινο Ταμείο'!L19+'Α2.2.5 ΑΝΤΩΝΗΣ ΤΡΙΤΣΗΣ κτλ'!L19 -> 0
A20: 15 | B20: 61 | C20: Αμοιβές και έξοδα τρίτων (61) | D20: ='Α2.2.1 ΠΔΕ Εθνικό'!D20+'Α2.2.2 ΠΔΕ Συγχρημ.'!D20+'Α2.2.3 ΤΑΑ'!D20+'Α2.2.4 Πράσινο Ταμείο'!D20+'Α2.2.5 ΑΝΤΩΝΗΣ ΤΡΙΤΣΗΣ κτλ'!D20 -> 0 | E20: ='Α2.2.1 ΠΔΕ Εθνικό'!E20+'Α2.2.2 ΠΔΕ Συγχρημ.'!E20+'Α2.2.3 ΤΑΑ'!E20+'Α2.2.4 Πράσινο Ταμείο'!E20+'Α2.2.5 ΑΝΤΩΝΗΣ ΤΡΙΤΣΗΣ κτλ'!E20 -> 0 | F20: ='Α2.2.1 ΠΔΕ Εθνικό'!F20+'Α2.2.2 ΠΔΕ Συγχρημ.'!F20+'Α2.2.3 ΤΑΑ'!F20+'Α2.2.4 Πράσινο Ταμείο'!F20+'Α2.2.5 ΑΝΤΩΝΗΣ ΤΡΙΤΣΗΣ κτλ'!F20 -> 0 | G20: ='Α2.2.1 ΠΔΕ Εθνικό'!G20+'Α2.2.2 ΠΔΕ Συγχρημ.'!G20+'Α2.2.3 ΤΑΑ'!G20+'Α2.2.4 Πράσινο Ταμείο'!G20+'Α2.2.5 ΑΝΤΩΝΗΣ ΤΡΙΤΣΗΣ κτλ'!G20 -> 0 | H20: ='Α2.2.1 ΠΔΕ Εθνικό'!H20+'Α2.2.2 ΠΔΕ Συγχρημ.'!H20+'Α2.2.3 ΤΑΑ'!H20+'Α2.2.4 Πράσινο Ταμείο'!H20+'Α2.2.5 ΑΝΤΩΝΗΣ ΤΡΙΤΣΗΣ κτλ'!H20 -> 0 | I20: ='Α2.2.1 ΠΔΕ Εθνικό'!I20+'Α2.2.2 ΠΔΕ Συγχρημ.'!I20+'Α2.2.3 ΤΑΑ'!I20+'Α2.2.4 Πράσινο Ταμείο'!I20+'Α2.2.5 ΑΝΤΩΝΗΣ ΤΡΙΤΣΗΣ κτλ'!I20 -> 0 | J20: ='Α2.2.1 ΠΔΕ Εθνικό'!J20+'Α2.2.2 ΠΔΕ Συγχρημ.'!J20+'Α2.2.3 ΤΑΑ'!J20+'Α2.2.4 Πράσινο Ταμείο'!J20+'Α2.2.5 ΑΝΤΩΝΗΣ ΤΡΙΤΣΗΣ κτλ'!J20 -> 0 | K20: ='Α2.2.1 ΠΔΕ Εθνικό'!K20+'Α2.2.2 ΠΔΕ Συγχρημ.'!K20+'Α2.2.3 ΤΑΑ'!K20+'Α2.2.4 Πράσινο Ταμείο'!K20+'Α2.2.5 ΑΝΤΩΝΗΣ ΤΡΙΤΣΗΣ κτλ'!K20 -> 0 | L20: ='Α2.2.1 ΠΔΕ Εθνικό'!L20+'Α2.2.2 ΠΔΕ Συγχρημ.'!L20+'Α2.2.3 ΤΑΑ'!L20+'Α2.2.4 Πράσινο Ταμείο'!L20+'Α2.2.5 ΑΝΤΩΝΗΣ ΤΡΙΤΣΗΣ κτλ'!L20 -> 0
A21: 16 | B21: 62 | C21: Παροχές τρίτων (62) | D21: ='Α2.2.1 ΠΔΕ Εθνικό'!D21+'Α2.2.2 ΠΔΕ Συγχρημ.'!D21+'Α2.2.3 ΤΑΑ'!D21+'Α2.2.4 Πράσινο Ταμείο'!D21+'Α2.2.5 ΑΝΤΩΝΗΣ ΤΡΙΤΣΗΣ κτλ'!D21 -> 0 | E21: ='Α2.2.1 ΠΔΕ Εθνικό'!E21+'Α2.2.2 ΠΔΕ Συγχρημ.'!E21+'Α2.2.3 ΤΑΑ'!E21+'Α2.2.4 Πράσινο Ταμείο'!E21+'Α2.2.5 ΑΝΤΩΝΗΣ ΤΡΙΤΣΗΣ κτλ'!E21 -> 0 | F21: ='Α2.2.1 ΠΔΕ Εθνικό'!F21+'Α2.2.2 ΠΔΕ Συγχρημ.'!F21+'Α2.2.3 ΤΑΑ'!F21+'Α2.2.4 Πράσινο Ταμείο'!F21+'Α2.2.5 ΑΝΤΩΝΗΣ ΤΡΙΤΣΗΣ κτλ'!F21 -> 0 | G21: ='Α2.2.1 ΠΔΕ Εθνικό'!G21+'Α2.2.2 ΠΔΕ Συγχρημ.'!G21+'Α2.2.3 ΤΑΑ'!G21+'Α2.2.4 Πράσινο Ταμείο'!G21+'Α2.2.5 ΑΝΤΩΝΗΣ ΤΡΙΤΣΗΣ κτλ'!G21 -> 0 | H21: ='Α2.2.1 ΠΔΕ Εθνικό'!H21+'Α2.2.2 ΠΔΕ Συγχρημ.'!H21+'Α2.2.3 ΤΑΑ'!H21+'Α2.2.4 Πράσινο Ταμείο'!H21+'Α2.2.5 ΑΝΤΩΝΗΣ ΤΡΙΤΣΗΣ κτλ'!H21 -> 0 | I21: ='Α2.2.1 ΠΔΕ Εθνικό'!I21+'Α2.2.2 ΠΔΕ Συγχρημ.'!I21+'Α2.2.3 ΤΑΑ'!I21+'Α2.2.4 Πράσινο Ταμείο'!I21+'Α2.2.5 ΑΝΤΩΝΗΣ ΤΡΙΤΣΗΣ κτλ'!I21 -> 0 | J21: ='Α2.2.1 ΠΔΕ Εθνικό'!J21+'Α2.2.2 ΠΔΕ Συγχρημ.'!J21+'Α2.2.3 ΤΑΑ'!J21+'Α2.2.4 Πράσινο Ταμείο'!J21+'Α2.2.5 ΑΝΤΩΝΗΣ ΤΡΙΤΣΗΣ κτλ'!J21 -> 0 | K21: ='Α2.2.1 ΠΔΕ Εθνικό'!K21+'Α2.2.2 ΠΔΕ Συγχρημ.'!K21+'Α2.2.3 ΤΑΑ'!K21+'Α2.2.4 Πράσινο Ταμείο'!K21+'Α2.2.5 ΑΝΤΩΝΗΣ ΤΡΙΤΣΗΣ κτλ'!K21 -> 0 | L21: ='Α2.2.1 ΠΔΕ Εθνικό'!L21+'Α2.2.2 ΠΔΕ Συγχρημ.'!L21+'Α2.2.3 ΤΑΑ'!L21+'Α2.2.4 Πράσινο Ταμείο'!L21+'Α2.2.5 ΑΝΤΩΝΗΣ ΤΡΙΤΣΗΣ κτλ'!L21 -> 0
A22: 17 | B22: 63 | C22: Φόροι τέλη (63) | D22: ='Α2.2.1 ΠΔΕ Εθνικό'!D22+'Α2.2.2 ΠΔΕ Συγχρημ.'!D22+'Α2.2.3 ΤΑΑ'!D22+'Α2.2.4 Πράσινο Ταμείο'!D22+'Α2.2.5 ΑΝΤΩΝΗΣ ΤΡΙΤΣΗΣ κτλ'!D22 -> 0 | E22: ='Α2.2.1 ΠΔΕ Εθνικό'!E22+'Α2.2.2 ΠΔΕ Συγχρημ.'!E22+'Α2.2.3 ΤΑΑ'!E22+'Α2.2.4 Πράσινο Ταμείο'!E22+'Α2.2.5 ΑΝΤΩΝΗΣ ΤΡΙΤΣΗΣ κτλ'!E22 -> 0 | F22: ='Α2.2.1 ΠΔΕ Εθνικό'!F22+'Α2.2.2 ΠΔΕ Συγχρημ.'!F22+'Α2.2.3 ΤΑΑ'!F22+'Α2.2.4 Πράσινο Ταμείο'!F22+'Α2.2.5 ΑΝΤΩΝΗΣ ΤΡΙΤΣΗΣ κτλ'!F22 -> 0 | G22: ='Α2.2.1 ΠΔΕ Εθνικό'!G22+'Α2.2.2 ΠΔΕ Συγχρημ.'!G22+'Α2.2.3 ΤΑΑ'!G22+'Α2.2.4 Πράσινο Ταμείο'!G22+'Α2.2.5 ΑΝΤΩΝΗΣ ΤΡΙΤΣΗΣ κτλ'!G22 -> 0 | H22: ='Α2.2.1 ΠΔΕ Εθνικό'!H22+'Α2.2.2 ΠΔΕ Συγχρημ.'!H22+'Α2.2.3 ΤΑΑ'!H22+'Α2.2.4 Πράσινο Ταμείο'!H22+'Α2.2.5 ΑΝΤΩΝΗΣ ΤΡΙΤΣΗΣ κτλ'!H22 -> 0 | I22: ='Α2.2.1 ΠΔΕ Εθνικό'!I22+'Α2.2.2 ΠΔΕ Συγχρημ.'!I22+'Α2.2.3 ΤΑΑ'!I22+'Α2.2.4 Πράσινο Ταμείο'!I22+'Α2.2.5 ΑΝΤΩΝΗΣ ΤΡΙΤΣΗΣ κτλ'!I22 -> 0 | J22: ='Α2.2.1 ΠΔΕ Εθνικό'!J22+'Α2.2.2 ΠΔΕ Συγχρημ.'!J22+'Α2.2.3 ΤΑΑ'!J22+'Α2.2.4 Πράσινο Ταμείο'!J22+'Α2.2.5 ΑΝΤΩΝΗΣ ΤΡΙΤΣΗΣ κτλ'!J22 -> 0 | K22: ='Α2.2.1 ΠΔΕ Εθνικό'!K22+'Α2.2.2 ΠΔΕ Συγχρημ.'!K22+'Α2.2.3 ΤΑΑ'!K22+'Α2.2.4 Πράσινο Ταμείο'!K22+'Α2.2.5 ΑΝΤΩΝΗΣ ΤΡΙΤΣΗΣ κτλ'!K22 -> 0 | L22: ='Α2.2.1 ΠΔΕ Εθνικό'!L22+'Α2.2.2 ΠΔΕ Συγχρημ.'!L22+'Α2.2.3 ΤΑΑ'!L22+'Α2.2.4 Πράσινο Ταμείο'!L22+'Α2.2.5 ΑΝΤΩΝΗΣ ΤΡΙΤΣΗΣ κτλ'!L22 -> 0
A23: 18 | B23: 64 | C23: Διάφορα έξοδα (64 συν 60.05, πλην 64.11 και 64.12) | D23: ='Α2.2.1 ΠΔΕ Εθνικό'!D23+'Α2.2.2 ΠΔΕ Συγχρημ.'!D23+'Α2.2.3 ΤΑΑ'!D23+'Α2.2.4 Πράσινο Ταμείο'!D23+'Α2.2.5 ΑΝΤΩΝΗΣ ΤΡΙΤΣΗΣ κτλ'!D23 -> 0 | E23: ='Α2.2.1 ΠΔΕ Εθνικό'!E23+'Α2.2.2 ΠΔΕ Συγχρημ.'!E23+'Α2.2.3 ΤΑΑ'!E23+'Α2.2.4 Πράσινο Ταμείο'!E23+'Α2.2.5 ΑΝΤΩΝΗΣ ΤΡΙΤΣΗΣ κτλ'!E23 -> 0 | F23: ='Α2.2.1 ΠΔΕ Εθνικό'!F23+'Α2.2.2 ΠΔΕ Συγχρημ.'!F23+'Α2.2.3 ΤΑΑ'!F23+'Α2.2.4 Πράσινο Ταμείο'!F23+'Α2.2.5 ΑΝΤΩΝΗΣ ΤΡΙΤΣΗΣ κτλ'!F23 -> 0 | G23: ='Α2.2.1 ΠΔΕ Εθνικό'!G23+'Α2.2.2 ΠΔΕ Συγχρημ.'!G23+'Α2.2.3 ΤΑΑ'!G23+'Α2.2.4 Πράσινο Ταμείο'!G23+'Α2.2.5 ΑΝΤΩΝΗΣ ΤΡΙΤΣΗΣ κτλ'!G23 -> 0 | H23: ='Α2.2.1 ΠΔΕ Εθνικό'!H23+'Α2.2.2 ΠΔΕ Συγχρημ.'!H23+'Α2.2.3 ΤΑΑ'!H23+'Α2.2.4 Πράσινο Ταμείο'!H23+'Α2.2.5 ΑΝΤΩΝΗΣ ΤΡΙΤΣΗΣ κτλ'!H23 -> 0 | I23: ='Α2.2.1 ΠΔΕ Εθνικό'!I23+'Α2.2.2 ΠΔΕ Συγχρημ.'!I23+'Α2.2.3 ΤΑΑ'!I23+'Α2.2.4 Πράσινο Ταμείο'!I23+'Α2.2.5 ΑΝΤΩΝΗΣ ΤΡΙΤΣΗΣ κτλ'!I23 -> 0 | J23: ='Α2.2.1 ΠΔΕ Εθνικό'!J23+'Α2.2.2 ΠΔΕ Συγχρημ.'!J23+'Α2.2.3 ΤΑΑ'!J23+'Α2.2.4 Πράσινο Ταμείο'!J23+'Α2.2.5 ΑΝΤΩΝΗΣ ΤΡΙΤΣΗΣ κτλ'!J23 -> 0 | K23: ='Α2.2.1 ΠΔΕ Εθνικό'!K23+'Α2.2.2 ΠΔΕ Συγχρημ.'!K23+'Α2.2.3 ΤΑΑ'!K23+'Α2.2.4 Πράσινο Ταμείο'!K23+'Α2.2.5 ΑΝΤΩΝΗΣ ΤΡΙΤΣΗΣ κτλ'!K23 -> 0 | L23: ='Α2.2.1 ΠΔΕ Εθνικό'!L23+'Α2.2.2 ΠΔΕ Συγχρημ.'!L23+'Α2.2.3 ΤΑΑ'!L23+'Α2.2.4 Πράσινο Ταμείο'!L23+'Α2.2.5 ΑΝΤΩΝΗΣ ΤΡΙΤΣΗΣ κτλ'!L23 -> 0
A24: 19 | B24: 65 | C24: Τόκοι και συναφή έξοδα (65 συν 16.18) | D24: ='Α2.2.1 ΠΔΕ Εθνικό'!D24+'Α2.2.2 ΠΔΕ Συγχρημ.'!D24+'Α2.2.3 ΤΑΑ'!D24+'Α2.2.4 Πράσινο Ταμείο'!D24+'Α2.2.5 ΑΝΤΩΝΗΣ ΤΡΙΤΣΗΣ κτλ'!D24 -> 0 | E24: ='Α2.2.1 ΠΔΕ Εθνικό'!E24+'Α2.2.2 ΠΔΕ Συγχρημ.'!E24+'Α2.2.3 ΤΑΑ'!E24+'Α2.2.4 Πράσινο Ταμείο'!E24+'Α2.2.5 ΑΝΤΩΝΗΣ ΤΡΙΤΣΗΣ κτλ'!E24 -> 0 | F24: ='Α2.2.1 ΠΔΕ Εθνικό'!F24+'Α2.2.2 ΠΔΕ Συγχρημ.'!F24+'Α2.2.3 ΤΑΑ'!F24+'Α2.2.4 Πράσινο Ταμείο'!F24+'Α2.2.5 ΑΝΤΩΝΗΣ ΤΡΙΤΣΗΣ κτλ'!F24 -> 0 | G24: ='Α2.2.1 ΠΔΕ Εθνικό'!G24+'Α2.2.2 ΠΔΕ Συγχρημ.'!G24+'Α2.2.3 ΤΑΑ'!G24+'Α2.2.4 Πράσινο Ταμείο'!G24+'Α2.2.5 ΑΝΤΩΝΗΣ ΤΡΙΤΣΗΣ κτλ'!G24 -> 0 | H24: ='Α2.2.1 ΠΔΕ Εθνικό'!H24+'Α2.2.2 ΠΔΕ Συγχρημ.'!H24+'Α2.2.3 ΤΑΑ'!H24+'Α2.2.4 Πράσινο Ταμείο'!H24+'Α2.2.5 ΑΝΤΩΝΗΣ ΤΡΙΤΣΗΣ κτλ'!H24 -> 0 | I24: ='Α2.2.1 ΠΔΕ Εθνικό'!I24+'Α2.2.2 ΠΔΕ Συγχρημ.'!I24+'Α2.2.3 ΤΑΑ'!I24+'Α2.2.4 Πράσινο Ταμείο'!I24+'Α2.2.5 ΑΝΤΩΝΗΣ ΤΡΙΤΣΗΣ κτλ'!I24 -> 0 | J24: ='Α2.2.1 ΠΔΕ Εθνικό'!J24+'Α2.2.2 ΠΔΕ Συγχρημ.'!J24+'Α2.2.3 ΤΑΑ'!J24+'Α2.2.4 Πράσινο Ταμείο'!J24+'Α2.2.5 ΑΝΤΩΝΗΣ ΤΡΙΤΣΗΣ κτλ'!J24 -> 0 | K24: ='Α2.2.1 ΠΔΕ Εθνικό'!K24+'Α2.2.2 ΠΔΕ Συγχρημ.'!K24+'Α2.2.3 ΤΑΑ'!K24+'Α2.2.4 Πράσινο Ταμείο'!K24+'Α2.2.5 ΑΝΤΩΝΗΣ ΤΡΙΤΣΗΣ κτλ'!K24 -> 0 | L24: ='Α2.2.1 ΠΔΕ Εθνικό'!L24+'Α2.2.2 ΠΔΕ Συγχρημ.'!L24+'Α2.2.3 ΤΑΑ'!L24+'Α2.2.4 Πράσινο Ταμείο'!L24+'Α2.2.5 ΑΝΤΩΝΗΣ ΤΡΙΤΣΗΣ κτλ'!L24 -> 0
A25: 20 | B25: 67 | C25: Έξοδα που δεν εντάσσονται στους λοιπούς λογαριασμούς και παρακολουθούνται στον λογ. 67 από τον φορέα | D25: ='Α2.2.1 ΠΔΕ Εθνικό'!D25+'Α2.2.2 ΠΔΕ Συγχρημ.'!D25+'Α2.2.3 ΤΑΑ'!D25+'Α2.2.4 Πράσινο Ταμείο'!D25+'Α2.2.5 ΑΝΤΩΝΗΣ ΤΡΙΤΣΗΣ κτλ'!D25 -> 0 | E25: ='Α2.2.1 ΠΔΕ Εθνικό'!E25+'Α2.2.2 ΠΔΕ Συγχρημ.'!E25+'Α2.2.3 ΤΑΑ'!E25+'Α2.2.4 Πράσινο Ταμείο'!E25+'Α2.2.5 ΑΝΤΩΝΗΣ ΤΡΙΤΣΗΣ κτλ'!E25 -> 0 | F25: ='Α2.2.1 ΠΔΕ Εθνικό'!F25+'Α2.2.2 ΠΔΕ Συγχρημ.'!F25+'Α2.2.3 ΤΑΑ'!F25+'Α2.2.4 Πράσινο Ταμείο'!F25+'Α2.2.5 ΑΝΤΩΝΗΣ ΤΡΙΤΣΗΣ κτλ'!F25 -> 0 | G25: ='Α2.2.1 ΠΔΕ Εθνικό'!G25+'Α2.2.2 ΠΔΕ Συγχρημ.'!G25+'Α2.2.3 ΤΑΑ'!G25+'Α2.2.4 Πράσινο Ταμείο'!G25+'Α2.2.5 ΑΝΤΩΝΗΣ ΤΡΙΤΣΗΣ κτλ'!G25 -> 0 | H25: ='Α2.2.1 ΠΔΕ Εθνικό'!H25+'Α2.2.2 ΠΔΕ Συγχρημ.'!H25+'Α2.2.3 ΤΑΑ'!H25+'Α2.2.4 Πράσινο Ταμείο'!H25+'Α2.2.5 ΑΝΤΩΝΗΣ ΤΡΙΤΣΗΣ κτλ'!H25 -> 0 | I25: ='Α2.2.1 ΠΔΕ Εθνικό'!I25+'Α2.2.2 ΠΔΕ Συγχρημ.'!I25+'Α2.2.3 ΤΑΑ'!I25+'Α2.2.4 Πράσινο Ταμείο'!I25+'Α2.2.5 ΑΝΤΩΝΗΣ ΤΡΙΤΣΗΣ κτλ'!I25 -> 0 | J25: ='Α2.2.1 ΠΔΕ Εθνικό'!J25+'Α2.2.2 ΠΔΕ Συγχρημ.'!J25+'Α2.2.3 ΤΑΑ'!J25+'Α2.2.4 Πράσινο Ταμείο'!J25+'Α2.2.5 ΑΝΤΩΝΗΣ ΤΡΙΤΣΗΣ κτλ'!J25 -> 0 | K25: ='Α2.2.1 ΠΔΕ Εθνικό'!K25+'Α2.2.2 ΠΔΕ Συγχρημ.'!K25+'Α2.2.3 ΤΑΑ'!K25+'Α2.2.4 Πράσινο Ταμείο'!K25+'Α2.2.5 ΑΝΤΩΝΗΣ ΤΡΙΤΣΗΣ κτλ'!K25 -> 0 | L25: ='Α2.2.1 ΠΔΕ Εθνικό'!L25+'Α2.2.2 ΠΔΕ Συγχρημ.'!L25+'Α2.2.3 ΤΑΑ'!L25+'Α2.2.4 Πράσινο Ταμείο'!L25+'Α2.2.5 ΑΝΤΩΝΗΣ ΤΡΙΤΣΗΣ κτλ'!L25 -> 0
A26: 21 | B26: 69 | C26: Έξοδα που δεν εντάσσονται στους λοιπούς λογαριασμούς και παρακολουθούνται στον λογ. 69 από τον φορέα | D26: ='Α2.2.1 ΠΔΕ Εθνικό'!D26+'Α2.2.2 ΠΔΕ Συγχρημ.'!D26+'Α2.2.3 ΤΑΑ'!D26+'Α2.2.4 Πράσινο Ταμείο'!D26+'Α2.2.5 ΑΝΤΩΝΗΣ ΤΡΙΤΣΗΣ κτλ'!D26 -> 0 | E26: ='Α2.2.1 ΠΔΕ Εθνικό'!E26+'Α2.2.2 ΠΔΕ Συγχρημ.'!E26+'Α2.2.3 ΤΑΑ'!E26+'Α2.2.4 Πράσινο Ταμείο'!E26+'Α2.2.5 ΑΝΤΩΝΗΣ ΤΡΙΤΣΗΣ κτλ'!E26 -> 0 | F26: ='Α2.2.1 ΠΔΕ Εθνικό'!F26+'Α2.2.2 ΠΔΕ Συγχρημ.'!F26+'Α2.2.3 ΤΑΑ'!F26+'Α2.2.4 Πράσινο Ταμείο'!F26+'Α2.2.5 ΑΝΤΩΝΗΣ ΤΡΙΤΣΗΣ κτλ'!F26 -> 0 | G26: ='Α2.2.1 ΠΔΕ Εθνικό'!G26+'Α2.2.2 ΠΔΕ Συγχρημ.'!G26+'Α2.2.3 ΤΑΑ'!G26+'Α2.2.4 Πράσινο Ταμείο'!G26+'Α2.2.5 ΑΝΤΩΝΗΣ ΤΡΙΤΣΗΣ κτλ'!G26 -> 0 | H26: ='Α2.2.1 ΠΔΕ Εθνικό'!H26+'Α2.2.2 ΠΔΕ Συγχρημ.'!H26+'Α2.2.3 ΤΑΑ'!H26+'Α2.2.4 Πράσινο Ταμείο'!H26+'Α2.2.5 ΑΝΤΩΝΗΣ ΤΡΙΤΣΗΣ κτλ'!H26 -> 0 | I26: ='Α2.2.1 ΠΔΕ Εθνικό'!I26+'Α2.2.2 ΠΔΕ Συγχρημ.'!I26+'Α2.2.3 ΤΑΑ'!I26+'Α2.2.4 Πράσινο Ταμείο'!I26+'Α2.2.5 ΑΝΤΩΝΗΣ ΤΡΙΤΣΗΣ κτλ'!I26 -> 0 | J26: ='Α2.2.1 ΠΔΕ Εθνικό'!J26+'Α2.2.2 ΠΔΕ Συγχρημ.'!J26+'Α2.2.3 ΤΑΑ'!J26+'Α2.2.4 Πράσινο Ταμείο'!J26+'Α2.2.5 ΑΝΤΩΝΗΣ ΤΡΙΤΣΗΣ κτλ'!J26 -> 0 | K26: ='Α2.2.1 ΠΔΕ Εθνικό'!K26+'Α2.2.2 ΠΔΕ Συγχρημ.'!K26+'Α2.2.3 ΤΑΑ'!K26+'Α2.2.4 Πράσινο Ταμείο'!K26+'Α2.2.5 ΑΝΤΩΝΗΣ ΤΡΙΤΣΗΣ κτλ'!K26 -> 0 | L26: ='Α2.2.1 ΠΔΕ Εθνικό'!L26+'Α2.2.2 ΠΔΕ Συγχρημ.'!L26+'Α2.2.3 ΤΑΑ'!L26+'Α2.2.4 Πράσινο Ταμείο'!L26+'Α2.2.5 ΑΝΤΩΝΗΣ ΤΡΙΤΣΗΣ κτλ'!L26 -> 0
A27: 22 | B27: 53.01 | C27: Μερίσματα πληρωτέα (53.01) | D27: ='Α2.2.1 ΠΔΕ Εθνικό'!D27+'Α2.2.2 ΠΔΕ Συγχρημ.'!D27+'Α2.2.3 ΤΑΑ'!D27+'Α2.2.4 Πράσινο Ταμείο'!D27+'Α2.2.5 ΑΝΤΩΝΗΣ ΤΡΙΤΣΗΣ κτλ'!D27 -> 0 | E27: ='Α2.2.1 ΠΔΕ Εθνικό'!E27+'Α2.2.2 ΠΔΕ Συγχρημ.'!E27+'Α2.2.3 ΤΑΑ'!E27+'Α2.2.4 Πράσινο Ταμείο'!E27+'Α2.2.5 ΑΝΤΩΝΗΣ ΤΡΙΤΣΗΣ κτλ'!E27 -> 0 | F27: ='Α2.2.1 ΠΔΕ Εθνικό'!F27+'Α2.2.2 ΠΔΕ Συγχρημ.'!F27+'Α2.2.3 ΤΑΑ'!F27+'Α2.2.4 Πράσινο Ταμείο'!F27+'Α2.2.5 ΑΝΤΩΝΗΣ ΤΡΙΤΣΗΣ κτλ'!F27 -> 0 | G27: ='Α2.2.1 ΠΔΕ Εθνικό'!G27+'Α2.2.2 ΠΔΕ Συγχρημ.'!G27+'Α2.2.3 ΤΑΑ'!G27+'Α2.2.4 Πράσινο Ταμείο'!G27+'Α2.2.5 ΑΝΤΩΝΗΣ ΤΡΙΤΣΗΣ κτλ'!G27 -> 0 | H27: ='Α2.2.1 ΠΔΕ Εθνικό'!H27+'Α2.2.2 ΠΔΕ Συγχρημ.'!H27+'Α2.2.3 ΤΑΑ'!H27+'Α2.2.4 Πράσινο Ταμείο'!H27+'Α2.2.5 ΑΝΤΩΝΗΣ ΤΡΙΤΣΗΣ κτλ'!H27 -> 0 | I27: ='Α2.2.1 ΠΔΕ Εθνικό'!I27+'Α2.2.2 ΠΔΕ Συγχρημ.'!I27+'Α2.2.3 ΤΑΑ'!I27+'Α2.2.4 Πράσινο Ταμείο'!I27+'Α2.2.5 ΑΝΤΩΝΗΣ ΤΡΙΤΣΗΣ κτλ'!I27 -> 0 | J27: ='Α2.2.1 ΠΔΕ Εθνικό'!J27+'Α2.2.2 ΠΔΕ Συγχρημ.'!J27+'Α2.2.3 ΤΑΑ'!J27+'Α2.2.4 Πράσινο Ταμείο'!J27+'Α2.2.5 ΑΝΤΩΝΗΣ ΤΡΙΤΣΗΣ κτλ'!J27 -> 0 | K27: ='Α2.2.1 ΠΔΕ Εθνικό'!K27+'Α2.2.2 ΠΔΕ Συγχρημ.'!K27+'Α2.2.3 ΤΑΑ'!K27+'Α2.2.4 Πράσινο Ταμείο'!K27+'Α2.2.5 ΑΝΤΩΝΗΣ ΤΡΙΤΣΗΣ κτλ'!K27 -> 0 | L27: ='Α2.2.1 ΠΔΕ Εθνικό'!L27+'Α2.2.2 ΠΔΕ Συγχρημ.'!L27+'Α2.2.3 ΤΑΑ'!L27+'Α2.2.4 Πράσινο Ταμείο'!L27+'Α2.2.5 ΑΝΤΩΝΗΣ ΤΡΙΤΣΗΣ κτλ'!L27 -> 0
A28: 23 | B28: 54.08 | C28: Λογαριασμός εκκαθάρισης φόρων - τελών ετήσιας δήλωσης φόρου εισοδήματος (54.08) | D28: ='Α2.2.1 ΠΔΕ Εθνικό'!D28+'Α2.2.2 ΠΔΕ Συγχρημ.'!D28+'Α2.2.3 ΤΑΑ'!D28+'Α2.2.4 Πράσινο Ταμείο'!D28+'Α2.2.5 ΑΝΤΩΝΗΣ ΤΡΙΤΣΗΣ κτλ'!D28 -> 0 | E28: ='Α2.2.1 ΠΔΕ Εθνικό'!E28+'Α2.2.2 ΠΔΕ Συγχρημ.'!E28+'Α2.2.3 ΤΑΑ'!E28+'Α2.2.4 Πράσινο Ταμείο'!E28+'Α2.2.5 ΑΝΤΩΝΗΣ ΤΡΙΤΣΗΣ κτλ'!E28 -> 0 | F28: ='Α2.2.1 ΠΔΕ Εθνικό'!F28+'Α2.2.2 ΠΔΕ Συγχρημ.'!F28+'Α2.2.3 ΤΑΑ'!F28+'Α2.2.4 Πράσινο Ταμείο'!F28+'Α2.2.5 ΑΝΤΩΝΗΣ ΤΡΙΤΣΗΣ κτλ'!F28 -> 0 | G28: ='Α2.2.1 ΠΔΕ Εθνικό'!G28+'Α2.2.2 ΠΔΕ Συγχρημ.'!G28+'Α2.2.3 ΤΑΑ'!G28+'Α2.2.4 Πράσινο Ταμείο'!G28+'Α2.2.5 ΑΝΤΩΝΗΣ ΤΡΙΤΣΗΣ κτλ'!G28 -> 0 | H28: ='Α2.2.1 ΠΔΕ Εθνικό'!H28+'Α2.2.2 ΠΔΕ Συγχρημ.'!H28+'Α2.2.3 ΤΑΑ'!H28+'Α2.2.4 Πράσινο Ταμείο'!H28+'Α2.2.5 ΑΝΤΩΝΗΣ ΤΡΙΤΣΗΣ κτλ'!H28 -> 0 | I28: ='Α2.2.1 ΠΔΕ Εθνικό'!I28+'Α2.2.2 ΠΔΕ Συγχρημ.'!I28+'Α2.2.3 ΤΑΑ'!I28+'Α2.2.4 Πράσινο Ταμείο'!I28+'Α2.2.5 ΑΝΤΩΝΗΣ ΤΡΙΤΣΗΣ κτλ'!I28 -> 0 | J28: ='Α2.2.1 ΠΔΕ Εθνικό'!J28+'Α2.2.2 ΠΔΕ Συγχρημ.'!J28+'Α2.2.3 ΤΑΑ'!J28+'Α2.2.4 Πράσινο Ταμείο'!J28+'Α2.2.5 ΑΝΤΩΝΗΣ ΤΡΙΤΣΗΣ κτλ'!J28 -> 0 | K28: ='Α2.2.1 ΠΔΕ Εθνικό'!K28+'Α2.2.2 ΠΔΕ Συγχρημ.'!K28+'Α2.2.3 ΤΑΑ'!K28+'Α2.2.4 Πράσινο Ταμείο'!K28+'Α2.2.5 ΑΝΤΩΝΗΣ ΤΡΙΤΣΗΣ κτλ'!K28 -> 0 | L28: ='Α2.2.1 ΠΔΕ Εθνικό'!L28+'Α2.2.2 ΠΔΕ Συγχρημ.'!L28+'Α2.2.3 ΤΑΑ'!L28+'Α2.2.4 Πράσινο Ταμείο'!L28+'Α2.2.5 ΑΝΤΩΝΗΣ ΤΡΙΤΣΗΣ κτλ'!L28 -> 0
A29: 24 | B29: 81 | C29: Έκτακτα και ανόργανα έξοδα (81.00 πλην 81.00.03 και 81.00.04) | D29: ='Α2.2.1 ΠΔΕ Εθνικό'!D29+'Α2.2.2 ΠΔΕ Συγχρημ.'!D29+'Α2.2.3 ΤΑΑ'!D29+'Α2.2.4 Πράσινο Ταμείο'!D29+'Α2.2.5 ΑΝΤΩΝΗΣ ΤΡΙΤΣΗΣ κτλ'!D29 -> 0 | E29: ='Α2.2.1 ΠΔΕ Εθνικό'!E29+'Α2.2.2 ΠΔΕ Συγχρημ.'!E29+'Α2.2.3 ΤΑΑ'!E29+'Α2.2.4 Πράσινο Ταμείο'!E29+'Α2.2.5 ΑΝΤΩΝΗΣ ΤΡΙΤΣΗΣ κτλ'!E29 -> 0 | F29: ='Α2.2.1 ΠΔΕ Εθνικό'!F29+'Α2.2.2 ΠΔΕ Συγχρημ.'!F29+'Α2.2.3 ΤΑΑ'!F29+'Α2.2.4 Πράσινο Ταμείο'!F29+'Α2.2.5 ΑΝΤΩΝΗΣ ΤΡΙΤΣΗΣ κτλ'!F29 -> 0 | G29: ='Α2.2.1 ΠΔΕ Εθνικό'!G29+'Α2.2.2 ΠΔΕ Συγχρημ.'!G29+'Α2.2.3 ΤΑΑ'!G29+'Α2.2.4 Πράσινο Ταμείο'!G29+'Α2.2.5 ΑΝΤΩΝΗΣ ΤΡΙΤΣΗΣ κτλ'!G29 -> 0 | H29: ='Α2.2.1 ΠΔΕ Εθνικό'!H29+'Α2.2.2 ΠΔΕ Συγχρημ.'!H29+'Α2.2.3 ΤΑΑ'!H29+'Α2.2.4 Πράσινο Ταμείο'!H29+'Α2.2.5 ΑΝΤΩΝΗΣ ΤΡΙΤΣΗΣ κτλ'!H29 -> 0 | I29: ='Α2.2.1 ΠΔΕ Εθνικό'!I29+'Α2.2.2 ΠΔΕ Συγχρημ.'!I29+'Α2.2.3 ΤΑΑ'!I29+'Α2.2.4 Πράσινο Ταμείο'!I29+'Α2.2.5 ΑΝΤΩΝΗΣ ΤΡΙΤΣΗΣ κτλ'!I29 -> 0 | J29: ='Α2.2.1 ΠΔΕ Εθνικό'!J29+'Α2.2.2 ΠΔΕ Συγχρημ.'!J29+'Α2.2.3 ΤΑΑ'!J29+'Α2.2.4 Πράσινο Ταμείο'!J29+'Α2.2.5 ΑΝΤΩΝΗΣ ΤΡΙΤΣΗΣ κτλ'!J29 -> 0 | K29: ='Α2.2.1 ΠΔΕ Εθνικό'!K29+'Α2.2.2 ΠΔΕ Συγχρημ.'!K29+'Α2.2.3 ΤΑΑ'!K29+'Α2.2.4 Πράσινο Ταμείο'!K29+'Α2.2.5 ΑΝΤΩΝΗΣ ΤΡΙΤΣΗΣ κτλ'!K29 -> 0 | L29: ='Α2.2.1 ΠΔΕ Εθνικό'!L29+'Α2.2.2 ΠΔΕ Συγχρημ.'!L29+'Α2.2.3 ΤΑΑ'!L29+'Α2.2.4 Πράσινο Ταμείο'!L29+'Α2.2.5 ΑΝΤΩΝΗΣ ΤΡΙΤΣΗΣ κτλ'!L29 -> 0
A30: 25 | B30: 82 | C30: Έξοδα προηγούμενων χρήσεων (82.00) | D30: ='Α2.2.1 ΠΔΕ Εθνικό'!D30+'Α2.2.2 ΠΔΕ Συγχρημ.'!D30+'Α2.2.3 ΤΑΑ'!D30+'Α2.2.4 Πράσινο Ταμείο'!D30+'Α2.2.5 ΑΝΤΩΝΗΣ ΤΡΙΤΣΗΣ κτλ'!D30 -> 0 | E30: ='Α2.2.1 ΠΔΕ Εθνικό'!E30+'Α2.2.2 ΠΔΕ Συγχρημ.'!E30+'Α2.2.3 ΤΑΑ'!E30+'Α2.2.4 Πράσινο Ταμείο'!E30+'Α2.2.5 ΑΝΤΩΝΗΣ ΤΡΙΤΣΗΣ κτλ'!E30 -> 0 | F30: ='Α2.2.1 ΠΔΕ Εθνικό'!F30+'Α2.2.2 ΠΔΕ Συγχρημ.'!F30+'Α2.2.3 ΤΑΑ'!F30+'Α2.2.4 Πράσινο Ταμείο'!F30+'Α2.2.5 ΑΝΤΩΝΗΣ ΤΡΙΤΣΗΣ κτλ'!F30 -> 0 | G30: ='Α2.2.1 ΠΔΕ Εθνικό'!G30+'Α2.2.2 ΠΔΕ Συγχρημ.'!G30+'Α2.2.3 ΤΑΑ'!G30+'Α2.2.4 Πράσινο Ταμείο'!G30+'Α2.2.5 ΑΝΤΩΝΗΣ ΤΡΙΤΣΗΣ κτλ'!G30 -> 0 | H30: ='Α2.2.1 ΠΔΕ Εθνικό'!H30+'Α2.2.2 ΠΔΕ Συγχρημ.'!H30+'Α2.2.3 ΤΑΑ'!H30+'Α2.2.4 Πράσινο Ταμείο'!H30+'Α2.2.5 ΑΝΤΩΝΗΣ ΤΡΙΤΣΗΣ κτλ'!H30 -> 0 | I30: ='Α2.2.1 ΠΔΕ Εθνικό'!I30+'Α2.2.2 ΠΔΕ Συγχρημ.'!I30+'Α2.2.3 ΤΑΑ'!I30+'Α2.2.4 Πράσινο Ταμείο'!I30+'Α2.2.5 ΑΝΤΩΝΗΣ ΤΡΙΤΣΗΣ κτλ'!I30 -> 0 | J30: ='Α2.2.1 ΠΔΕ Εθνικό'!J30+'Α2.2.2 ΠΔΕ Συγχρημ.'!J30+'Α2.2.3 ΤΑΑ'!J30+'Α2.2.4 Πράσινο Ταμείο'!J30+'Α2.2.5 ΑΝΤΩΝΗΣ ΤΡΙΤΣΗΣ κτλ'!J30 -> 0 | K30: ='Α2.2.1 ΠΔΕ Εθνικό'!K30+'Α2.2.2 ΠΔΕ Συγχρημ.'!K30+'Α2.2.3 ΤΑΑ'!K30+'Α2.2.4 Πράσινο Ταμείο'!K30+'Α2.2.5 ΑΝΤΩΝΗΣ ΤΡΙΤΣΗΣ κτλ'!K30 -> 0 | L30: ='Α2.2.1 ΠΔΕ Εθνικό'!L30+'Α2.2.2 ΠΔΕ Συγχρημ.'!L30+'Α2.2.3 ΤΑΑ'!L30+'Α2.2.4 Πράσινο Ταμείο'!L30+'Α2.2.5 ΑΝΤΩΝΗΣ ΤΡΙΤΣΗΣ κτλ'!L30 -> 0
A31: 26 | B31: 10+11+12+13+14+15+16 | C31: Αγορές παγίων περιουσιακών στοιχείων (10+11+12+13+14+15+16-16.18) | D31: ='Α2.2.1 ΠΔΕ Εθνικό'!D31+'Α2.2.2 ΠΔΕ Συγχρημ.'!D31+'Α2.2.3 ΤΑΑ'!D31+'Α2.2.4 Πράσινο Ταμείο'!D31+'Α2.2.5 ΑΝΤΩΝΗΣ ΤΡΙΤΣΗΣ κτλ'!D31 -> 0 | E31: ='Α2.2.1 ΠΔΕ Εθνικό'!E31+'Α2.2.2 ΠΔΕ Συγχρημ.'!E31+'Α2.2.3 ΤΑΑ'!E31+'Α2.2.4 Πράσινο Ταμείο'!E31+'Α2.2.5 ΑΝΤΩΝΗΣ ΤΡΙΤΣΗΣ κτλ'!E31 -> 0 | F31: ='Α2.2.1 ΠΔΕ Εθνικό'!F31+'Α2.2.2 ΠΔΕ Συγχρημ.'!F31+'Α2.2.3 ΤΑΑ'!F31+'Α2.2.4 Πράσινο Ταμείο'!F31+'Α2.2.5 ΑΝΤΩΝΗΣ ΤΡΙΤΣΗΣ κτλ'!F31 -> 0 | G31: ='Α2.2.1 ΠΔΕ Εθνικό'!G31+'Α2.2.2 ΠΔΕ Συγχρημ.'!G31+'Α2.2.3 ΤΑΑ'!G31+'Α2.2.4 Πράσινο Ταμείο'!G31+'Α2.2.5 ΑΝΤΩΝΗΣ ΤΡΙΤΣΗΣ κτλ'!G31 -> 0 | H31: ='Α2.2.1 ΠΔΕ Εθνικό'!H31+'Α2.2.2 ΠΔΕ Συγχρημ.'!H31+'Α2.2.3 ΤΑΑ'!H31+'Α2.2.4 Πράσινο Ταμείο'!H31+'Α2.2.5 ΑΝΤΩΝΗΣ ΤΡΙΤΣΗΣ κτλ'!H31 -> 0 | I31: ='Α2.2.1 ΠΔΕ Εθνικό'!I31+'Α2.2.2 ΠΔΕ Συγχρημ.'!I31+'Α2.2.3 ΤΑΑ'!I31+'Α2.2.4 Πράσινο Ταμείο'!I31+'Α2.2.5 ΑΝΤΩΝΗΣ ΤΡΙΤΣΗΣ κτλ'!I31 -> 0 | J31: ='Α2.2.1 ΠΔΕ Εθνικό'!J31+'Α2.2.2 ΠΔΕ Συγχρημ.'!J31+'Α2.2.3 ΤΑΑ'!J31+'Α2.2.4 Πράσινο Ταμείο'!J31+'Α2.2.5 ΑΝΤΩΝΗΣ ΤΡΙΤΣΗΣ κτλ'!J31 -> 0 | K31: ='Α2.2.1 ΠΔΕ Εθνικό'!K31+'Α2.2.2 ΠΔΕ Συγχρημ.'!K31+'Α2.2.3 ΤΑΑ'!K31+'Α2.2.4 Πράσινο Ταμείο'!K31+'Α2.2.5 ΑΝΤΩΝΗΣ ΤΡΙΤΣΗΣ κτλ'!K31 -> 0 | L31: ='Α2.2.1 ΠΔΕ Εθνικό'!L31+'Α2.2.2 ΠΔΕ Συγχρημ.'!L31+'Α2.2.3 ΤΑΑ'!L31+'Α2.2.4 Πράσινο Ταμείο'!L31+'Α2.2.5 ΑΝΤΩΝΗΣ ΤΡΙΤΣΗΣ κτλ'!L31 -> 0
A32: 27 | B32: 20+24+25+26+28 | C32: Αγορές εμπορευμάτων, πρώτων και βοηθητικών υλών, ανταλλακτικών και λοιπών αποθεμάτων (20+24+25+26+28) | D32: ='Α2.2.1 ΠΔΕ Εθνικό'!D32+'Α2.2.2 ΠΔΕ Συγχρημ.'!D32+'Α2.2.3 ΤΑΑ'!D32+'Α2.2.4 Πράσινο Ταμείο'!D32+'Α2.2.5 ΑΝΤΩΝΗΣ ΤΡΙΤΣΗΣ κτλ'!D32 -> 0 | E32: ='Α2.2.1 ΠΔΕ Εθνικό'!E32+'Α2.2.2 ΠΔΕ Συγχρημ.'!E32+'Α2.2.3 ΤΑΑ'!E32+'Α2.2.4 Πράσινο Ταμείο'!E32+'Α2.2.5 ΑΝΤΩΝΗΣ ΤΡΙΤΣΗΣ κτλ'!E32 -> 0 | F32: ='Α2.2.1 ΠΔΕ Εθνικό'!F32+'Α2.2.2 ΠΔΕ Συγχρημ.'!F32+'Α2.2.3 ΤΑΑ'!F32+'Α2.2.4 Πράσινο Ταμείο'!F32+'Α2.2.5 ΑΝΤΩΝΗΣ ΤΡΙΤΣΗΣ κτλ'!F32 -> 0 | G32: ='Α2.2.1 ΠΔΕ Εθνικό'!G32+'Α2.2.2 ΠΔΕ Συγχρημ.'!G32+'Α2.2.3 ΤΑΑ'!G32+'Α2.2.4 Πράσινο Ταμείο'!G32+'Α2.2.5 ΑΝΤΩΝΗΣ ΤΡΙΤΣΗΣ κτλ'!G32 -> 0 | H32: ='Α2.2.1 ΠΔΕ Εθνικό'!H32+'Α2.2.2 ΠΔΕ Συγχρημ.'!H32+'Α2.2.3 ΤΑΑ'!H32+'Α2.2.4 Πράσινο Ταμείο'!H32+'Α2.2.5 ΑΝΤΩΝΗΣ ΤΡΙΤΣΗΣ κτλ'!H32 -> 0 | I32: ='Α2.2.1 ΠΔΕ Εθνικό'!I32+'Α2.2.2 ΠΔΕ Συγχρημ.'!I32+'Α2.2.3 ΤΑΑ'!I32+'Α2.2.4 Πράσινο Ταμείο'!I32+'Α2.2.5 ΑΝΤΩΝΗΣ ΤΡΙΤΣΗΣ κτλ'!I32 -> 0 | J32: ='Α2.2.1 ΠΔΕ Εθνικό'!J32+'Α2.2.2 ΠΔΕ Συγχρημ.'!J32+'Α2.2.3 ΤΑΑ'!J32+'Α2.2.4 Πράσινο Ταμείο'!J32+'Α2.2.5 ΑΝΤΩΝΗΣ ΤΡΙΤΣΗΣ κτλ'!J32 -> 0 | K32: ='Α2.2.1 ΠΔΕ Εθνικό'!K32+'Α2.2.2 ΠΔΕ Συγχρημ.'!K32+'Α2.2.3 ΤΑΑ'!K32+'Α2.2.4 Πράσινο Ταμείο'!K32+'Α2.2.5 ΑΝΤΩΝΗΣ ΤΡΙΤΣΗΣ κτλ'!K32 -> 0 | L32: ='Α2.2.1 ΠΔΕ Εθνικό'!L32+'Α2.2.2 ΠΔΕ Συγχρημ.'!L32+'Α2.2.3 ΤΑΑ'!L32+'Α2.2.4 Πράσινο Ταμείο'!L32+'Α2.2.5 ΑΝΤΩΝΗΣ ΤΡΙΤΣΗΣ κτλ'!L32 -> 0
A33: Γ | B33: Ισοζύγιο (Α-Β) | D33: ='Α2.2.1 ΠΔΕ Εθνικό'!D33+'Α2.2.2 ΠΔΕ Συγχρημ.'!D33+'Α2.2.3 ΤΑΑ'!D33+'Α2.2.4 Πράσινο Ταμείο'!D33+'Α2.2.5 ΑΝΤΩΝΗΣ ΤΡΙΤΣΗΣ κτλ'!D33 -> 0 | E33: ='Α2.2.1 ΠΔΕ Εθνικό'!E33+'Α2.2.2 ΠΔΕ Συγχρημ.'!E33+'Α2.2.3 ΤΑΑ'!E33+'Α2.2.4 Πράσινο Ταμείο'!E33+'Α2.2.5 ΑΝΤΩΝΗΣ ΤΡΙΤΣΗΣ κτλ'!E33 -> 0 | F33: ='Α2.2.1 ΠΔΕ Εθνικό'!F33+'Α2.2.2 ΠΔΕ Συγχρημ.'!F33+'Α2.2.3 ΤΑΑ'!F33+'Α2.2.4 Πράσινο Ταμείο'!F33+'Α2.2.5 ΑΝΤΩΝΗΣ ΤΡΙΤΣΗΣ κτλ'!F33 -> 0 | G33: ='Α2.2.1 ΠΔΕ Εθνικό'!G33+'Α2.2.2 ΠΔΕ Συγχρημ.'!G33+'Α2.2.3 ΤΑΑ'!G33+'Α2.2.4 Πράσινο Ταμείο'!G33+'Α2.2.5 ΑΝΤΩΝΗΣ ΤΡΙΤΣΗΣ κτλ'!G33 -> 0 | H33: ='Α2.2.1 ΠΔΕ Εθνικό'!H33+'Α2.2.2 ΠΔΕ Συγχρημ.'!H33+'Α2.2.3 ΤΑΑ'!H33+'Α2.2.4 Πράσινο Ταμείο'!H33+'Α2.2.5 ΑΝΤΩΝΗΣ ΤΡΙΤΣΗΣ κτλ'!H33 -> 0 | I33: ='Α2.2.1 ΠΔΕ Εθνικό'!I33+'Α2.2.2 ΠΔΕ Συγχρημ.'!I33+'Α2.2.3 ΤΑΑ'!I33+'Α2.2.4 Πράσινο Ταμείο'!I33+'Α2.2.5 ΑΝΤΩΝΗΣ ΤΡΙΤΣΗΣ κτλ'!I33 -> 0 | J33: ='Α2.2.1 ΠΔΕ Εθνικό'!J33+'Α2.2.2 ΠΔΕ Συγχρημ.'!J33+'Α2.2.3 ΤΑΑ'!J33+'Α2.2.4 Πράσινο Ταμείο'!J33+'Α2.2.5 ΑΝΤΩΝΗΣ ΤΡΙΤΣΗΣ κτλ'!J33 -> 0 | K33: ='Α2.2.1 ΠΔΕ Εθνικό'!K33+'Α2.2.2 ΠΔΕ Συγχρημ.'!K33+'Α2.2.3 ΤΑΑ'!K33+'Α2.2.4 Πράσινο Ταμείο'!K33+'Α2.2.5 ΑΝΤΩΝΗΣ ΤΡΙΤΣΗΣ κτλ'!K33 -> 0 | L33: ='Α2.2.1 ΠΔΕ Εθνικό'!L33+'Α2.2.2 ΠΔΕ Συγχρημ.'!L33+'Α2.2.3 ΤΑΑ'!L33+'Α2.2.4 Πράσινο Ταμείο'!L33+'Α2.2.5 ΑΝΤΩΝΗΣ ΤΡΙΤΣΗΣ κτλ'!L33 -> 0
A34: * | B34: Ποσά προορισμένα για αύξηση μετοχικού κεφαλαίου και για πληρωμές από το Κράτος λόγω κατάπτωσης εγγυήσεων.
A35: ** | B35: Ποσά προορισμένα για αύξηση μετοχικού κεφαλαίου.
A36: Δ | B36: Έσοδα χρηματοοικονομικών συναλλαγών (28+29+30+31+32+33+34+35+36) | D36: ='Α2.2.1 ΠΔΕ Εθνικό'!D36+'Α2.2.2 ΠΔΕ Συγχρημ.'!D36+'Α2.2.3 ΤΑΑ'!D36+'Α2.2.4 Πράσινο Ταμείο'!D36+'Α2.2.5 ΑΝΤΩΝΗΣ ΤΡΙΤΣΗΣ κτλ'!D36 -> 0 | E36: ='Α2.2.1 ΠΔΕ Εθνικό'!E36+'Α2.2.2 ΠΔΕ Συγχρημ.'!E36+'Α2.2.3 ΤΑΑ'!E36+'Α2.2.4 Πράσινο Ταμείο'!E36+'Α2.2.5 ΑΝΤΩΝΗΣ ΤΡΙΤΣΗΣ κτλ'!E36 -> 0 | F36: ='Α2.2.1 ΠΔΕ Εθνικό'!F36+'Α2.2.2 ΠΔΕ Συγχρημ.'!F36+'Α2.2.3 ΤΑΑ'!F36+'Α2.2.4 Πράσινο Ταμείο'!F36+'Α2.2.5 ΑΝΤΩΝΗΣ ΤΡΙΤΣΗΣ κτλ'!F36 -> 0 | G36: ='Α2.2.1 ΠΔΕ Εθνικό'!G36+'Α2.2.2 ΠΔΕ Συγχρημ.'!G36+'Α2.2.3 ΤΑΑ'!G36+'Α2.2.4 Πράσινο Ταμείο'!G36+'Α2.2.5 ΑΝΤΩΝΗΣ ΤΡΙΤΣΗΣ κτλ'!G36 -> 0 | H36: ='Α2.2.1 ΠΔΕ Εθνικό'!H36+'Α2.2.2 ΠΔΕ Συγχρημ.'!H36+'Α2.2.3 ΤΑΑ'!H36+'Α2.2.4 Πράσινο Ταμείο'!H36+'Α2.2.5 ΑΝΤΩΝΗΣ ΤΡΙΤΣΗΣ κτλ'!H36 -> 0 | I36: ='Α2.2.1 ΠΔΕ Εθνικό'!I36+'Α2.2.2 ΠΔΕ Συγχρημ.'!I36+'Α2.2.3 ΤΑΑ'!I36+'Α2.2.4 Πράσινο Ταμείο'!I36+'Α2.2.5 ΑΝΤΩΝΗΣ ΤΡΙΤΣΗΣ κτλ'!I36 -> 0 | J36: ='Α2.2.1 ΠΔΕ Εθνικό'!J36+'Α2.2.2 ΠΔΕ Συγχρημ.'!J36+'Α2.2.3 ΤΑΑ'!J36+'Α2.2.4 Πράσινο Ταμείο'!J36+'Α2.2.5 ΑΝΤΩΝΗΣ ΤΡΙΤΣΗΣ κτλ'!J36 -> 0 | K36: ='Α2.2.1 ΠΔΕ Εθνικό'!K36+'Α2.2.2 ΠΔΕ Συγχρημ.'!K36+'Α2.2.3 ΤΑΑ'!K36+'Α2.2.4 Πράσινο Ταμείο'!K36+'Α2.2.5 ΑΝΤΩΝΗΣ ΤΡΙΤΣΗΣ κτλ'!K36 -> 0 | L36: ='Α2.2.1 ΠΔΕ Εθνικό'!L36+'Α2.2.2 ΠΔΕ Συγχρημ.'!L36+'Α2.2.3 ΤΑΑ'!L36+'Α2.2.4 Πράσινο Ταμείο'!L36+'Α2.2.5 ΑΝΤΩΝΗΣ ΤΡΙΤΣΗΣ κτλ'!L36 -> 0
A37: 28 | B37: 18 | C37: Συμμετοχές και λοιπές μακροπρόθεσμες απαιτήσεις (18) | D37: ='Α2.2.1 ΠΔΕ Εθνικό'!D37+'Α2.2.2 ΠΔΕ Συγχρημ.'!D37+'Α2.2.3 ΤΑΑ'!D37+'Α2.2.4 Πράσινο Ταμείο'!D37+'Α2.2.5 ΑΝΤΩΝΗΣ ΤΡΙΤΣΗΣ κτλ'!D37 -> 0 | E37: ='Α2.2.1 ΠΔΕ Εθνικό'!E37+'Α2.2.2 ΠΔΕ Συγχρημ.'!E37+'Α2.2.3 ΤΑΑ'!E37+'Α2.2.4 Πράσινο Ταμείο'!E37+'Α2.2.5 ΑΝΤΩΝΗΣ ΤΡΙΤΣΗΣ κτλ'!E37 -> 0 | F37: ='Α2.2.1 ΠΔΕ Εθνικό'!F37+'Α2.2.2 ΠΔΕ Συγχρημ.'!F37+'Α2.2.3 ΤΑΑ'!F37+'Α2.2.4 Πράσινο Ταμείο'!F37+'Α2.2.5 ΑΝΤΩΝΗΣ ΤΡΙΤΣΗΣ κτλ'!F37 -> 0 | G37: ='Α2.2.1 ΠΔΕ Εθνικό'!G37+'Α2.2.2 ΠΔΕ Συγχρημ.'!G37+'Α2.2.3 ΤΑΑ'!G37+'Α2.2.4 Πράσινο Ταμείο'!G37+'Α2.2.5 ΑΝΤΩΝΗΣ ΤΡΙΤΣΗΣ κτλ'!G37 -> 0 | H37: ='Α2.2.1 ΠΔΕ Εθνικό'!H37+'Α2.2.2 ΠΔΕ Συγχρημ.'!H37+'Α2.2.3 ΤΑΑ'!H37+'Α2.2.4 Πράσινο Ταμείο'!H37+'Α2.2.5 ΑΝΤΩΝΗΣ ΤΡΙΤΣΗΣ κτλ'!H37 -> 0 | I37: ='Α2.2.1 ΠΔΕ Εθνικό'!I37+'Α2.2.2 ΠΔΕ Συγχρημ.'!I37+'Α2.2.3 ΤΑΑ'!I37+'Α2.2.4 Πράσινο Ταμείο'!I37+'Α2.2.5 ΑΝΤΩΝΗΣ ΤΡΙΤΣΗΣ κτλ'!I37 -> 0 | J37: ='Α2.2.1 ΠΔΕ Εθνικό'!J37+'Α2.2.2 ΠΔΕ Συγχρημ.'!J37+'Α2.2.3 ΤΑΑ'!J37+'Α2.2.4 Πράσινο Ταμείο'!J37+'Α2.2.5 ΑΝΤΩΝΗΣ ΤΡΙΤΣΗΣ κτλ'!J37 -> 0 | K37: ='Α2.2.1 ΠΔΕ Εθνικό'!K37+'Α2.2.2 ΠΔΕ Συγχρημ.'!K37+'Α2.2.3 ΤΑΑ'!K37+'Α2.2.4 Πράσινο Ταμείο'!K37+'Α2.2.5 ΑΝΤΩΝΗΣ ΤΡΙΤΣΗΣ κτλ'!K37 -> 0 | L37: ='Α2.2.1 ΠΔΕ Εθνικό'!L37+'Α2.2.2 ΠΔΕ Συγχρημ.'!L37+'Α2.2.3 ΤΑΑ'!L37+'Α2.2.4 Πράσινο Ταμείο'!L37+'Α2.2.5 ΑΝΤΩΝΗΣ ΤΡΙΤΣΗΣ κτλ'!L37 -> 0
A38: 29 | B38: 33 | C38: Χρεώστες διάφοροι (33) | D38: ='Α2.2.1 ΠΔΕ Εθνικό'!D38+'Α2.2.2 ΠΔΕ Συγχρημ.'!D38+'Α2.2.3 ΤΑΑ'!D38+'Α2.2.4 Πράσινο Ταμείο'!D38+'Α2.2.5 ΑΝΤΩΝΗΣ ΤΡΙΤΣΗΣ κτλ'!D38 -> 0 | E38: ='Α2.2.1 ΠΔΕ Εθνικό'!E38+'Α2.2.2 ΠΔΕ Συγχρημ.'!E38+'Α2.2.3 ΤΑΑ'!E38+'Α2.2.4 Πράσινο Ταμείο'!E38+'Α2.2.5 ΑΝΤΩΝΗΣ ΤΡΙΤΣΗΣ κτλ'!E38 -> 0 | F38: ='Α2.2.1 ΠΔΕ Εθνικό'!F38+'Α2.2.2 ΠΔΕ Συγχρημ.'!F38+'Α2.2.3 ΤΑΑ'!F38+'Α2.2.4 Πράσινο Ταμείο'!F38+'Α2.2.5 ΑΝΤΩΝΗΣ ΤΡΙΤΣΗΣ κτλ'!F38 -> 0 | G38: ='Α2.2.1 ΠΔΕ Εθνικό'!G38+'Α2.2.2 ΠΔΕ Συγχρημ.'!G38+'Α2.2.3 ΤΑΑ'!G38+'Α2.2.4 Πράσινο Ταμείο'!G38+'Α2.2.5 ΑΝΤΩΝΗΣ ΤΡΙΤΣΗΣ κτλ'!G38 -> 0 | H38: ='Α2.2.1 ΠΔΕ Εθνικό'!H38+'Α2.2.2 ΠΔΕ Συγχρημ.'!H38+'Α2.2.3 ΤΑΑ'!H38+'Α2.2.4 Πράσινο Ταμείο'!H38+'Α2.2.5 ΑΝΤΩΝΗΣ ΤΡΙΤΣΗΣ κτλ'!H38 -> 0 | I38: ='Α2.2.1 ΠΔΕ Εθνικό'!I38+'Α2.2.2 ΠΔΕ Συγχρημ.'!I38+'Α2.2.3 ΤΑΑ'!I38+'Α2.2.4 Πράσινο Ταμείο'!I38+'Α2.2.5 ΑΝΤΩΝΗΣ ΤΡΙΤΣΗΣ κτλ'!I38 -> 0 | J38: ='Α2.2.1 ΠΔΕ Εθνικό'!J38+'Α2.2.2 ΠΔΕ Συγχρημ.'!J38+'Α2.2.3 ΤΑΑ'!J38+'Α2.2.4 Πράσινο Ταμείο'!J38+'Α2.2.5 ΑΝΤΩΝΗΣ ΤΡΙΤΣΗΣ κτλ'!J38 -> 0 | K38: ='Α2.2.1 ΠΔΕ Εθνικό'!K38+'Α2.2.2 ΠΔΕ Συγχρημ.'!K38+'Α2.2.3 ΤΑΑ'!K38+'Α2.2.4 Πράσινο Ταμείο'!K38+'Α2.2.5 ΑΝΤΩΝΗΣ ΤΡΙΤΣΗΣ κτλ'!K38 -> 0 | L38: ='Α2.2.1 ΠΔΕ Εθνικό'!L38+'Α2.2.2 ΠΔΕ Συγχρημ.'!L38+'Α2.2.3 ΤΑΑ'!L38+'Α2.2.4 Πράσινο Ταμείο'!L38+'Α2.2.5 ΑΝΤΩΝΗΣ ΤΡΙΤΣΗΣ κτλ'!L38 -> 0
A39: 30 | B39: 34 | C39: Χρεόγραφα (34) | D39: ='Α2.2.1 ΠΔΕ Εθνικό'!D39+'Α2.2.2 ΠΔΕ Συγχρημ.'!D39+'Α2.2.3 ΤΑΑ'!D39+'Α2.2.4 Πράσινο Ταμείο'!D39+'Α2.2.5 ΑΝΤΩΝΗΣ ΤΡΙΤΣΗΣ κτλ'!D39 -> 0 | E39: ='Α2.2.1 ΠΔΕ Εθνικό'!E39+'Α2.2.2 ΠΔΕ Συγχρημ.'!E39+'Α2.2.3 ΤΑΑ'!E39+'Α2.2.4 Πράσινο Ταμείο'!E39+'Α2.2.5 ΑΝΤΩΝΗΣ ΤΡΙΤΣΗΣ κτλ'!E39 -> 0 | F39: ='Α2.2.1 ΠΔΕ Εθνικό'!F39+'Α2.2.2 ΠΔΕ Συγχρημ.'!F39+'Α2.2.3 ΤΑΑ'!F39+'Α2.2.4 Πράσινο Ταμείο'!F39+'Α2.2.5 ΑΝΤΩΝΗΣ ΤΡΙΤΣΗΣ κτλ'!F39 -> 0 | G39: ='Α2.2.1 ΠΔΕ Εθνικό'!G39+'Α2.2.2 ΠΔΕ Συγχρημ.'!G39+'Α2.2.3 ΤΑΑ'!G39+'Α2.2.4 Πράσινο Ταμείο'!G39+'Α2.2.5 ΑΝΤΩΝΗΣ ΤΡΙΤΣΗΣ κτλ'!G39 -> 0 | H39: ='Α2.2.1 ΠΔΕ Εθνικό'!H39+'Α2.2.2 ΠΔΕ Συγχρημ.'!H39+'Α2.2.3 ΤΑΑ'!H39+'Α2.2.4 Πράσινο Ταμείο'!H39+'Α2.2.5 ΑΝΤΩΝΗΣ ΤΡΙΤΣΗΣ κτλ'!H39 -> 0 | I39: ='Α2.2.1 ΠΔΕ Εθνικό'!I39+'Α2.2.2 ΠΔΕ Συγχρημ.'!I39+'Α2.2.3 ΤΑΑ'!I39+'Α2.2.4 Πράσινο Ταμείο'!I39+'Α2.2.5 ΑΝΤΩΝΗΣ ΤΡΙΤΣΗΣ κτλ'!I39 -> 0 | J39: ='Α2.2.1 ΠΔΕ Εθνικό'!J39+'Α2.2.2 ΠΔΕ Συγχρημ.'!J39+'Α2.2.3 ΤΑΑ'!J39+'Α2.2.4 Πράσινο Ταμείο'!J39+'Α2.2.5 ΑΝΤΩΝΗΣ ΤΡΙΤΣΗΣ κτλ'!J39 -> 0 | K39: ='Α2.2.1 ΠΔΕ Εθνικό'!K39+'Α2.2.2 ΠΔΕ Συγχρημ.'!K39+'Α2.2.3 ΤΑΑ'!K39+'Α2.2.4 Πράσινο Ταμείο'!K39+'Α2.2.5 ΑΝΤΩΝΗΣ ΤΡΙΤΣΗΣ κτλ'!K39 -> 0 | L39: ='Α2.2.1 ΠΔΕ Εθνικό'!L39+'Α2.2.2 ΠΔΕ Συγχρημ.'!L39+'Α2.2.3 ΤΑΑ'!L39+'Α2.2.4 Πράσινο Ταμείο'!L39+'Α2.2.5 ΑΝΤΩΝΗΣ ΤΡΙΤΣΗΣ κτλ'!L39 -> 0
A40: 31 | B40: 35 | C40: Λογαριασμοί διαχείρισης προκαταβολών και πιστώσεων (35) | D40: ='Α2.2.1 ΠΔΕ Εθνικό'!D40+'Α2.2.2 ΠΔΕ Συγχρημ.'!D40+'Α2.2.3 ΤΑΑ'!D40+'Α2.2.4 Πράσινο Ταμείο'!D40+'Α2.2.5 ΑΝΤΩΝΗΣ ΤΡΙΤΣΗΣ κτλ'!D40 -> 0 | E40: ='Α2.2.1 ΠΔΕ Εθνικό'!E40+'Α2.2.2 ΠΔΕ Συγχρημ.'!E40+'Α2.2.3 ΤΑΑ'!E40+'Α2.2.4 Πράσινο Ταμείο'!E40+'Α2.2.5 ΑΝΤΩΝΗΣ ΤΡΙΤΣΗΣ κτλ'!E40 -> 0 | F40: ='Α2.2.1 ΠΔΕ Εθνικό'!F40+'Α2.2.2 ΠΔΕ Συγχρημ.'!F40+'Α2.2.3 ΤΑΑ'!F40+'Α2.2.4 Πράσινο Ταμείο'!F40+'Α2.2.5 ΑΝΤΩΝΗΣ ΤΡΙΤΣΗΣ κτλ'!F40 -> 0 | G40: ='Α2.2.1 ΠΔΕ Εθνικό'!G40+'Α2.2.2 ΠΔΕ Συγχρημ.'!G40+'Α2.2.3 ΤΑΑ'!G40+'Α2.2.4 Πράσινο Ταμείο'!G40+'Α2.2.5 ΑΝΤΩΝΗΣ ΤΡΙΤΣΗΣ κτλ'!G40 -> 0 | H40: ='Α2.2.1 ΠΔΕ Εθνικό'!H40+'Α2.2.2 ΠΔΕ Συγχρημ.'!H40+'Α2.2.3 ΤΑΑ'!H40+'Α2.2.4 Πράσινο Ταμείο'!H40+'Α2.2.5 ΑΝΤΩΝΗΣ ΤΡΙΤΣΗΣ κτλ'!H40 -> 0 | I40: ='Α2.2.1 ΠΔΕ Εθνικό'!I40+'Α2.2.2 ΠΔΕ Συγχρημ.'!I40+'Α2.2.3 ΤΑΑ'!I40+'Α2.2.4 Πράσινο Ταμείο'!I40+'Α2.2.5 ΑΝΤΩΝΗΣ ΤΡΙΤΣΗΣ κτλ'!I40 -> 0 | J40: ='Α2.2.1 ΠΔΕ Εθνικό'!J40+'Α2.2.2 ΠΔΕ Συγχρημ.'!J40+'Α2.2.3 ΤΑΑ'!J40+'Α2.2.4 Πράσινο Ταμείο'!J40+'Α2.2.5 ΑΝΤΩΝΗΣ ΤΡΙΤΣΗΣ κτλ'!J40 -> 0 | K40: ='Α2.2.1 ΠΔΕ Εθνικό'!K40+'Α2.2.2 ΠΔΕ Συγχρημ.'!K40+'Α2.2.3 ΤΑΑ'!K40+'Α2.2.4 Πράσινο Ταμείο'!K40+'Α2.2.5 ΑΝΤΩΝΗΣ ΤΡΙΤΣΗΣ κτλ'!K40 -> 0 | L40: ='Α2.2.1 ΠΔΕ Εθνικό'!L40+'Α2.2.2 ΠΔΕ Συγχρημ.'!L40+'Α2.2.3 ΤΑΑ'!L40+'Α2.2.4 Πράσινο Ταμείο'!L40+'Α2.2.5 ΑΝΤΩΝΗΣ ΤΡΙΤΣΗΣ κτλ'!L40 -> 0
A41: 32 | B41: 45 | C41: Μακροπρόθεσμες υποχρεώσεις (45) | D41: ='Α2.2.1 ΠΔΕ Εθνικό'!D41+'Α2.2.2 ΠΔΕ Συγχρημ.'!D41+'Α2.2.3 ΤΑΑ'!D41+'Α2.2.4 Πράσινο Ταμείο'!D41+'Α2.2.5 ΑΝΤΩΝΗΣ ΤΡΙΤΣΗΣ κτλ'!D41 -> 0 | E41: ='Α2.2.1 ΠΔΕ Εθνικό'!E41+'Α2.2.2 ΠΔΕ Συγχρημ.'!E41+'Α2.2.3 ΤΑΑ'!E41+'Α2.2.4 Πράσινο Ταμείο'!E41+'Α2.2.5 ΑΝΤΩΝΗΣ ΤΡΙΤΣΗΣ κτλ'!E41 -> 0 | F41: ='Α2.2.1 ΠΔΕ Εθνικό'!F41+'Α2.2.2 ΠΔΕ Συγχρημ.'!F41+'Α2.2.3 ΤΑΑ'!F41+'Α2.2.4 Πράσινο Ταμείο'!F41+'Α2.2.5 ΑΝΤΩΝΗΣ ΤΡΙΤΣΗΣ κτλ'!F41 -> 0 | G41: ='Α2.2.1 ΠΔΕ Εθνικό'!G41+'Α2.2.2 ΠΔΕ Συγχρημ.'!G41+'Α2.2.3 ΤΑΑ'!G41+'Α2.2.4 Πράσινο Ταμείο'!G41+'Α2.2.5 ΑΝΤΩΝΗΣ ΤΡΙΤΣΗΣ κτλ'!G41 -> 0 | H41: ='Α2.2.1 ΠΔΕ Εθνικό'!H41+'Α2.2.2 ΠΔΕ Συγχρημ.'!H41+'Α2.2.3 ΤΑΑ'!H41+'Α2.2.4 Πράσινο Ταμείο'!H41+'Α2.2.5 ΑΝΤΩΝΗΣ ΤΡΙΤΣΗΣ κτλ'!H41 -> 0 | I41: ='Α2.2.1 ΠΔΕ Εθνικό'!I41+'Α2.2.2 ΠΔΕ Συγχρημ.'!I41+'Α2.2.3 ΤΑΑ'!I41+'Α2.2.4 Πράσινο Ταμείο'!I41+'Α2.2.5 ΑΝΤΩΝΗΣ ΤΡΙΤΣΗΣ κτλ'!I41 -> 0 | J41: ='Α2.2.1 ΠΔΕ Εθνικό'!J41+'Α2.2.2 ΠΔΕ Συγχρημ.'!J41+'Α2.2.3 ΤΑΑ'!J41+'Α2.2.4 Πράσινο Ταμείο'!J41+'Α2.2.5 ΑΝΤΩΝΗΣ ΤΡΙΤΣΗΣ κτλ'!J41 -> 0 | K41: ='Α2.2.1 ΠΔΕ Εθνικό'!K41+'Α2.2.2 ΠΔΕ Συγχρημ.'!K41+'Α2.2.3 ΤΑΑ'!K41+'Α2.2.4 Πράσινο Ταμείο'!K41+'Α2.2.5 ΑΝΤΩΝΗΣ ΤΡΙΤΣΗΣ κτλ'!K41 -> 0 | L41: ='Α2.2.1 ΠΔΕ Εθνικό'!L41+'Α2.2.2 ΠΔΕ Συγχρημ.'!L41+'Α2.2.3 ΤΑΑ'!L41+'Α2.2.4 Πράσινο Ταμείο'!L41+'Α2.2.5 ΑΝΤΩΝΗΣ ΤΡΙΤΣΗΣ κτλ'!L41 -> 0
A42: 33 | B42: 52 | C42: Τράπεζες - Λογαριασμοί βραχυπρόθεσμων υποχρεώσεων (52) | D42: ='Α2.2.1 ΠΔΕ Εθνικό'!D42+'Α2.2.2 ΠΔΕ Συγχρημ.'!D42+'Α2.2.3 ΤΑΑ'!D42+'Α2.2.4 Πράσινο Ταμείο'!D42+'Α2.2.5 ΑΝΤΩΝΗΣ ΤΡΙΤΣΗΣ κτλ'!D42 -> 0 | E42: ='Α2.2.1 ΠΔΕ Εθνικό'!E42+'Α2.2.2 ΠΔΕ Συγχρημ.'!E42+'Α2.2.3 ΤΑΑ'!E42+'Α2.2.4 Πράσινο Ταμείο'!E42+'Α2.2.5 ΑΝΤΩΝΗΣ ΤΡΙΤΣΗΣ κτλ'!E42 -> 0 | F42: ='Α2.2.1 ΠΔΕ Εθνικό'!F42+'Α2.2.2 ΠΔΕ Συγχρημ.'!F42+'Α2.2.3 ΤΑΑ'!F42+'Α2.2.4 Πράσινο Ταμείο'!F42+'Α2.2.5 ΑΝΤΩΝΗΣ ΤΡΙΤΣΗΣ κτλ'!F42 -> 0 | G42: ='Α2.2.1 ΠΔΕ Εθνικό'!G42+'Α2.2.2 ΠΔΕ Συγχρημ.'!G42+'Α2.2.3 ΤΑΑ'!G42+'Α2.2.4 Πράσινο Ταμείο'!G42+'Α2.2.5 ΑΝΤΩΝΗΣ ΤΡΙΤΣΗΣ κτλ'!G42 -> 0 | H42: ='Α2.2.1 ΠΔΕ Εθνικό'!H42+'Α2.2.2 ΠΔΕ Συγχρημ.'!H42+'Α2.2.3 ΤΑΑ'!H42+'Α2.2.4 Πράσινο Ταμείο'!H42+'Α2.2.5 ΑΝΤΩΝΗΣ ΤΡΙΤΣΗΣ κτλ'!H42 -> 0 | I42: ='Α2.2.1 ΠΔΕ Εθνικό'!I42+'Α2.2.2 ΠΔΕ Συγχρημ.'!I42+'Α2.2.3 ΤΑΑ'!I42+'Α2.2.4 Πράσινο Ταμείο'!I42+'Α2.2.5 ΑΝΤΩΝΗΣ ΤΡΙΤΣΗΣ κτλ'!I42 -> 0 | J42: ='Α2.2.1 ΠΔΕ Εθνικό'!J42+'Α2.2.2 ΠΔΕ Συγχρημ.'!J42+'Α2.2.3 ΤΑΑ'!J42+'Α2.2.4 Πράσινο Ταμείο'!J42+'Α2.2.5 ΑΝΤΩΝΗΣ ΤΡΙΤΣΗΣ κτλ'!J42 -> 0 | K42: ='Α2.2.1 ΠΔΕ Εθνικό'!K42+'Α2.2.2 ΠΔΕ Συγχρημ.'!K42+'Α2.2.3 ΤΑΑ'!K42+'Α2.2.4 Πράσινο Ταμείο'!K42+'Α2.2.5 ΑΝΤΩΝΗΣ ΤΡΙΤΣΗΣ κτλ'!K42 -> 0 | L42: ='Α2.2.1 ΠΔΕ Εθνικό'!L42+'Α2.2.2 ΠΔΕ Συγχρημ.'!L42+'Α2.2.3 ΤΑΑ'!L42+'Α2.2.4 Πράσινο Ταμείο'!L42+'Α2.2.5 ΑΝΤΩΝΗΣ ΤΡΙΤΣΗΣ κτλ'!L42 -> 0
A43: 34 | B43: 53 | C43: Πιστωτές διάφοροι (53) | D43: ='Α2.2.1 ΠΔΕ Εθνικό'!D43+'Α2.2.2 ΠΔΕ Συγχρημ.'!D43+'Α2.2.3 ΤΑΑ'!D43+'Α2.2.4 Πράσινο Ταμείο'!D43+'Α2.2.5 ΑΝΤΩΝΗΣ ΤΡΙΤΣΗΣ κτλ'!D43 -> 0 | E43: ='Α2.2.1 ΠΔΕ Εθνικό'!E43+'Α2.2.2 ΠΔΕ Συγχρημ.'!E43+'Α2.2.3 ΤΑΑ'!E43+'Α2.2.4 Πράσινο Ταμείο'!E43+'Α2.2.5 ΑΝΤΩΝΗΣ ΤΡΙΤΣΗΣ κτλ'!E43 -> 0 | F43: ='Α2.2.1 ΠΔΕ Εθνικό'!F43+'Α2.2.2 ΠΔΕ Συγχρημ.'!F43+'Α2.2.3 ΤΑΑ'!F43+'Α2.2.4 Πράσινο Ταμείο'!F43+'Α2.2.5 ΑΝΤΩΝΗΣ ΤΡΙΤΣΗΣ κτλ'!F43 -> 0 | G43: ='Α2.2.1 ΠΔΕ Εθνικό'!G43+'Α2.2.2 ΠΔΕ Συγχρημ.'!G43+'Α2.2.3 ΤΑΑ'!G43+'Α2.2.4 Πράσινο Ταμείο'!G43+'Α2.2.5 ΑΝΤΩΝΗΣ ΤΡΙΤΣΗΣ κτλ'!G43 -> 0 | H43: ='Α2.2.1 ΠΔΕ Εθνικό'!H43+'Α2.2.2 ΠΔΕ Συγχρημ.'!H43+'Α2.2.3 ΤΑΑ'!H43+'Α2.2.4 Πράσινο Ταμείο'!H43+'Α2.2.5 ΑΝΤΩΝΗΣ ΤΡΙΤΣΗΣ κτλ'!H43 -> 0 | I43: ='Α2.2.1 ΠΔΕ Εθνικό'!I43+'Α2.2.2 ΠΔΕ Συγχρημ.'!I43+'Α2.2.3 ΤΑΑ'!I43+'Α2.2.4 Πράσινο Ταμείο'!I43+'Α2.2.5 ΑΝΤΩΝΗΣ ΤΡΙΤΣΗΣ κτλ'!I43 -> 0 | J43: ='Α2.2.1 ΠΔΕ Εθνικό'!J43+'Α2.2.2 ΠΔΕ Συγχρημ.'!J43+'Α2.2.3 ΤΑΑ'!J43+'Α2.2.4 Πράσινο Ταμείο'!J43+'Α2.2.5 ΑΝΤΩΝΗΣ ΤΡΙΤΣΗΣ κτλ'!J43 -> 0 | K43: ='Α2.2.1 ΠΔΕ Εθνικό'!K43+'Α2.2.2 ΠΔΕ Συγχρημ.'!K43+'Α2.2.3 ΤΑΑ'!K43+'Α2.2.4 Πράσινο Ταμείο'!K43+'Α2.2.5 ΑΝΤΩΝΗΣ ΤΡΙΤΣΗΣ κτλ'!K43 -> 0 | L43: ='Α2.2.1 ΠΔΕ Εθνικό'!L43+'Α2.2.2 ΠΔΕ Συγχρημ.'!L43+'Α2.2.3 ΤΑΑ'!L43+'Α2.2.4 Πράσινο Ταμείο'!L43+'Α2.2.5 ΑΝΤΩΝΗΣ ΤΡΙΤΣΗΣ κτλ'!L43 -> 0
A44: 35 | B44: 54 | C44: Υποχρεώσεις από φόρους και τέλη (54 πλην 54.08) | D44: ='Α2.2.1 ΠΔΕ Εθνικό'!D44+'Α2.2.2 ΠΔΕ Συγχρημ.'!D44+'Α2.2.3 ΤΑΑ'!D44+'Α2.2.4 Πράσινο Ταμείο'!D44+'Α2.2.5 ΑΝΤΩΝΗΣ ΤΡΙΤΣΗΣ κτλ'!D44 -> 0 | E44: ='Α2.2.1 ΠΔΕ Εθνικό'!E44+'Α2.2.2 ΠΔΕ Συγχρημ.'!E44+'Α2.2.3 ΤΑΑ'!E44+'Α2.2.4 Πράσινο Ταμείο'!E44+'Α2.2.5 ΑΝΤΩΝΗΣ ΤΡΙΤΣΗΣ κτλ'!E44 -> 0 | F44: ='Α2.2.1 ΠΔΕ Εθνικό'!F44+'Α2.2.2 ΠΔΕ Συγχρημ.'!F44+'Α2.2.3 ΤΑΑ'!F44+'Α2.2.4 Πράσινο Ταμείο'!F44+'Α2.2.5 ΑΝΤΩΝΗΣ ΤΡΙΤΣΗΣ κτλ'!F44 -> 0 | G44: ='Α2.2.1 ΠΔΕ Εθνικό'!G44+'Α2.2.2 ΠΔΕ Συγχρημ.'!G44+'Α2.2.3 ΤΑΑ'!G44+'Α2.2.4 Πράσινο Ταμείο'!G44+'Α2.2.5 ΑΝΤΩΝΗΣ ΤΡΙΤΣΗΣ κτλ'!G44 -> 0 | H44: ='Α2.2.1 ΠΔΕ Εθνικό'!H44+'Α2.2.2 ΠΔΕ Συγχρημ.'!H44+'Α2.2.3 ΤΑΑ'!H44+'Α2.2.4 Πράσινο Ταμείο'!H44+'Α2.2.5 ΑΝΤΩΝΗΣ ΤΡΙΤΣΗΣ κτλ'!H44 -> 0 | I44: ='Α2.2.1 ΠΔΕ Εθνικό'!I44+'Α2.2.2 ΠΔΕ Συγχρημ.'!I44+'Α2.2.3 ΤΑΑ'!I44+'Α2.2.4 Πράσινο Ταμείο'!I44+'Α2.2.5 ΑΝΤΩΝΗΣ ΤΡΙΤΣΗΣ κτλ'!I44 -> 0 | J44: ='Α2.2.1 ΠΔΕ Εθνικό'!J44+'Α2.2.2 ΠΔΕ Συγχρημ.'!J44+'Α2.2.3 ΤΑΑ'!J44+'Α2.2.4 Πράσινο Ταμείο'!J44+'Α2.2.5 ΑΝΤΩΝΗΣ ΤΡΙΤΣΗΣ κτλ'!J44 -> 0 | K44: ='Α2.2.1 ΠΔΕ Εθνικό'!K44+'Α2.2.2 ΠΔΕ Συγχρημ.'!K44+'Α2.2.3 ΤΑΑ'!K44+'Α2.2.4 Πράσινο Ταμείο'!K44+'Α2.2.5 ΑΝΤΩΝΗΣ ΤΡΙΤΣΗΣ κτλ'!K44 -> 0 | L44: ='Α2.2.1 ΠΔΕ Εθνικό'!L44+'Α2.2.2 ΠΔΕ Συγχρημ.'!L44+'Α2.2.3 ΤΑΑ'!L44+'Α2.2.4 Πράσινο Ταμείο'!L44+'Α2.2.5 ΑΝΤΩΝΗΣ ΤΡΙΤΣΗΣ κτλ'!L44 -> 0
A45: 36 | B45: 55 | C45: Ασφαλιστικοί οργανισμοί (55) | D45: ='Α2.2.1 ΠΔΕ Εθνικό'!D45+'Α2.2.2 ΠΔΕ Συγχρημ.'!D45+'Α2.2.3 ΤΑΑ'!D45+'Α2.2.4 Πράσινο Ταμείο'!D45+'Α2.2.5 ΑΝΤΩΝΗΣ ΤΡΙΤΣΗΣ κτλ'!D45 -> 0 | E45: ='Α2.2.1 ΠΔΕ Εθνικό'!E45+'Α2.2.2 ΠΔΕ Συγχρημ.'!E45+'Α2.2.3 ΤΑΑ'!E45+'Α2.2.4 Πράσινο Ταμείο'!E45+'Α2.2.5 ΑΝΤΩΝΗΣ ΤΡΙΤΣΗΣ κτλ'!E45 -> 0 | F45: ='Α2.2.1 ΠΔΕ Εθνικό'!F45+'Α2.2.2 ΠΔΕ Συγχρημ.'!F45+'Α2.2.3 ΤΑΑ'!F45+'Α2.2.4 Πράσινο Ταμείο'!F45+'Α2.2.5 ΑΝΤΩΝΗΣ ΤΡΙΤΣΗΣ κτλ'!F45 -> 0 | G45: ='Α2.2.1 ΠΔΕ Εθνικό'!G45+'Α2.2.2 ΠΔΕ Συγχρημ.'!G45+'Α2.2.3 ΤΑΑ'!G45+'Α2.2.4 Πράσινο Ταμείο'!G45+'Α2.2.5 ΑΝΤΩΝΗΣ ΤΡΙΤΣΗΣ κτλ'!G45 -> 0 | H45: ='Α2.2.1 ΠΔΕ Εθνικό'!H45+'Α2.2.2 ΠΔΕ Συγχρημ.'!H45+'Α2.2.3 ΤΑΑ'!H45+'Α2.2.4 Πράσινο Ταμείο'!H45+'Α2.2.5 ΑΝΤΩΝΗΣ ΤΡΙΤΣΗΣ κτλ'!H45 -> 0 | I45: ='Α2.2.1 ΠΔΕ Εθνικό'!I45+'Α2.2.2 ΠΔΕ Συγχρημ.'!I45+'Α2.2.3 ΤΑΑ'!I45+'Α2.2.4 Πράσινο Ταμείο'!I45+'Α2.2.5 ΑΝΤΩΝΗΣ ΤΡΙΤΣΗΣ κτλ'!I45 -> 0 | J45: ='Α2.2.1 ΠΔΕ Εθνικό'!J45+'Α2.2.2 ΠΔΕ Συγχρημ.'!J45+'Α2.2.3 ΤΑΑ'!J45+'Α2.2.4 Πράσινο Ταμείο'!J45+'Α2.2.5 ΑΝΤΩΝΗΣ ΤΡΙΤΣΗΣ κτλ'!J45 -> 0 | K45: ='Α2.2.1 ΠΔΕ Εθνικό'!K45+'Α2.2.2 ΠΔΕ Συγχρημ.'!K45+'Α2.2.3 ΤΑΑ'!K45+'Α2.2.4 Πράσινο Ταμείο'!K45+'Α2.2.5 ΑΝΤΩΝΗΣ ΤΡΙΤΣΗΣ κτλ'!K45 -> 0 | L45: ='Α2.2.1 ΠΔΕ Εθνικό'!L45+'Α2.2.2 ΠΔΕ Συγχρημ.'!L45+'Α2.2.3 ΤΑΑ'!L45+'Α2.2.4 Πράσινο Ταμείο'!L45+'Α2.2.5 ΑΝΤΩΝΗΣ ΤΡΙΤΣΗΣ κτλ'!L45 -> 0
A46: Ε | B46: Δαπάνες χρηματοοικονομικών συναλλαγών (37+38+39+40+41+42+43+44+45) | D46: ='Α2.2.1 ΠΔΕ Εθνικό'!D46+'Α2.2.2 ΠΔΕ Συγχρημ.'!D46+'Α2.2.3 ΤΑΑ'!D46+'Α2.2.4 Πράσινο Ταμείο'!D46+'Α2.2.5 ΑΝΤΩΝΗΣ ΤΡΙΤΣΗΣ κτλ'!D46 -> 0 | E46: ='Α2.2.1 ΠΔΕ Εθνικό'!E46+'Α2.2.2 ΠΔΕ Συγχρημ.'!E46+'Α2.2.3 ΤΑΑ'!E46+'Α2.2.4 Πράσινο Ταμείο'!E46+'Α2.2.5 ΑΝΤΩΝΗΣ ΤΡΙΤΣΗΣ κτλ'!E46 -> 0 | F46: ='Α2.2.1 ΠΔΕ Εθνικό'!F46+'Α2.2.2 ΠΔΕ Συγχρημ.'!F46+'Α2.2.3 ΤΑΑ'!F46+'Α2.2.4 Πράσινο Ταμείο'!F46+'Α2.2.5 ΑΝΤΩΝΗΣ ΤΡΙΤΣΗΣ κτλ'!F46 -> 0 | G46: ='Α2.2.1 ΠΔΕ Εθνικό'!G46+'Α2.2.2 ΠΔΕ Συγχρημ.'!G46+'Α2.2.3 ΤΑΑ'!G46+'Α2.2.4 Πράσινο Ταμείο'!G46+'Α2.2.5 ΑΝΤΩΝΗΣ ΤΡΙΤΣΗΣ κτλ'!G46 -> 0 | H46: ='Α2.2.1 ΠΔΕ Εθνικό'!H46+'Α2.2.2 ΠΔΕ Συγχρημ.'!H46+'Α2.2.3 ΤΑΑ'!H46+'Α2.2.4 Πράσινο Ταμείο'!H46+'Α2.2.5 ΑΝΤΩΝΗΣ ΤΡΙΤΣΗΣ κτλ'!H46 -> 0 | I46: ='Α2.2.1 ΠΔΕ Εθνικό'!I46+'Α2.2.2 ΠΔΕ Συγχρημ.'!I46+'Α2.2.3 ΤΑΑ'!I46+'Α2.2.4 Πράσινο Ταμείο'!I46+'Α2.2.5 ΑΝΤΩΝΗΣ ΤΡΙΤΣΗΣ κτλ'!I46 -> 0 | J46: ='Α2.2.1 ΠΔΕ Εθνικό'!J46+'Α2.2.2 ΠΔΕ Συγχρημ.'!J46+'Α2.2.3 ΤΑΑ'!J46+'Α2.2.4 Πράσινο Ταμείο'!J46+'Α2.2.5 ΑΝΤΩΝΗΣ ΤΡΙΤΣΗΣ κτλ'!J46 -> 0 | K46: ='Α2.2.1 ΠΔΕ Εθνικό'!K46+'Α2.2.2 ΠΔΕ Συγχρημ.'!K46+'Α2.2.3 ΤΑΑ'!K46+'Α2.2.4 Πράσινο Ταμείο'!K46+'Α2.2.5 ΑΝΤΩΝΗΣ ΤΡΙΤΣΗΣ κτλ'!K46 -> 0 | L46: ='Α2.2.1 ΠΔΕ Εθνικό'!L46+'Α2.2.2 ΠΔΕ Συγχρημ.'!L46+'Α2.2.3 ΤΑΑ'!L46+'Α2.2.4 Πράσινο Ταμείο'!L46+'Α2.2.5 ΑΝΤΩΝΗΣ ΤΡΙΤΣΗΣ κτλ'!L46 -> 0
A47: 37 | B47: 18 | C47: Συμμετοχές και λοιπές μακροπρόθεσμες απαιτήσεις (18) | D47: ='Α2.2.1 ΠΔΕ Εθνικό'!D47+'Α2.2.2 ΠΔΕ Συγχρημ.'!D47+'Α2.2.3 ΤΑΑ'!D47+'Α2.2.4 Πράσινο Ταμείο'!D47+'Α2.2.5 ΑΝΤΩΝΗΣ ΤΡΙΤΣΗΣ κτλ'!D47 -> 0 | E47: ='Α2.2.1 ΠΔΕ Εθνικό'!E47+'Α2.2.2 ΠΔΕ Συγχρημ.'!E47+'Α2.2.3 ΤΑΑ'!E47+'Α2.2.4 Πράσινο Ταμείο'!E47+'Α2.2.5 ΑΝΤΩΝΗΣ ΤΡΙΤΣΗΣ κτλ'!E47 -> 0 | F47: ='Α2.2.1 ΠΔΕ Εθνικό'!F47+'Α2.2.2 ΠΔΕ Συγχρημ.'!F47+'Α2.2.3 ΤΑΑ'!F47+'Α2.2.4 Πράσινο Ταμείο'!F47+'Α2.2.5 ΑΝΤΩΝΗΣ ΤΡΙΤΣΗΣ κτλ'!F47 -> 0 | G47: ='Α2.2.1 ΠΔΕ Εθνικό'!G47+'Α2.2.2 ΠΔΕ Συγχρημ.'!G47+'Α2.2.3 ΤΑΑ'!G47+'Α2.2.4 Πράσινο Ταμείο'!G47+'Α2.2.5 ΑΝΤΩΝΗΣ ΤΡΙΤΣΗΣ κτλ'!G47 -> 0 | H47: ='Α2.2.1 ΠΔΕ Εθνικό'!H47+'Α2.2.2 ΠΔΕ Συγχρημ.'!H47+'Α2.2.3 ΤΑΑ'!H47+'Α2.2.4 Πράσινο Ταμείο'!H47+'Α2.2.5 ΑΝΤΩΝΗΣ ΤΡΙΤΣΗΣ κτλ'!H47 -> 0 | I47: ='Α2.2.1 ΠΔΕ Εθνικό'!I47+'Α2.2.2 ΠΔΕ Συγχρημ.'!I47+'Α2.2.3 ΤΑΑ'!I47+'Α2.2.4 Πράσινο Ταμείο'!I47+'Α2.2.5 ΑΝΤΩΝΗΣ ΤΡΙΤΣΗΣ κτλ'!I47 -> 0 | J47: ='Α2.2.1 ΠΔΕ Εθνικό'!J47+'Α2.2.2 ΠΔΕ Συγχρημ.'!J47+'Α2.2.3 ΤΑΑ'!J47+'Α2.2.4 Πράσινο Ταμείο'!J47+'Α2.2.5 ΑΝΤΩΝΗΣ ΤΡΙΤΣΗΣ κτλ'!J47 -> 0 | K47: ='Α2.2.1 ΠΔΕ Εθνικό'!K47+'Α2.2.2 ΠΔΕ Συγχρημ.'!K47+'Α2.2.3 ΤΑΑ'!K47+'Α2.2.4 Πράσινο Ταμείο'!K47+'Α2.2.5 ΑΝΤΩΝΗΣ ΤΡΙΤΣΗΣ κτλ'!K47 -> 0 | L47: ='Α2.2.1 ΠΔΕ Εθνικό'!L47+'Α2.2.2 ΠΔΕ Συγχρημ.'!L47+'Α2.2.3 ΤΑΑ'!L47+'Α2.2.4 Πράσινο Ταμείο'!L47+'Α2.2.5 ΑΝΤΩΝΗΣ ΤΡΙΤΣΗΣ κτλ'!L47 -> 0
A48: 38 | B48: 33 | C48: Χρεώστες διάφοροι (33) | D48: ='Α2.2.1 ΠΔΕ Εθνικό'!D48+'Α2.2.2 ΠΔΕ Συγχρημ.'!D48+'Α2.2.3 ΤΑΑ'!D48+'Α2.2.4 Πράσινο Ταμείο'!D48+'Α2.2.5 ΑΝΤΩΝΗΣ ΤΡΙΤΣΗΣ κτλ'!D48 -> 0 | E48: ='Α2.2.1 ΠΔΕ Εθνικό'!E48+'Α2.2.2 ΠΔΕ Συγχρημ.'!E48+'Α2.2.3 ΤΑΑ'!E48+'Α2.2.4 Πράσινο Ταμείο'!E48+'Α2.2.5 ΑΝΤΩΝΗΣ ΤΡΙΤΣΗΣ κτλ'!E48 -> 0 | F48: ='Α2.2.1 ΠΔΕ Εθνικό'!F48+'Α2.2.2 ΠΔΕ Συγχρημ.'!F48+'Α2.2.3 ΤΑΑ'!F48+'Α2.2.4 Πράσινο Ταμείο'!F48+'Α2.2.5 ΑΝΤΩΝΗΣ ΤΡΙΤΣΗΣ κτλ'!F48 -> 0 | G48: ='Α2.2.1 ΠΔΕ Εθνικό'!G48+'Α2.2.2 ΠΔΕ Συγχρημ.'!G48+'Α2.2.3 ΤΑΑ'!G48+'Α2.2.4 Πράσινο Ταμείο'!G48+'Α2.2.5 ΑΝΤΩΝΗΣ ΤΡΙΤΣΗΣ κτλ'!G48 -> 0 | H48: ='Α2.2.1 ΠΔΕ Εθνικό'!H48+'Α2.2.2 ΠΔΕ Συγχρημ.'!H48+'Α2.2.3 ΤΑΑ'!H48+'Α2.2.4 Πράσινο Ταμείο'!H48+'Α2.2.5 ΑΝΤΩΝΗΣ ΤΡΙΤΣΗΣ κτλ'!H48 -> 0 | I48: ='Α2.2.1 ΠΔΕ Εθνικό'!I48+'Α2.2.2 ΠΔΕ Συγχρημ.'!I48+'Α2.2.3 ΤΑΑ'!I48+'Α2.2.4 Πράσινο Ταμείο'!I48+'Α2.2.5 ΑΝΤΩΝΗΣ ΤΡΙΤΣΗΣ κτλ'!I48 -> 0 | J48: ='Α2.2.1 ΠΔΕ Εθνικό'!J48+'Α2.2.2 ΠΔΕ Συγχρημ.'!J48+'Α2.2.3 ΤΑΑ'!J48+'Α2.2.4 Πράσινο Ταμείο'!J48+'Α2.2.5 ΑΝΤΩΝΗΣ ΤΡΙΤΣΗΣ κτλ'!J48 -> 0 | K48: ='Α2.2.1 ΠΔΕ Εθνικό'!K48+'Α2.2.2 ΠΔΕ Συγχρημ.'!K48+'Α2.2.3 ΤΑΑ'!K48+'Α2.2.4 Πράσινο Ταμείο'!K48+'Α2.2.5 ΑΝΤΩΝΗΣ ΤΡΙΤΣΗΣ κτλ'!K48 -> 0 | L48: ='Α2.2.1 ΠΔΕ Εθνικό'!L48+'Α2.2.2 ΠΔΕ Συγχρημ.'!L48+'Α2.2.3 ΤΑΑ'!L48+'Α2.2.4 Πράσινο Ταμείο'!L48+'Α2.2.5 ΑΝΤΩΝΗΣ ΤΡΙΤΣΗΣ κτλ'!L48 -> 0
A49: 39 | B49: 34 | C49: Χρεόγραφα (34) | D49: ='Α2.2.1 ΠΔΕ Εθνικό'!D49+'Α2.2.2 ΠΔΕ Συγχρημ.'!D49+'Α2.2.3 ΤΑΑ'!D49+'Α2.2.4 Πράσινο Ταμείο'!D49+'Α2.2.5 ΑΝΤΩΝΗΣ ΤΡΙΤΣΗΣ κτλ'!D49 -> 0 | E49: ='Α2.2.1 ΠΔΕ Εθνικό'!E49+'Α2.2.2 ΠΔΕ Συγχρημ.'!E49+'Α2.2.3 ΤΑΑ'!E49+'Α2.2.4 Πράσινο Ταμείο'!E49+'Α2.2.5 ΑΝΤΩΝΗΣ ΤΡΙΤΣΗΣ κτλ'!E49 -> 0 | F49: ='Α2.2.1 ΠΔΕ Εθνικό'!F49+'Α2.2.2 ΠΔΕ Συγχρημ.'!F49+'Α2.2.3 ΤΑΑ'!F49+'Α2.2.4 Πράσινο Ταμείο'!F49+'Α2.2.5 ΑΝΤΩΝΗΣ ΤΡΙΤΣΗΣ κτλ'!F49 -> 0 | G49: ='Α2.2.1 ΠΔΕ Εθνικό'!G49+'Α2.2.2 ΠΔΕ Συγχρημ.'!G49+'Α2.2.3 ΤΑΑ'!G49+'Α2.2.4 Πράσινο Ταμείο'!G49+'Α2.2.5 ΑΝΤΩΝΗΣ ΤΡΙΤΣΗΣ κτλ'!G49 -> 0 | H49: ='Α2.2.1 ΠΔΕ Εθνικό'!H49+'Α2.2.2 ΠΔΕ Συγχρημ.'!H49+'Α2.2.3 ΤΑΑ'!H49+'Α2.2.4 Πράσινο Ταμείο'!H49+'Α2.2.5 ΑΝΤΩΝΗΣ ΤΡΙΤΣΗΣ κτλ'!H49 -> 0 | I49: ='Α2.2.1 ΠΔΕ Εθνικό'!I49+'Α2.2.2 ΠΔΕ Συγχρημ.'!I49+'Α2.2.3 ΤΑΑ'!I49+'Α2.2.4 Πράσινο Ταμείο'!I49+'Α2.2.5 ΑΝΤΩΝΗΣ ΤΡΙΤΣΗΣ κτλ'!I49 -> 0 | J49: ='Α2.2.1 ΠΔΕ Εθνικό'!J49+'Α2.2.2 ΠΔΕ Συγχρημ.'!J49+'Α2.2.3 ΤΑΑ'!J49+'Α2.2.4 Πράσινο Ταμείο'!J49+'Α2.2.5 ΑΝΤΩΝΗΣ ΤΡΙΤΣΗΣ κτλ'!J49 -> 0 | K49: ='Α2.2.1 ΠΔΕ Εθνικό'!K49+'Α2.2.2 ΠΔΕ Συγχρημ.'!K49+'Α2.2.3 ΤΑΑ'!K49+'Α2.2.4 Πράσινο Ταμείο'!K49+'Α2.2.5 ΑΝΤΩΝΗΣ ΤΡΙΤΣΗΣ κτλ'!K49 -> 0 | L49: ='Α2.2.1 ΠΔΕ Εθνικό'!L49+'Α2.2.2 ΠΔΕ Συγχρημ.'!L49+'Α2.2.3 ΤΑΑ'!L49+'Α2.2.4 Πράσινο Ταμείο'!L49+'Α2.2.5 ΑΝΤΩΝΗΣ ΤΡΙΤΣΗΣ κτλ'!L49 -> 0
A50: 40 | B50: 35 | C50: Λογαριασμοί διαχείρισης προκαταβολών και πιστώσεων (35) | D50: ='Α2.2.1 ΠΔΕ Εθνικό'!D50+'Α2.2.2 ΠΔΕ Συγχρημ.'!D50+'Α2.2.3 ΤΑΑ'!D50+'Α2.2.4 Πράσινο Ταμείο'!D50+'Α2.2.5 ΑΝΤΩΝΗΣ ΤΡΙΤΣΗΣ κτλ'!D50 -> 0 | E50: ='Α2.2.1 ΠΔΕ Εθνικό'!E50+'Α2.2.2 ΠΔΕ Συγχρημ.'!E50+'Α2.2.3 ΤΑΑ'!E50+'Α2.2.4 Πράσινο Ταμείο'!E50+'Α2.2.5 ΑΝΤΩΝΗΣ ΤΡΙΤΣΗΣ κτλ'!E50 -> 0 | F50: ='Α2.2.1 ΠΔΕ Εθνικό'!F50+'Α2.2.2 ΠΔΕ Συγχρημ.'!F50+'Α2.2.3 ΤΑΑ'!F50+'Α2.2.4 Πράσινο Ταμείο'!F50+'Α2.2.5 ΑΝΤΩΝΗΣ ΤΡΙΤΣΗΣ κτλ'!F50 -> 0 | G50: ='Α2.2.1 ΠΔΕ Εθνικό'!G50+'Α2.2.2 ΠΔΕ Συγχρημ.'!G50+'Α2.2.3 ΤΑΑ'!G50+'Α2.2.4 Πράσινο Ταμείο'!G50+'Α2.2.5 ΑΝΤΩΝΗΣ ΤΡΙΤΣΗΣ κτλ'!G50 -> 0 | H50: ='Α2.2.1 ΠΔΕ Εθνικό'!H50+'Α2.2.2 ΠΔΕ Συγχρημ.'!H50+'Α2.2.3 ΤΑΑ'!H50+'Α2.2.4 Πράσινο Ταμείο'!H50+'Α2.2.5 ΑΝΤΩΝΗΣ ΤΡΙΤΣΗΣ κτλ'!H50 -> 0 | I50: ='Α2.2.1 ΠΔΕ Εθνικό'!I50+'Α2.2.2 ΠΔΕ Συγχρημ.'!I50+'Α2.2.3 ΤΑΑ'!I50+'Α2.2.4 Πράσινο Ταμείο'!I50+'Α2.2.5 ΑΝΤΩΝΗΣ ΤΡΙΤΣΗΣ κτλ'!I50 -> 0 | J50: ='Α2.2.1 ΠΔΕ Εθνικό'!J50+'Α2.2.2 ΠΔΕ Συγχρημ.'!J50+'Α2.2.3 ΤΑΑ'!J50+'Α2.2.4 Πράσινο Ταμείο'!J50+'Α2.2.5 ΑΝΤΩΝΗΣ ΤΡΙΤΣΗΣ κτλ'!J50 -> 0 | K50: ='Α2.2.1 ΠΔΕ Εθνικό'!K50+'Α2.2.2 ΠΔΕ Συγχρημ.'!K50+'Α2.2.3 ΤΑΑ'!K50+'Α2.2.4 Πράσινο Ταμείο'!K50+'Α2.2.5 ΑΝΤΩΝΗΣ ΤΡΙΤΣΗΣ κτλ'!K50 -> 0 | L50: ='Α2.2.1 ΠΔΕ Εθνικό'!L50+'Α2.2.2 ΠΔΕ Συγχρημ.'!L50+'Α2.2.3 ΤΑΑ'!L50+'Α2.2.4 Πράσινο Ταμείο'!L50+'Α2.2.5 ΑΝΤΩΝΗΣ ΤΡΙΤΣΗΣ κτλ'!L50 -> 0
A51: 41 | B51: 45 | C51: Μακροπρόθεσμες υποχρεώσεις (45) | D51: ='Α2.2.1 ΠΔΕ Εθνικό'!D51+'Α2.2.2 ΠΔΕ Συγχρημ.'!D51+'Α2.2.3 ΤΑΑ'!D51+'Α2.2.4 Πράσινο Ταμείο'!D51+'Α2.2.5 ΑΝΤΩΝΗΣ ΤΡΙΤΣΗΣ κτλ'!D51 -> 0 | E51: ='Α2.2.1 ΠΔΕ Εθνικό'!E51+'Α2.2.2 ΠΔΕ Συγχρημ.'!E51+'Α2.2.3 ΤΑΑ'!E51+'Α2.2.4 Πράσινο Ταμείο'!E51+'Α2.2.5 ΑΝΤΩΝΗΣ ΤΡΙΤΣΗΣ κτλ'!E51 -> 0 | F51: ='Α2.2.1 ΠΔΕ Εθνικό'!F51+'Α2.2.2 ΠΔΕ Συγχρημ.'!F51+'Α2.2.3 ΤΑΑ'!F51+'Α2.2.4 Πράσινο Ταμείο'!F51+'Α2.2.5 ΑΝΤΩΝΗΣ ΤΡΙΤΣΗΣ κτλ'!F51 -> 0 | G51: ='Α2.2.1 ΠΔΕ Εθνικό'!G51+'Α2.2.2 ΠΔΕ Συγχρημ.'!G51+'Α2.2.3 ΤΑΑ'!G51+'Α2.2.4 Πράσινο Ταμείο'!G51+'Α2.2.5 ΑΝΤΩΝΗΣ ΤΡΙΤΣΗΣ κτλ'!G51 -> 0 | H51: ='Α2.2.1 ΠΔΕ Εθνικό'!H51+'Α2.2.2 ΠΔΕ Συγχρημ.'!H51+'Α2.2.3 ΤΑΑ'!H51+'Α2.2.4 Πράσινο Ταμείο'!H51+'Α2.2.5 ΑΝΤΩΝΗΣ ΤΡΙΤΣΗΣ κτλ'!H51 -> 0 | I51: ='Α2.2.1 ΠΔΕ Εθνικό'!I51+'Α2.2.2 ΠΔΕ Συγχρημ.'!I51+'Α2.2.3 ΤΑΑ'!I51+'Α2.2.4 Πράσινο Ταμείο'!I51+'Α2.2.5 ΑΝΤΩΝΗΣ ΤΡΙΤΣΗΣ κτλ'!I51 -> 0 | J51: ='Α2.2.1 ΠΔΕ Εθνικό'!J51+'Α2.2.2 ΠΔΕ Συγχρημ.'!J51+'Α2.2.3 ΤΑΑ'!J51+'Α2.2.4 Πράσινο Ταμείο'!J51+'Α2.2.5 ΑΝΤΩΝΗΣ ΤΡΙΤΣΗΣ κτλ'!J51 -> 0 | K51: ='Α2.2.1 ΠΔΕ Εθνικό'!K51+'Α2.2.2 ΠΔΕ Συγχρημ.'!K51+'Α2.2.3 ΤΑΑ'!K51+'Α2.2.4 Πράσινο Ταμείο'!K51+'Α2.2.5 ΑΝΤΩΝΗΣ ΤΡΙΤΣΗΣ κτλ'!K51 -> 0 | L51: ='Α2.2.1 ΠΔΕ Εθνικό'!L51+'Α2.2.2 ΠΔΕ Συγχρημ.'!L51+'Α2.2.3 ΤΑΑ'!L51+'Α2.2.4 Πράσινο Ταμείο'!L51+'Α2.2.5 ΑΝΤΩΝΗΣ ΤΡΙΤΣΗΣ κτλ'!L51 -> 0
A52: 42 | B52: 52 | C52: Τράπεζες - Λογαριασμοί βραχυπρόθεσμων υποχρεώσεων (52) | D52: ='Α2.2.1 ΠΔΕ Εθνικό'!D52+'Α2.2.2 ΠΔΕ Συγχρημ.'!D52+'Α2.2.3 ΤΑΑ'!D52+'Α2.2.4 Πράσινο Ταμείο'!D52+'Α2.2.5 ΑΝΤΩΝΗΣ ΤΡΙΤΣΗΣ κτλ'!D52 -> 0 | E52: ='Α2.2.1 ΠΔΕ Εθνικό'!E52+'Α2.2.2 ΠΔΕ Συγχρημ.'!E52+'Α2.2.3 ΤΑΑ'!E52+'Α2.2.4 Πράσινο Ταμείο'!E52+'Α2.2.5 ΑΝΤΩΝΗΣ ΤΡΙΤΣΗΣ κτλ'!E52 -> 0 | F52: ='Α2.2.1 ΠΔΕ Εθνικό'!F52+'Α2.2.2 ΠΔΕ Συγχρημ.'!F52+'Α2.2.3 ΤΑΑ'!F52+'Α2.2.4 Πράσινο Ταμείο'!F52+'Α2.2.5 ΑΝΤΩΝΗΣ ΤΡΙΤΣΗΣ κτλ'!F52 -> 0 | G52: ='Α2.2.1 ΠΔΕ Εθνικό'!G52+'Α2.2.2 ΠΔΕ Συγχρημ.'!G52+'Α2.2.3 ΤΑΑ'!G52+'Α2.2.4 Πράσινο Ταμείο'!G52+'Α2.2.5 ΑΝΤΩΝΗΣ ΤΡΙΤΣΗΣ κτλ'!G52 -> 0 | H52: ='Α2.2.1 ΠΔΕ Εθνικό'!H52+'Α2.2.2 ΠΔΕ Συγχρημ.'!H52+'Α2.2.3 ΤΑΑ'!H52+'Α2.2.4 Πράσινο Ταμείο'!H52+'Α2.2.5 ΑΝΤΩΝΗΣ ΤΡΙΤΣΗΣ κτλ'!H52 -> 0 | I52: ='Α2.2.1 ΠΔΕ Εθνικό'!I52+'Α2.2.2 ΠΔΕ Συγχρημ.'!I52+'Α2.2.3 ΤΑΑ'!I52+'Α2.2.4 Πράσινο Ταμείο'!I52+'Α2.2.5 ΑΝΤΩΝΗΣ ΤΡΙΤΣΗΣ κτλ'!I52 -> 0 | J52: ='Α2.2.1 ΠΔΕ Εθνικό'!J52+'Α2.2.2 ΠΔΕ Συγχρημ.'!J52+'Α2.2.3 ΤΑΑ'!J52+'Α2.2.4 Πράσινο Ταμείο'!J52+'Α2.2.5 ΑΝΤΩΝΗΣ ΤΡΙΤΣΗΣ κτλ'!J52 -> 0 | K52: ='Α2.2.1 ΠΔΕ Εθνικό'!K52+'Α2.2.2 ΠΔΕ Συγχρημ.'!K52+'Α2.2.3 ΤΑΑ'!K52+'Α2.2.4 Πράσινο Ταμείο'!K52+'Α2.2.5 ΑΝΤΩΝΗΣ ΤΡΙΤΣΗΣ κτλ'!K52 -> 0 | L52: ='Α2.2.1 ΠΔΕ Εθνικό'!L52+'Α2.2.2 ΠΔΕ Συγχρημ.'!L52+'Α2.2.3 ΤΑΑ'!L52+'Α2.2.4 Πράσινο Ταμείο'!L52+'Α2.2.5 ΑΝΤΩΝΗΣ ΤΡΙΤΣΗΣ κτλ'!L52 -> 0
A53: 43 | B53: 53 | C53: Πιστωτές διάφοροι (53 πλην 53.01) | D53: ='Α2.2.1 ΠΔΕ Εθνικό'!D53+'Α2.2.2 ΠΔΕ Συγχρημ.'!D53+'Α2.2.3 ΤΑΑ'!D53+'Α2.2.4 Πράσινο Ταμείο'!D53+'Α2.2.5 ΑΝΤΩΝΗΣ ΤΡΙΤΣΗΣ κτλ'!D53 -> 0 | E53: ='Α2.2.1 ΠΔΕ Εθνικό'!E53+'Α2.2.2 ΠΔΕ Συγχρημ.'!E53+'Α2.2.3 ΤΑΑ'!E53+'Α2.2.4 Πράσινο Ταμείο'!E53+'Α2.2.5 ΑΝΤΩΝΗΣ ΤΡΙΤΣΗΣ κτλ'!E53 -> 0 | F53: ='Α2.2.1 ΠΔΕ Εθνικό'!F53+'Α2.2.2 ΠΔΕ Συγχρημ.'!F53+'Α2.2.3 ΤΑΑ'!F53+'Α2.2.4 Πράσινο Ταμείο'!F53+'Α2.2.5 ΑΝΤΩΝΗΣ ΤΡΙΤΣΗΣ κτλ'!F53 -> 0 | G53: ='Α2.2.1 ΠΔΕ Εθνικό'!G53+'Α2.2.2 ΠΔΕ Συγχρημ.'!G53+'Α2.2.3 ΤΑΑ'!G53+'Α2.2.4 Πράσινο Ταμείο'!G53+'Α2.2.5 ΑΝΤΩΝΗΣ ΤΡΙΤΣΗΣ κτλ'!G53 -> 0 | H53: ='Α2.2.1 ΠΔΕ Εθνικό'!H53+'Α2.2.2 ΠΔΕ Συγχρημ.'!H53+'Α2.2.3 ΤΑΑ'!H53+'Α2.2.4 Πράσινο Ταμείο'!H53+'Α2.2.5 ΑΝΤΩΝΗΣ ΤΡΙΤΣΗΣ κτλ'!H53 -> 0 | I53: ='Α2.2.1 ΠΔΕ Εθνικό'!I53+'Α2.2.2 ΠΔΕ Συγχρημ.'!I53+'Α2.2.3 ΤΑΑ'!I53+'Α2.2.4 Πράσινο Ταμείο'!I53+'Α2.2.5 ΑΝΤΩΝΗΣ ΤΡΙΤΣΗΣ κτλ'!I53 -> 0 | J53: ='Α2.2.1 ΠΔΕ Εθνικό'!J53+'Α2.2.2 ΠΔΕ Συγχρημ.'!J53+'Α2.2.3 ΤΑΑ'!J53+'Α2.2.4 Πράσινο Ταμείο'!J53+'Α2.2.5 ΑΝΤΩΝΗΣ ΤΡΙΤΣΗΣ κτλ'!J53 -> 0 | K53: ='Α2.2.1 ΠΔΕ Εθνικό'!K53+'Α2.2.2 ΠΔΕ Συγχρημ.'!K53+'Α2.2.3 ΤΑΑ'!K53+'Α2.2.4 Πράσινο Ταμείο'!K53+'Α2.2.5 ΑΝΤΩΝΗΣ ΤΡΙΤΣΗΣ κτλ'!K53 -> 0 | L53: ='Α2.2.1 ΠΔΕ Εθνικό'!L53+'Α2.2.2 ΠΔΕ Συγχρημ.'!L53+'Α2.2.3 ΤΑΑ'!L53+'Α2.2.4 Πράσινο Ταμείο'!L53+'Α2.2.5 ΑΝΤΩΝΗΣ ΤΡΙΤΣΗΣ κτλ'!L53 -> 0
A54: 44 | B54: 54 | C54: Υποχρεώσεις από φόρους και τέλη (54 πλην 54.08) | D54: ='Α2.2.1 ΠΔΕ Εθνικό'!D54+'Α2.2.2 ΠΔΕ Συγχρημ.'!D54+'Α2.2.3 ΤΑΑ'!D54+'Α2.2.4 Πράσινο Ταμείο'!D54+'Α2.2.5 ΑΝΤΩΝΗΣ ΤΡΙΤΣΗΣ κτλ'!D54 -> 0 | E54: ='Α2.2.1 ΠΔΕ Εθνικό'!E54+'Α2.2.2 ΠΔΕ Συγχρημ.'!E54+'Α2.2.3 ΤΑΑ'!E54+'Α2.2.4 Πράσινο Ταμείο'!E54+'Α2.2.5 ΑΝΤΩΝΗΣ ΤΡΙΤΣΗΣ κτλ'!E54 -> 0 | F54: ='Α2.2.1 ΠΔΕ Εθνικό'!F54+'Α2.2.2 ΠΔΕ Συγχρημ.'!F54+'Α2.2.3 ΤΑΑ'!F54+'Α2.2.4 Πράσινο Ταμείο'!F54+'Α2.2.5 ΑΝΤΩΝΗΣ ΤΡΙΤΣΗΣ κτλ'!F54 -> 0 | G54: ='Α2.2.1 ΠΔΕ Εθνικό'!G54+'Α2.2.2 ΠΔΕ Συγχρημ.'!G54+'Α2.2.3 ΤΑΑ'!G54+'Α2.2.4 Πράσινο Ταμείο'!G54+'Α2.2.5 ΑΝΤΩΝΗΣ ΤΡΙΤΣΗΣ κτλ'!G54 -> 0 | H54: ='Α2.2.1 ΠΔΕ Εθνικό'!H54+'Α2.2.2 ΠΔΕ Συγχρημ.'!H54+'Α2.2.3 ΤΑΑ'!H54+'Α2.2.4 Πράσινο Ταμείο'!H54+'Α2.2.5 ΑΝΤΩΝΗΣ ΤΡΙΤΣΗΣ κτλ'!H54 -> 0 | I54: ='Α2.2.1 ΠΔΕ Εθνικό'!I54+'Α2.2.2 ΠΔΕ Συγχρημ.'!I54+'Α2.2.3 ΤΑΑ'!I54+'Α2.2.4 Πράσινο Ταμείο'!I54+'Α2.2.5 ΑΝΤΩΝΗΣ ΤΡΙΤΣΗΣ κτλ'!I54 -> 0 | J54: ='Α2.2.1 ΠΔΕ Εθνικό'!J54+'Α2.2.2 ΠΔΕ Συγχρημ.'!J54+'Α2.2.3 ΤΑΑ'!J54+'Α2.2.4 Πράσινο Ταμείο'!J54+'Α2.2.5 ΑΝΤΩΝΗΣ ΤΡΙΤΣΗΣ κτλ'!J54 -> 0 | K54: ='Α2.2.1 ΠΔΕ Εθνικό'!K54+'Α2.2.2 ΠΔΕ Συγχρημ.'!K54+'Α2.2.3 ΤΑΑ'!K54+'Α2.2.4 Πράσινο Ταμείο'!K54+'Α2.2.5 ΑΝΤΩΝΗΣ ΤΡΙΤΣΗΣ κτλ'!K54 -> 0 | L54: ='Α2.2.1 ΠΔΕ Εθνικό'!L54+'Α2.2.2 ΠΔΕ Συγχρημ.'!L54+'Α2.2.3 ΤΑΑ'!L54+'Α2.2.4 Πράσινο Ταμείο'!L54+'Α2.2.5 ΑΝΤΩΝΗΣ ΤΡΙΤΣΗΣ κτλ'!L54 -> 0
A55: 45 | B55: 55 | C55: Ασφαλιστικοί οργανισμοί (55) | D55: ='Α2.2.1 ΠΔΕ Εθνικό'!D55+'Α2.2.2 ΠΔΕ Συγχρημ.'!D55+'Α2.2.3 ΤΑΑ'!D55+'Α2.2.4 Πράσινο Ταμείο'!D55+'Α2.2.5 ΑΝΤΩΝΗΣ ΤΡΙΤΣΗΣ κτλ'!D55 -> 0 | E55: ='Α2.2.1 ΠΔΕ Εθνικό'!E55+'Α2.2.2 ΠΔΕ Συγχρημ.'!E55+'Α2.2.3 ΤΑΑ'!E55+'Α2.2.4 Πράσινο Ταμείο'!E55+'Α2.2.5 ΑΝΤΩΝΗΣ ΤΡΙΤΣΗΣ κτλ'!E55 -> 0 | F55: ='Α2.2.1 ΠΔΕ Εθνικό'!F55+'Α2.2.2 ΠΔΕ Συγχρημ.'!F55+'Α2.2.3 ΤΑΑ'!F55+'Α2.2.4 Πράσινο Ταμείο'!F55+'Α2.2.5 ΑΝΤΩΝΗΣ ΤΡΙΤΣΗΣ κτλ'!F55 -> 0 | G55: ='Α2.2.1 ΠΔΕ Εθνικό'!G55+'Α2.2.2 ΠΔΕ Συγχρημ.'!G55+'Α2.2.3 ΤΑΑ'!G55+'Α2.2.4 Πράσινο Ταμείο'!G55+'Α2.2.5 ΑΝΤΩΝΗΣ ΤΡΙΤΣΗΣ κτλ'!G55 -> 0 | H55: ='Α2.2.1 ΠΔΕ Εθνικό'!H55+'Α2.2.2 ΠΔΕ Συγχρημ.'!H55+'Α2.2.3 ΤΑΑ'!H55+'Α2.2.4 Πράσινο Ταμείο'!H55+'Α2.2.5 ΑΝΤΩΝΗΣ ΤΡΙΤΣΗΣ κτλ'!H55 -> 0 | I55: ='Α2.2.1 ΠΔΕ Εθνικό'!I55+'Α2.2.2 ΠΔΕ Συγχρημ.'!I55+'Α2.2.3 ΤΑΑ'!I55+'Α2.2.4 Πράσινο Ταμείο'!I55+'Α2.2.5 ΑΝΤΩΝΗΣ ΤΡΙΤΣΗΣ κτλ'!I55 -> 0 | J55: ='Α2.2.1 ΠΔΕ Εθνικό'!J55+'Α2.2.2 ΠΔΕ Συγχρημ.'!J55+'Α2.2.3 ΤΑΑ'!J55+'Α2.2.4 Πράσινο Ταμείο'!J55+'Α2.2.5 ΑΝΤΩΝΗΣ ΤΡΙΤΣΗΣ κτλ'!J55 -> 0 | K55: ='Α2.2.1 ΠΔΕ Εθνικό'!K55+'Α2.2.2 ΠΔΕ Συγχρημ.'!K55+'Α2.2.3 ΤΑΑ'!K55+'Α2.2.4 Πράσινο Ταμείο'!K55+'Α2.2.5 ΑΝΤΩΝΗΣ ΤΡΙΤΣΗΣ κτλ'!K55 -> 0 | L55: ='Α2.2.1 ΠΔΕ Εθνικό'!L55+'Α2.2.2 ΠΔΕ Συγχρημ.'!L55+'Α2.2.3 ΤΑΑ'!L55+'Α2.2.4 Πράσινο Ταμείο'!L55+'Α2.2.5 ΑΝΤΩΝΗΣ ΤΡΙΤΣΗΣ κτλ'!L55 -> 0
A56: ΣΤ | B56: Γενικό Σύνολο Εσόδων (Α+Δ) | D56: ='Α2.2.1 ΠΔΕ Εθνικό'!D56+'Α2.2.2 ΠΔΕ Συγχρημ.'!D56+'Α2.2.3 ΤΑΑ'!D56+'Α2.2.4 Πράσινο Ταμείο'!D56+'Α2.2.5 ΑΝΤΩΝΗΣ ΤΡΙΤΣΗΣ κτλ'!D56 -> 0 | E56: ='Α2.2.1 ΠΔΕ Εθνικό'!E56+'Α2.2.2 ΠΔΕ Συγχρημ.'!E56+'Α2.2.3 ΤΑΑ'!E56+'Α2.2.4 Πράσινο Ταμείο'!E56+'Α2.2.5 ΑΝΤΩΝΗΣ ΤΡΙΤΣΗΣ κτλ'!E56 -> 0 | F56: ='Α2.2.1 ΠΔΕ Εθνικό'!F56+'Α2.2.2 ΠΔΕ Συγχρημ.'!F56+'Α2.2.3 ΤΑΑ'!F56+'Α2.2.4 Πράσινο Ταμείο'!F56+'Α2.2.5 ΑΝΤΩΝΗΣ ΤΡΙΤΣΗΣ κτλ'!F56 -> 0 | G56: ='Α2.2.1 ΠΔΕ Εθνικό'!G56+'Α2.2.2 ΠΔΕ Συγχρημ.'!G56+'Α2.2.3 ΤΑΑ'!G56+'Α2.2.4 Πράσινο Ταμείο'!G56+'Α2.2.5 ΑΝΤΩΝΗΣ ΤΡΙΤΣΗΣ κτλ'!G56 -> 0 | H56: ='Α2.2.1 ΠΔΕ Εθνικό'!H56+'Α2.2.2 ΠΔΕ Συγχρημ.'!H56+'Α2.2.3 ΤΑΑ'!H56+'Α2.2.4 Πράσινο Ταμείο'!H56+'Α2.2.5 ΑΝΤΩΝΗΣ ΤΡΙΤΣΗΣ κτλ'!H56 -> 0 | I56: ='Α2.2.1 ΠΔΕ Εθνικό'!I56+'Α2.2.2 ΠΔΕ Συγχρημ.'!I56+'Α2.2.3 ΤΑΑ'!I56+'Α2.2.4 Πράσινο Ταμείο'!I56+'Α2.2.5 ΑΝΤΩΝΗΣ ΤΡΙΤΣΗΣ κτλ'!I56 -> 0 | J56: ='Α2.2.1 ΠΔΕ Εθνικό'!J56+'Α2.2.2 ΠΔΕ Συγχρημ.'!J56+'Α2.2.3 ΤΑΑ'!J56+'Α2.2.4 Πράσινο Ταμείο'!J56+'Α2.2.5 ΑΝΤΩΝΗΣ ΤΡΙΤΣΗΣ κτλ'!J56 -> 0 | K56: ='Α2.2.1 ΠΔΕ Εθνικό'!K56+'Α2.2.2 ΠΔΕ Συγχρημ.'!K56+'Α2.2.3 ΤΑΑ'!K56+'Α2.2.4 Πράσινο Ταμείο'!K56+'Α2.2.5 ΑΝΤΩΝΗΣ ΤΡΙΤΣΗΣ κτλ'!K56 -> 0 | L56: ='Α2.2.1 ΠΔΕ Εθνικό'!L56+'Α2.2.2 ΠΔΕ Συγχρημ.'!L56+'Α2.2.3 ΤΑΑ'!L56+'Α2.2.4 Πράσινο Ταμείο'!L56+'Α2.2.5 ΑΝΤΩΝΗΣ ΤΡΙΤΣΗΣ κτλ'!L56 -> 0
A57: Ζ | B57: Γενικό Σύνολο Δαπανών (Β+Ε) | D57: ='Α2.2.1 ΠΔΕ Εθνικό'!D57+'Α2.2.2 ΠΔΕ Συγχρημ.'!D57+'Α2.2.3 ΤΑΑ'!D57+'Α2.2.4 Πράσινο Ταμείο'!D57+'Α2.2.5 ΑΝΤΩΝΗΣ ΤΡΙΤΣΗΣ κτλ'!D57 -> 0 | E57: ='Α2.2.1 ΠΔΕ Εθνικό'!E57+'Α2.2.2 ΠΔΕ Συγχρημ.'!E57+'Α2.2.3 ΤΑΑ'!E57+'Α2.2.4 Πράσινο Ταμείο'!E57+'Α2.2.5 ΑΝΤΩΝΗΣ ΤΡΙΤΣΗΣ κτλ'!E57 -> 0 | F57: ='Α2.2.1 ΠΔΕ Εθνικό'!F57+'Α2.2.2 ΠΔΕ Συγχρημ.'!F57+'Α2.2.3 ΤΑΑ'!F57+'Α2.2.4 Πράσινο Ταμείο'!F57+'Α2.2.5 ΑΝΤΩΝΗΣ ΤΡΙΤΣΗΣ κτλ'!F57 -> 0 | G57: ='Α2.2.1 ΠΔΕ Εθνικό'!G57+'Α2.2.2 ΠΔΕ Συγχρημ.'!G57+'Α2.2.3 ΤΑΑ'!G57+'Α2.2.4 Πράσινο Ταμείο'!G57+'Α2.2.5 ΑΝΤΩΝΗΣ ΤΡΙΤΣΗΣ κτλ'!G57 -> 0 | H57: ='Α2.2.1 ΠΔΕ Εθνικό'!H57+'Α2.2.2 ΠΔΕ Συγχρημ.'!H57+'Α2.2.3 ΤΑΑ'!H57+'Α2.2.4 Πράσινο Ταμείο'!H57+'Α2.2.5 ΑΝΤΩΝΗΣ ΤΡΙΤΣΗΣ κτλ'!H57 -> 0 | I57: ='Α2.2.1 ΠΔΕ Εθνικό'!I57+'Α2.2.2 ΠΔΕ Συγχρημ.'!I57+'Α2.2.3 ΤΑΑ'!I57+'Α2.2.4 Πράσινο Ταμείο'!I57+'Α2.2.5 ΑΝΤΩΝΗΣ ΤΡΙΤΣΗΣ κτλ'!I57 -> 0 | J57: ='Α2.2.1 ΠΔΕ Εθνικό'!J57+'Α2.2.2 ΠΔΕ Συγχρημ.'!J57+'Α2.2.3 ΤΑΑ'!J57+'Α2.2.4 Πράσινο Ταμείο'!J57+'Α2.2.5 ΑΝΤΩΝΗΣ ΤΡΙΤΣΗΣ κτλ'!J57 -> 0 | K57: ='Α2.2.1 ΠΔΕ Εθνικό'!K57+'Α2.2.2 ΠΔΕ Συγχρημ.'!K57+'Α2.2.3 ΤΑΑ'!K57+'Α2.2.4 Πράσινο Ταμείο'!K57+'Α2.2.5 ΑΝΤΩΝΗΣ ΤΡΙΤΣΗΣ κτλ'!K57 -> 0 | L57: ='Α2.2.1 ΠΔΕ Εθνικό'!L57+'Α2.2.2 ΠΔΕ Συγχρημ.'!L57+'Α2.2.3 ΤΑΑ'!L57+'Α2.2.4 Πράσινο Ταμείο'!L57+'Α2.2.5 ΑΝΤΩΝΗΣ ΤΡΙΤΣΗΣ κτλ'!L57 -> 0

Sheet Α2.2.1 ΠΔΕ Εθνικό
A1: Πίνακας Α2.2.1: Έσοδα - Δαπάνες ΑΕ, ΝΠΙΔ και Ειδικών Λογαριασμών που εφαρμόζουν το Ελληνικό Γενικό Λογιστικό Σχέδιο (ΠΔΕ Εθνικό σκέλος)
D2: 2025 | E2: 2026 | F2: 2026 | G2: 2026 | H2: 2026 | I2: 2027 | J2: 2028 | K2: 2029 | L2: 2030
A3: α/α | B3: Λογαριασμοί ΕΓΛΣ | C3: Περιγραφή | D3: Πραγματοποιήσεις | E3: Αρχικός Προϋπολογισμός | F3: Διαμόρφωση (Αρχικός Π/Υ + τροποποιήσεις) | G3: Εκτέλεση Α΄ Εξαμήνου | H3: Εκτιμήσεις πραγματοποιήσεων έτους | I3: Προβλέψεις | J3: Προβλέψεις | K3: Προβλέψεις | L3: Προβλέψεις
A4: Α | B4: Έσοδα μη χρηματοοικονομικών συναλλαγών (1+2+3+4+5+6+7+8+9+10+11+12+13) | D4: =D5+D6+D7+D8+D9+D10+D11+D12+D13+D14+D15+D16+D17 -> 0 | E4: =E5+E6+E7+E8+E9+E10+E11+E12+E13+E14+E15+E16+E17 -> 0 | F4: =F5+F6+F7+F8+F9+F10+F11+F12+F13+F14+F15+F16+F17 -> 0 | G4: =G5+G6+G7+G8+G9+G10+G11+G12+G13+G14+G15+G16+G17 -> 0 | H4: =H5+H6+H7+H8+H9+H10+H11+H12+H13+H14+H15+H16+H17 -> 0 | I4: =I5+I6+I7+I8+I9+I10+I11+I12+I13+I14+I15+I16+I17 -> 0 | J4: =J5+J6+J7+J8+J9+J10+J11+J12+J13+J14+J15+J16+J17 -> 0 | K4: =K5+K6+K7+K8+K9+K10+K11+K12+K13+K14+K15+K16+K17 -> 0 | L4: =L5+L6+L7+L8+L9+L10+L11+L12+L13+L14+L15+L16+L17 -> 0
A5: 1 | B5: 70+71+72 | C5: Πωλήσεις εμπορευμάτων, έτοιμων και ημιτελών προϊόντων, λοιπών αποθεμάτων (70+71+72)
A6: 2 | B6: 73 | C6: Πωλήσεις υπηρεσιών (73)
A7: 3 | B7: 74 | C7: Επιχορηγήσεις και διάφορα έσοδα πωλήσεων (74)
A8: 4 | B8: 75 | C8: Έσοδα παρεπόμενων ασχολιών (75)
A9: 5 | B9: 76 | C9: Έσοδα κεφαλαίων (76 πλην 76.04)
A10: 6 | B10: 78 | C10: Ιδιοπαραγωγή παγίων (78 πλην 78.05)
A11: 7 | B11: 40* | C11: Αύξηση μετοχικού κεφαλαίου (40)
A12: 8 | B12: 41 | C12: Επιχορηγήσεις παγίων επενδύσεων (41.10)
A13: 9 | B13: 43** | C13: Ποσά προορισμένα για αύξηση κεφαλαίου (43)
A14: 10 | B14: 81 | C14: Έκτακτα και ανόργανα έσοδα (81.01 πλην 81.01.04 και 81.01.05)
A15: 11 | B15: 82 | C15: Έσοδα προηγούμενων χρήσεων (82.01)
A16: 12 | B16: 10+11+12+13+14+15+16 | C16: Πωλήσεις παγίων περιουσιακών στοιχείων (10+11+12+13+14+15+16)
A17: 13 | B17: 20+24+25+26+28 | C17: Εκπτώσεις επί αγορών εμπορευμάτων, πρώτων και βοηθητικών υλών, ανταλλακτικών και λοιπών αποθεμάτων (20+24+25+26+28)
A18: Β | B18: Δαπάνες μη χρηματοοικονομικών συναλλαγών (14+15+16+17+18+19+20+21+22+23+24+25+26+27) | D18: =D19+D20+D21+D22+D23+D24+D25+D26+D27+D28+D29+D30+D31+D32 -> 0 | E18: =E19+E20+E21+E22+E23+E24+E25+E26+E27+E28+E29+E30+E31+E32 -> 0 | F18: =F19+F20+F21+F22+F23+F24+F25+F26+F27+F28+F29+F30+F31+F32 -> 0 | G18: =G19+G20+G21+G22+G23+G24+G25+G26+G27+G28+G29+G30+G31+G32 -> 0 | H18: =H19+H20+H21+H22+H23+H24+H25+H26+H27+H28+H29+H30+H31+H32 -> 0 | I18: =I19+I20+I21+I22+I23+I24+I25+I26+I27+I28+I29+I30+I31+I32 -> 0 | J18: =J19+J20+J21+J22+J23+J24+J25+J26+J27+J28+J29+J30+J31+J32 -> 0 | K18: =K19+K20+K21+K22+K23+K24+K25+K26+K27+K28+K29+K30+K31+K32 -> 0 | L18: =L19+L20+L21+L22+L23+L24+L25+L26+L27+L28+L29+L30+L31+L32 -> 0
A19: 14 | B19: 60 | C19: Αμοιβές και έξοδα προσωπικού (60 εκτός 60.05)
A20: 15 | B20: 61 | C20: Αμοιβές και έξοδα τρίτων (61)
A21: 16 | B21: 62 | C21: Παροχές τρίτων (62)
A22: 17 | B22: 63 | C22: Φόροι τέλη (63)
A23: 18 | B23: 64 | C23: Διάφορα έξοδα (64 συν 60.05, πλην 64.11 και 64.12)
A24: 19 | B24: 65 | C24: Τόκοι και συναφή έξοδα (65 συν 16.18)
A25: 20 | B25: 67 | C25: Έξοδα που δεν εντάσσονται στους λοιπούς λογαριασμούς και παρακολουθούνται στον λογ. 67 από τον φορέα
A26: 21 | B26: 69 | C26: Έξοδα που δεν εντάσσονται στους λοιπούς λογαριασμούς και παρακολουθούνται στον λογ. 69 από τον φορέα
A27: 22 | B27: 53.01 | C27: Μερίσματα πληρωτέα (53.01)
A28: 23 | B28: 54.08 | C28: Λογαριασμός εκκαθάρισης φόρων - τελών ετήσιας δήλωσης φόρου εισοδήματος (54.08)
A29: 24 | B29: 81 | C29: Έκτακτα και ανόργανα έξοδα (81.00 πλην 81.00.03 και 81.00.04)
A30: 25 | B30: 82 | C30: Έξοδα προηγούμενων χρήσεων (82.00)
A31: 26 | B31: 10+11+12+13+14+15+16 | C31: Αγορές παγίων περιουσιακών στοιχείων (10+11+12+13+14+15+16-16.18)
A32: 27 | B32: 20+24+25+26+28 | C32: Αγορές εμπορευμάτων, πρώτων και βοηθητικών υλών, ανταλλακτικών και λοιπών αποθεμάτων (20+24+25+26+28)
A33: Γ | B33: Ισοζύγιο (Α-Β) | D33: =D4-D18 -> 0 | E33: =E4-E18 -> 0 | F33: =F4-F18 -> 0 | G33: =G4-G18 -> 0 | H33: =H4-H18 -> 0 | I33: =I4-I18 -> 0 | J33: =J4-J18 -> 0 | K33: =K4-K18 -> 0 | L33: =L4-L18 -> 0
A34: * | B34: Ποσά προορισμένα για αύξηση μετοχικού κεφαλαίου και για πληρωμές από το Κράτος λόγω κατάπτωσης εγγυήσεων.
A35: ** | B35: Ποσά προορισμένα για αύξηση μετοχικού κεφαλαίου.
A36: Δ | B36: Έσοδα χρηματοοικονομικών συναλλαγών (28+29+30+31+32+33+34+35+36) | D36: =SUM(D37:D45) -> 0 | E36: =SUM(E37:E45) -> 0 | F36: =SUM(F37:F45) -> 0 | G36: =SUM(G37:G45) -> 0 | H36: =SUM(H37:H45) -> 0 | I36: =SUM(I37:I45) -> 0 | J36: =SUM(J37:J45) -> 0 | K36: =SUM(K37:K45) -> 0 | L36: =SUM(L37:L45) -> 0
A37: 28 | B37: 18 | C37: Συμμετοχές και λοιπές μακροπρόθεσμες απαιτήσεις (18)
A38: 29 | B38: 33 | C38: Χρεώστες διάφοροι (33)
A39: 30 | B39: 34 | C39: Χρεόγραφα (34)
A40: 31 | B40: 35 | C40: Λογαριασμοί διαχείρισης προκαταβολών και πιστώσεων (35)
A41: 32 | B41: 45 | C41: Μακροπρόθεσμες υποχρεώσεις (45)
A42: 33 | B42: 52 | C42: Τράπεζες - Λογαριασμοί βραχυπρόθεσμων υποχρεώσεων (52)
A43: 34 | B43: 53 | C43: Πιστωτές διάφοροι (53)
A44: 35 | B44: 54 | C44: Υποχρεώσεις από φόρους και τέλη (54 πλην 54.08)
A45: 36 | B45: 55 | C45: Ασφαλιστικοί οργανισμοί (55)
A46: Ε | B46: Δαπάνες χρηματοοικονομικών συναλλαγών (37+38+39+40+41+42+43+44+45) | D46: =SUM(D47:D55) -> 0 | E46: =SUM(E47:E55) -> 0 | F46: =SUM(F47:F55) -> 0 | G46: =SUM(G47:G55) -> 0 | H46: =SUM(H47:H55) -> 0 | I46: =SUM(I47:I55) -> 0 | J46: =SUM(J47:J55) -> 0 | K46: =SUM(K47:K55) -> 0 | L46: =SUM(L47:L55) -> 0
A47: 37 | B47: 18 | C47: Συμμετοχές και λοιπές μακροπρόθεσμες απαιτήσεις (18)
A48: 38 | B48: 33 | C48: Χρεώστες διάφοροι (33)
A49: 39 | B49: 34 | C49: Χρεόγραφα (34)
A50: 40 | B50: 35 | C50: Λογαριασμοί διαχείρισης προκαταβολών και πιστώσεων (35)
A51: 41 | B51: 45 | C51: Μακροπρόθεσμες υποχρεώσεις (45)
A52: 42 | B52: 52 | C52: Τράπεζες - Λογαριασμοί βραχυπρόθεσμων υποχρεώσεων (52)
A53: 43 | B53: 53 | C53: Πιστωτές διάφοροι (53 πλην 53.01)
A54: 44 | B54: 54 | C54: Υποχρεώσεις από φόρους και τέλη (54 πλην 54.08)
A55: 45 | B55: 55 | C55: Ασφαλιστικοί οργανισμοί (55)
A56: ΣΤ | B56: Γενικό Σύνολο Εσόδων (Α+Δ) | D56: =D4+D36 -> 0 | E56: =E4+E36 -> 0 | F56: =F4+F36 -> 0 | G56: =G4+G36 -> 0 | H56: =H4+H36 -> 0 | I56: =I4+I36 -> 0 | J56: =J4+J36 -> 0 | K56: =K4+K36 -> 0 | L56: =L4+L36 -> 0
A57: Ζ | B57: Γενικό Σύνολο Δαπανών (Β+Ε) | D57: =D18+D46 -> 0 | E57: =E18+E46 -> 0 | F57: =F18+F46 -> 0 | G57: =G18+G46 -> 0 | H57: =H18+H46 -> 0 | I57: =I18+I46 -> 0 | J57: =J18+J46 -> 0 | K57: =K18+K46 -> 0 | L57: =L18+L46 -> 0

Sheet Α2.2.2 ΠΔΕ Συγχρημ.
A1: Πίνακας Α2.2.2: Έσοδα - Δαπάνες ΑΕ, ΝΠΙΔ και Ειδικών Λογαριασμών που εφαρμόζουν το Ελληνικό Γενικό Λογιστικό Σχέδιο (ΠΔΕ Συγχρηματοδοτούμενο σκέλος)
D2: 2025 | E2: 2026 | F2: 2026 | G2: 2026 | H2: 2026 | I2: 2027 | J2: 2028 | K2: 2029 | L2: 2030
A3: α/α | B3: Λογαριασμοί ΕΓΛΣ | C3: Περιγραφή | D3: Πραγματοποιήσεις | E3: Αρχικός Προϋπολογισμός | F3: Διαμόρφωση (Αρχικός Π/Υ + τροποποιήσεις) | G3: Εκτέλεση Α΄ Εξαμήνου | H3: Εκτιμήσεις πραγματοποιήσεων έτους | I3: Προβλέψεις | J3: Προβλέψεις | K3: Προβλέψεις | L3: Προβλέψεις
A4: Α | B4: Έσοδα μη χρηματοοικονομικών συναλλαγών (1+2+3+4+5+6+7+8+9+10+11+12+13) | D4: =D5+D6+D7+D8+D9+D10+D11+D12+D13+D14+D15+D16+D17 -> 0 | E4: =E5+E6+E7+E8+E9+E10+E11+E12+E13+E14+E15+E16+E17 -> 0 | F4: =F5+F6+F7+F8+F9+F10+F11+F12+F13+F14+F15+F16+F17 -> 0 | G4: =G5+G6+G7+G8+G9+G10+G11+G12+G13+G14+G15+G16+G17 -> 0 | H4: =H5+H6+H7+H8+H9+H10+H11+H12+H13+H14+H15+H16+H17 -> 0 | I4: =I5+I6+I7+I8+I9+I10+I11+I12+I13+I14+I15+I16+I17 -> 0 | J4: =J5+J6+J7+J8+J9+J10+J11+J12+J13+J14+J15+J16+J17 -> 0 | K4: =K5+K6+K7+K8+K9+K10+K11+K12+K13+K14+K15+K16+K17 -> 0 | L4: =L5+L6+L7+L8+L9+L10+L11+L12+L13+L14+L15+L16+L17 -> 0
A5: 1 | B5: 70+71+72 | C5: Πωλήσεις εμπορευμάτων, έτοιμων και ημιτελών προϊόντων, λοιπών αποθεμάτων (70+71+72)
A6: 2 | B6: 73 | C6: Πωλήσεις υπηρεσιών (73)
A7: 3 | B7: 74 | C7: Επιχορηγήσεις και διάφορα έσοδα πωλήσεων (74)
A8: 4 | B8: 75 | C8: Έσοδα παρεπόμενων ασχολιών (75)
A9: 5 | B9: 76 | C9: Έσοδα κεφαλαίων (76 πλην 76.04)
A10: 6 | B10: 78 | C10: Ιδιοπαραγωγή παγίων (78 πλην 78.05)
A11: 7 | B11: 40* | C11: Αύξηση μετοχικού κεφαλαίου (40)
A12: 8 | B12: 41 | C12: Επιχορηγήσεις παγίων επενδύσεων (41.10)
A13: 9 | B13: 43** | C13: Ποσά προορισμένα για αύξηση κεφαλαίου (43)
A14: 10 | B14: 81 | C14: Έκτακτα και ανόργανα έσοδα (81.01 πλην 81.01.04 και 81.01.05)
A15: 11 | B15: 82 | C15: Έσοδα προηγούμενων χρήσεων (82.01)
A16: 12 | B16: 10+11+12+13+14+15+16 | C16: Πωλήσεις παγίων περιουσιακών στοιχείων (10+11+12+13+14+15+16)
A17: 13 | B17: 20+24+25+26+28 | C17: Εκπτώσεις επί αγορών εμπορευμάτων, πρώτων και βοηθητικών υλών, ανταλλακτικών και λοιπών αποθεμάτων (20+24+25+26+28)
A18: Β | B18: Δαπάνες μη χρηματοοικονομικών συναλλαγών (14+15+16+17+18+19+20+21+22+23+24+25+26+27) | D18: =D19+D20+D21+D22+D23+D24+D25+D26+D27+D28+D29+D30+D31+D32 -> 0 | E18: =E19+E20+E21+E22+E23+E24+E25+E26+E27+E28+E29+E30+E31+E32 -> 0 | F18: =F19+F20+F21+F22+F23+F24+F25+F26+F27+F28+F29+F30+F31+F32 -> 0 | G18: =G19+G20+G21+G22+G23+G24+G25+G26+G27+G28+G29+G30+G31+G32 -> 0 | H18: =H19+H20+H21+H22+H23+H24+H25+H26+H27+H28+H29+H30+H31+H32 -> 0 | I18: =I19+I20+I21+I22+I23+I24+I25+I26+I27+I28+I29+I30+I31+I32 -> 0 | J18: =J19+J20+J21+J22+J23+J24+J25+J26+J27+J28+J29+J30+J31+J32 -> 0 | K18: =K19+K20+K21+K22+K23+K24+K25+K26+K27+K28+K29+K30+K31+K32 -> 0 | L18: =L19+L20+L21+L22+L23+L24+L25+L26+L27+L28+L29+L30+L31+L32 -> 0
A19: 14 | B19: 60 | C19: Αμοιβές και έξοδα προσωπικού (60 εκτός 60.05)
A20: 15 | B20: 61 | C20: Αμοιβές και έξοδα τρίτων (61)
A21: 16 | B21: 62 | C21: Παροχές τρίτων (62)
A22: 17 | B22: 63 | C22: Φόροι τέλη (63)
A23: 18 | B23: 64 | C23: Διάφορα έξοδα (64 συν 60.05, πλην 64.11 και 64.12)
A24: 19 | B24: 65 | C24: Τόκοι και συναφή έξοδα (65 συν 16.18)
A25: 20 | B25: 67 | C25: Έξοδα που δεν εντάσσονται στους λοιπούς λογαριασμούς και παρακολουθούνται στον λογ. 67 από τον φορέα
A26: 21 | B26: 69 | C26: Έξοδα που δεν εντάσσονται στους λοιπούς λογαριασμούς και παρακολουθούνται στον λογ. 69 από τον φορέα
A27: 22 | B27: 53.01 | C27: Μερίσματα πληρωτέα (53.01)
A28: 23 | B28: 54.08 | C28: Λογαριασμός εκκαθάρισης φόρων - τελών ετήσιας δήλωσης φόρου εισοδήματος (54.08)
A29: 24 | B29: 81 | C29: Έκτακτα και ανόργανα έξοδα (81.00 πλην 81.00.03 και 81.00.04)
A30: 25 | B30: 82 | C30: Έξοδα προηγούμενων χρήσεων (82.00)
A31: 26 | B31: 10+11+12+13+14+15+16 | C31: Αγορές παγίων περιουσιακών στοιχείων (10+11+12+13+14+15+16-16.18)
A32: 27 | B32: 20+24+25+26+28 | C32: Αγορές εμπορευμάτων, πρώτων και βοηθητικών υλών, ανταλλακτικών και λοιπών αποθεμάτων (20+24+25+26+28)
A33: Γ | B33: Ισοζύγιο (Α-Β) | D33: =D4-D18 -> 0 | E33: =E4-E18 -> 0 | F33: =F4-F18 -> 0 | G33: =G4-G18 -> 0 | H33: =H4-H18 -> 0 | I33: =I4-I18 -> 0 | J33: =J4-J18 -> 0 | K33: =K4-K18 -> 0 | L33: =L4-L18 -> 0
A34: * | B34: Ποσά προορισμένα για αύξηση μετοχικού κεφαλαίου και για πληρωμές από το Κράτος λόγω κατάπτωσης εγγυήσεων.
A35: ** | B35: Ποσά προορισμένα για αύξηση μετοχικού κεφαλαίου.
A36: Δ | B36: Έσοδα χρηματοοικονομικών συναλλαγών (28+29+30+31+32+33+34+35+36) | D36: =SUM(D37:D45) -> 0 | E36: =SUM(E37:E45) -> 0 | F36: =SUM(F37:F45) -> 0 | G36: =SUM(G37:G45) -> 0 | H36: =SUM(H37:H45) -> 0 | I36: =SUM(I37:I45) -> 0 | J36: =SUM(J37:J45) -> 0 | K36: =SUM(K37:K45) -> 0 | L36: =SUM(L37:L45) -> 0
A37: 28 | B37: 18 | C37: Συμμετοχές και λοιπές μακροπρόθεσμες απαιτήσεις (18)
A38: 29 | B38: 33 | C38: Χρεώστες διάφοροι (33)
A39: 30 | B39: 34 | C39: Χρεόγραφα (34)
A40: 31 | B40: 35 | C40: Λογαριασμοί διαχείρισης προκαταβολών και πιστώσεων (35)
A41: 32 | B41: 45 | C41: Μακροπρόθεσμες υποχρεώσεις (45)
A42: 33 | B42: 52 | C42: Τράπεζες - Λογαριασμοί βραχυπρόθεσμων υποχρεώσεων (52)
A43: 34 | B43: 53 | C43: Πιστωτές διάφοροι (53)
A44: 35 | B44: 54 | C44: Υποχρεώσεις από φόρους και τέλη (54 πλην 54.08)
A45: 36 | B45: 55 | C45: Ασφαλιστικοί οργανισμοί (55)
A46: Ε | B46: Δαπάνες χρηματοοικονομικών συναλλαγών (37+38+39+40+41+42+43+44+45) | D46: =SUM(D47:D55) -> 0 | E46: =SUM(E47:E55) -> 0 | F46: =SUM(F47:F55) -> 0 | G46: =SUM(G47:G55) -> 0 | H46: =SUM(H47:H55) -> 0 | I46: =SUM(I47:I55) -> 0 | J46: =SUM(J47:J55) -> 0 | K46: =SUM(K47:K55) -> 0 | L46: =SUM(L47:L55) -> 0
A47: 37 | B47: 18 | C47: Συμμετοχές και λοιπές μακροπρόθεσμες απαιτήσεις (18)
A48: 38 | B48: 33 | C48: Χρεώστες διάφοροι (33)
A49: 39 | B49: 34 | C49: Χρεόγραφα (34)
A50: 40 | B50: 35 | C50: Λογαριασμοί διαχείρισης προκαταβολών και πιστώσεων (35)
A51: 41 | B51: 45 | C51: Μακροπρόθεσμες υποχρεώσεις (45)
A52: 42 | B52: 52 | C52: Τράπεζες - Λογαριασμοί βραχυπρόθεσμων υποχρεώσεων (52)
A53: 43 | B53: 53 | C53: Πιστωτές διάφοροι (53 πλην 53.01)
A54: 44 | B54: 54 | C54: Υποχρεώσεις από φόρους και τέλη (54 πλην 54.08)
A55: 45 | B55: 55 | C55: Ασφαλιστικοί οργανισμοί (55)
A56: ΣΤ | B56: Γενικό Σύνολο Εσόδων (Α+Δ) | D56: =D4+D36 -> 0 | E56: =E4+E36 -> 0 | F56: =F4+F36 -> 0 | G56: =G4+G36 -> 0 | H56: =H4+H36 -> 0 | I56: =I4+I36 -> 0 | J56: =J4+J36 -> 0 | K56: =K4+K36 -> 0 | L56: =L4+L36 -> 0
A57: Ζ | B57: Γενικό Σύνολο Δαπανών (Β+Ε) | D57: =D18+D46 -> 0 | E57: =E18+E46 -> 0 | F57: =F18+F46 -> 0 | G57: =G18+G46 -> 0 | H57: =H18+H46 -> 0 | I57: =I18+I46 -> 0 | J57: =J18+J46 -> 0 | K57: =K18+K46 -> 0 | L57: =L18+L46 -> 0

Sheet Α2.2.3 ΤΑΑ
A1: Πίνακας Α2.2.3: Έσοδα - Δαπάνες ΑΕ, ΝΠΙΔ και Ειδικών Λογαριασμών που εφαρμόζουν το Ελληνικό Γενικό Λογιστικό Σχέδιο (Ταμείο Ανάκαμψης και Ανθεκτικότητας)
D2: 2025 | E2: 2026 | F2: 2026 | G2: 2026 | H2: 2026 | I2: 2027
A3: α/α | B3: Λογαριασμοί ΕΓΛΣ | C3: Περιγραφή | D3: Πραγματοποιήσεις | E3: Αρχικός Προϋπολογισμός | F3: Διαμόρφωση (Αρχικός Π/Υ + τροποποιήσεις) | G3: Εκτέλεση Α΄ Εξαμήνου | H3: Εκτιμήσεις πραγματοποιήσεων έτους | I3: Προβλέψεις
A4: Α | B4: Έσοδα μη χρηματοοικονομικών συναλλαγών (1+2+3+4+5+6+7+8+9+10+11+12+13) | D4: =D5+D6+D7+D8+D9+D10+D11+D12+D13+D14+D15+D16+D17 -> 0 | E4: =E5+E6+E7+E8+E9+E10+E11+E12+E13+E14+E15+E16+E17 -> 0 | F4: =F5+F6+F7+F8+F9+F10+F11+F12+F13+F14+F15+F16+F17 -> 0 | G4: =G5+G6+G7+G8+G9+G10+G11+G12+G13+G14+G15+G16+G17 -> 0 | H4: =H5+H6+H7+H8+H9+H10+H11+H12+H13+H14+H15+H16+H17 -> 0 | I4: =I5+I6+I7+I8+I9+I10+I11+I12+I13+I14+I15+I16+I17 -> 0
A5: 1 | B5: 70+71+72 | C5: Πωλήσεις εμπορευμάτων, έτοιμων και ημιτελών προϊόντων, λοιπών αποθεμάτων (70+71+72)
A6: 2 | B6: 73 | C6: Πωλήσεις υπηρεσιών (73)
A7: 3 | B7: 74 | C7: Επιχορηγήσεις και διάφορα έσοδα πωλήσεων (74)
A8: 4 | B8: 75 | C8: Έσοδα παρεπόμενων ασχολιών (75)
A9: 5 | B9: 76 | C9: Έσοδα κεφαλαίων (76 πλην 76.04)
A10: 6 | B10: 78 | C10: Ιδιοπαραγωγή παγίων (78 πλην 78.05)
A11: 7 | B11: 40* | C11: Αύξηση μετοχικού κεφαλαίου (40)
A12: 8 | B12: 41 | C12: Επιχορηγήσεις παγίων επενδύσεων (41.10)
A13: 9 | B13: 43** | C13: Ποσά προορισμένα για αύξηση κεφαλαίου (43)
A14: 10 | B14: 81 | C14: Έκτακτα και ανόργανα έσοδα (81.01 πλην 81.01.04 και 81.01.05)
A15: 11 | B15: 82 | C15: Έσοδα προηγούμενων χρήσεων (82.01)
A16: 12 | B16: 10+11+12+13+14+15+16 | C16: Πωλήσεις παγίων περιουσιακών στοιχείων (10+11+12+13+14+15+16)
A17: 13 | B17: 20+24+25+26+28 | C17: Εκπτώσεις επί αγορών εμπορευμάτων, πρώτων και βοηθητικών υλών, ανταλλακτικών και λοιπών αποθεμάτων (20+24+25+26+28)
A18: Β | B18: Δαπάνες μη χρηματοοικονομικών συναλλαγών (14+15+16+17+18+19+20+21+22+23+24+25+26+27) | D18: =D19+D20+D21+D22+D23+D24+D25+D26+D27+D28+D29+D30+D31+D32 -> 0 | E18: =E19+E20+E21+E22+E23+E24+E25+E26+E27+E28+E29+E30+E31+E32 -> 0 | F18: =F19+F20+F21+F22+F23+F24+F25+F26+F27+F28+F29+F30+F31+F32 -> 0 | G18: =G19+G20+G21+G22+G23+G24+G25+G26+G27+G28+G29+G30+G31+G32 -> 0 | H18: =H19+H20+H21+H22+H23+H24+H25+H26+H27+H28+H29+H30+H31+H32 -> 0 | I18: =I19+I20+I21+I22+I23+I24+I25+I26+I27+I28+I29+I30+I31+I32 -> 0
A19: 14 | B19: 60 | C19: Αμοιβές και έξοδα προσωπικού (60 εκτός 60.05)
A20: 15 | B20: 61 | C20: Αμοιβές και έξοδα τρίτων (61)
A21: 16 | B21: 62 | C21: Παροχές τρίτων (62)
A22: 17 | B22: 63 | C22: Φόροι τέλη (63)
A23: 18 | B23: 64 | C23: Διάφορα έξοδα (64 συν 60.05, πλην 64.11 και 64.12)
A24: 19 | B24: 65 | C24: Τόκοι και συναφή έξοδα (65 συν 16.18)
A25: 20 | B25: 67 | C25: Έξοδα που δεν εντάσσονται στους λοιπούς λογαριασμούς και παρακολουθούνται στον λογ. 67 από τον φορέα
A26: 21 | B26: 69 | C26: Έξοδα που δεν εντάσσονται στους λοιπούς λογαριασμούς και παρακολουθούνται στον λογ. 69 από τον φορέα
A27: 22 | B27: 53.01 | C27: Μερίσματα πληρωτέα (53.01)
A28: 23 | B28: 54.08 | C28: Λογαριασμός εκκαθάρισης φόρων - τελών ετήσιας δήλωσης φόρου εισοδήματος (54.08)
A29: 24 | B29: 81 | C29: Έκτακτα και ανόργανα έξοδα (81.00 πλην 81.00.03 και 81.00.04)
A30: 25 | B30: 82 | C30: Έξοδα προηγούμενων χρήσεων (82.00)
A31: 26 | B31: 10+11+12+13+14+15+16 | C31: Αγορές παγίων περιουσιακών στοιχείων (10+11+12+13+14+15+16-16.18)
A32: 27 | B32: 20+24+25+26+28 | C32: Αγορές εμπορευμάτων, πρώτων και βοηθητικών υλών, ανταλλακτικών και λοιπών αποθεμάτων (20+24+25+26+28)
A33: Γ | B33: Ισοζύγιο (Α-Β) | D33: =D4-D18 -> 0 | E33: =E4-E18 -> 0 | F33: =F4-F18 -> 0 | G33: =G4-G18 -> 0 | H33: =H4-H18 -> 0 | I33: =I4-I18 -> 0
A34: * | B34: Ποσά προορισμένα για αύξηση μετοχικού κεφαλαίου και για πληρωμές από το Κράτος λόγω κατάπτωσης εγγυήσεων.
A35: ** | B35: Ποσά προορισμένα για αύξηση μετοχικού κεφαλαίου.
A36: Δ | B36: Έσοδα χρηματοοικονομικών συναλλαγών (28+29+30+31+32+33+34+35+36) | D36: =SUM(D37:D45) -> 0 | E36: =SUM(E37:E45) -> 0 | F36: =SUM(F37:F45) -> 0 | G36: =SUM(G37:G45) -> 0 | H36: =SUM(H37:H45) -> 0 | I36: =SUM(I37:I45) -> 0
A37: 28 | B37: 18 | C37: Συμμετοχές και λοιπές μακροπρόθεσμες απαιτήσεις (18)
A38: 29 | B38: 33 | C38: Χρεώστες διάφοροι (33)
A39: 30 | B39: 34 | C39: Χρεόγραφα (34)
A40: 31 | B40: 35 | C40: Λογαριασμοί διαχείρισης προκαταβολών και πιστώσεων (35)
A41: 32 | B41: 45 | C41: Μακροπρόθεσμες υποχρεώσεις (45)
A42: 33 | B42: 52 | C42: Τράπεζες - Λογαριασμοί βραχυπρόθεσμων υποχρεώσεων (52)
A43: 34 | B43: 53 | C43: Πιστωτές διάφοροι (53)
A44: 35 | B44: 54 | C44: Υποχρεώσεις από φόρους και τέλη (54 πλην 54.08)
A45: 36 | B45: 55 | C45: Ασφαλιστικοί οργανισμοί (55)
A46: Ε | B46: Δαπάνες χρηματοοικονομικών συναλλαγών (37+38+39+40+41+42+43+44+45) | D46: =SUM(D47:D55) -> 0 | E46: =SUM(E47:E55) -> 0 | F46: =SUM(F47:F55) -> 0 | G46: =SUM(G47:G55) -> 0 | H46: =SUM(H47:H55) -> 0 | I46: =SUM(I47:I55) -> 0
A47: 37 | B47: 18 | C47: Συμμετοχές και λοιπές μακροπρόθεσμες απαιτήσεις (18)
A48: 38 | B48: 33 | C48: Χρεώστες διάφοροι (33)
A49: 39 | B49: 34 | C49: Χρεόγραφα (34)
A50: 40 | B50: 35 | C50: Λογαριασμοί διαχείρισης προκαταβολών και πιστώσεων (35)
A51: 41 | B51: 45 | C51: Μακροπρόθεσμες υποχρεώσεις (45)
A52: 42 | B52: 52 | C52: Τράπεζες - Λογαριασμοί βραχυπρόθεσμων υποχρεώσεων (52)
A53: 43 | B53: 53 | C53: Πιστωτές διάφοροι (53 πλην 53.01)
A54: 44 | B54: 54 | C54: Υποχρεώσεις από φόρους και τέλη (54 πλην 54.08)
A55: 45 | B55: 55 | C55: Ασφαλιστικοί οργανισμοί (55)
A56: ΣΤ | B56: Γενικό Σύνολο Εσόδων (Α+Δ) | D56: =D4+D36 -> 0 | E56: =E4+E36 -> 0 | F56: =F4+F36 -> 0 | G56: =G4+G36 -> 0 | H56: =H4+H36 -> 0 | I56: =I4+I36 -> 0
A57: Ζ | B57: Γενικό Σύνολο Δαπανών (Β+Ε) | D57: =D18+D46 -> 0 | E57: =E18+E46 -> 0 | F57: =F18+F46 -> 0 | G57: =G18+G46 -> 0 | H57: =H18+H46 -> 0 | I57: =I18+I46 -> 0

Sheet Α2.2.4 Πράσινο Ταμείο
A1: Πίνακας Α2.2.4: Έσοδα - Δαπάνες ΑΕ, ΝΠΙΔ και Ειδικών Λογαριασμών που εφαρμόζουν το Ελληνικό Γενικό Λογιστικό Σχέδιο (Πράσινο Ταμείο)
D2: 2025 | E2: 2026 | F2: 2026 | G2: 2026 | H2: 2026 | I2: 2027 | J2: 2028 | K2: 2029 | L2: 2030
A3: α/α | B3: Λογαριασμοί ΕΓΛΣ | C3: Περιγραφή | D3: Πραγματοποιήσεις | E3: Αρχικός Προϋπολογισμός | F3: Διαμόρφωση (Αρχικός Π/Υ + τροποποιήσεις) | G3: Εκτέλεση Α΄ Εξαμήνου | H3: Εκτιμήσεις πραγματοποιήσεων έτους | I3: Προβλέψεις | J3: Προβλέψεις | K3: Προβλέψεις | L3: Προβλέψεις
A4: Α | B4: Έσοδα μη χρηματοοικονομικών συναλλαγών (1+2+3+4+5+6+7+8+9+10+11+12+13) | D4: =D5+D6+D7+D8+D9+D10+D11+D12+D13+D14+D15+D16+D17 -> 0 | E4: =E5+E6+E7+E8+E9+E10+E11+E12+E13+E14+E15+E16+E17 -> 0 | F4: =F5+F6+F7+F8+F9+F10+F11+F12+F13+F14+F15+F16+F17 -> 0 | G4: =G5+G6+G7+G8+G9+G10+G11+G12+G13+G14+G15+G16+G17 -> 0 | H4: =H5+H6+H7+H8+H9+H10+H11+H12+H13+H14+H15+H16+H17 -> 0 | I4: =I5+I6+I7+I8+I9+I10+I11+I12+I13+I14+I15+I16+I17 -> 0 | J4: =J5+J6+J7+J8+J9+J10+J11+J12+J13+J14+J15+J16+J17 -> 0 | K4: =K5+K6+K7+K8+K9+K10+K11+K12+K13+K14+K15+K16+K17 -> 0 | L4: =L5+L6+L7+L8+L9+L10+L11+L12+L13+L14+L15+L16+L17 -> 0
A5: 1 | B5: 70+71+72 | C5: Πωλήσεις εμπορευμάτων, έτοιμων και ημιτελών προϊόντων, λοιπών αποθεμάτων (70+71+72)
A6: 2 | B6: 73 | C6: Πωλήσεις υπηρεσιών (73)
A7: 3 | B7: 74 | C7: Επιχορηγήσεις και διάφορα έσοδα πωλήσεων (74)
A8: 4 | B8: 75 | C8: Έσοδα παρεπόμενων ασχολιών (75)
A9: 5 | B9: 76 | C9: Έσοδα κεφαλαίων (76 πλην 76.04)
A10: 6 | B10: 78 | C10: Ιδιοπαραγωγή παγίων (78 πλην 78.05)
A11: 7 | B11: 40* | C11: Αύξηση μετοχικού κεφαλαίου (40)
A12: 8 | B12: 41 | C12: Επιχορηγήσεις παγίων επενδύσεων (41.10)
A13: 9 | B13: 43** | C13: Ποσά προορισμένα για αύξηση κεφαλαίου (43)
A14: 10 | B14: 81 | C14: Έκτακτα και ανόργανα έσοδα (81.01 πλην 81.01.04 και 81.01.05)
A15: 11 | B15: 82 | C15: Έσοδα προηγούμενων χρήσεων (82.01)
A16: 12 | B16: 10+11+12+13+14+15+16 | C16: Πωλήσεις παγίων περιουσιακών στοιχείων (10+11+12+13+14+15+16)
A17: 13 | B17: 20+24+25+26+28 | C17: Εκπτώσεις επί αγορών εμπορευμάτων, πρώτων και βοηθητικών υλών, ανταλλακτικών και λοιπών αποθεμάτων (20+24+25+26+28)
A18: Β | B18: Δαπάνες μη χρηματοοικονομικών συναλλαγών (14+15+16+17+18+19+20+21+22+23+24+25+26+27) | D18: =D19+D20+D21+D22+D23+D24+D25+D26+D27+D28+D29+D30+D31+D32 -> 0 | E18: =E19+E20+E21+E22+E23+E24+E25+E26+E27+E28+E29+E30+E31+E32 -> 0 | F18: =F19+F20+F21+F22+F23+F24+F25+F26+F27+F28+F29+F30+F31+F32 -> 0 | G18: =G19+G20+G21+G22+G23+G24+G25+G26+G27+G28+G29+G30+G31+G32 -> 0 | H18: =H19+H20+H21+H22+H23+H24+H25+H26+H27+H28+H29+H30+H31+H32 -> 0 | I18: =I19+I20+I21+I22+I23+I24+I25+I26+I27+I28+I29+I30+I31+I32 -> 0 | J18: =J19+J20+J21+J22+J23+J24+J25+J26+J27+J28+J29+J30+J31+J32 -> 0 | K18: =K19+K20+K21+K22+K23+K24+K25+K26+K27+K28+K29+K30+K31+K32 -> 0 | L18: =L19+L20+L21+L22+L23+L24+L25+L26+L27+L28+L29+L30+L31+L32 -> 0
A19: 14 | B19: 60 | C19: Αμοιβές και έξοδα προσωπικού (60 εκτός 60.05)
A20: 15 | B20: 61 | C20: Αμοιβές και έξοδα τρίτων (61)
A21: 16 | B21: 62 | C21: Παροχές τρίτων (62)
A22: 17 | B22: 63 | C22: Φόροι τέλη (63)
A23: 18 | B23: 64 | C23: Διάφορα έξοδα (64 συν 60.05, πλην 64.11 και 64.12)
A24: 19 | B24: 65 | C24: Τόκοι και συναφή έξοδα (65 συν 16.18)
A25: 20 | B25: 67 | C25: Έξοδα που δεν εντάσσονται στους λοιπούς λογαριασμούς και παρακολουθούνται στον λογ. 67 από τον φορέα
A26: 21 | B26: 69 | C26: Έξοδα που δεν εντάσσονται στους λοιπούς λογαριασμούς και παρακολουθούνται στον λογ. 69 από τον φορέα
A27: 22 | B27: 53.01 | C27: Μερίσματα πληρωτέα (53.01)
A28: 23 | B28: 54.08 | C28: Λογαριασμός εκκαθάρισης φόρων - τελών ετήσιας δήλωσης φόρου εισοδήματος (54.08)
A29: 24 | B29: 81 | C29: Έκτακτα και ανόργανα έξοδα (81.00 πλην 81.00.03 και 81.00.04)
A30: 25 | B30: 82 | C30: Έξοδα προηγούμενων χρήσεων (82.00)
A31: 26 | B31: 10+11+12+13+14+15+16 | C31: Αγορές παγίων περιουσιακών στοιχείων (10+11+12+13+14+15+16-16.18)
A32: 27 | B32: 20+24+25+26+28 | C32: Αγορές εμπορευμάτων, πρώτων και βοηθητικών υλών, ανταλλακτικών και λοιπών αποθεμάτων (20+24+25+26+28)
A33: Γ | B33: Ισοζύγιο (Α-Β) | D33: =D4-D18 -> 0 | E33: =E4-E18 -> 0 | F33: =F4-F18 -> 0 | G33: =G4-G18 -> 0 | H33: =H4-H18 -> 0 | I33: =I4-I18 -> 0 | J33: =J4-J18 -> 0 | K33: =K4-K18 -> 0 | L33: =L4-L18 -> 0
A34: * | B34: Ποσά προορισμένα για αύξηση μετοχικού κεφαλαίου και για πληρωμές από το Κράτος λόγω κατάπτωσης εγγυήσεων.
A35: ** | B35: Ποσά προορισμένα για αύξηση μετοχικού κεφαλαίου.
A36: Δ | B36: Έσοδα χρηματοοικονομικών συναλλαγών (28+29+30+31+32+33+34+35+36) | D36: =SUM(D37:D45) -> 0 | E36: =SUM(E37:E45) -> 0 | F36: =SUM(F37:F45) -> 0 | G36: =SUM(G37:G45) -> 0 | H36: =SUM(H37:H45) -> 0 | I36: =SUM(I37:I45) -> 0 | J36: =SUM(J37:J45) -> 0 | K36: =SUM(K37:K45) -> 0 | L36: =SUM(L37:L45) -> 0
A37: 28 | B37: 18 | C37: Συμμετοχές και λοιπές μακροπρόθεσμες απαιτήσεις (18)
A38: 29 | B38: 33 | C38: Χρεώστες διάφοροι (33)
A39: 30 | B39: 34 | C39: Χρεόγραφα (34)
A40: 31 | B40: 35 | C40: Λογαριασμοί διαχείρισης προκαταβολών και πιστώσεων (35)
A41: 32 | B41: 45 | C41: Μακροπρόθεσμες υποχρεώσεις (45)
A42: 33 | B42: 52 | C42: Τράπεζες - Λογαριασμοί βραχυπρόθεσμων υποχρεώσεων (52)
A43: 34 | B43: 53 | C43: Πιστωτές διάφοροι (53)
A44: 35 | B44: 54 | C44: Υποχρεώσεις από φόρους και τέλη (54 πλην 54.08)
A45: 36 | B45: 55 | C45: Ασφαλιστικοί οργανισμοί (55)
A46: Ε | B46: Δαπάνες χρηματοοικονομικών συναλλαγών (37+38+39+40+41+42+43+44+45) | D46: =SUM(D47:D55) -> 0 | E46: =SUM(E47:E55) -> 0 | F46: =SUM(F47:F55) -> 0 | G46: =SUM(G47:G55) -> 0 | H46: =SUM(H47:H55) -> 0 | I46: =SUM(I47:I55) -> 0 | J46: =SUM(J47:J55) -> 0 | K46: =SUM(K47:K55) -> 0 | L46: =SUM(L47:L55) -> 0
A47: 37 | B47: 18 | C47: Συμμετοχές και λοιπές μακροπρόθεσμες απαιτήσεις (18)
A48: 38 | B48: 33 | C48: Χρεώστες διάφοροι (33)
A49: 39 | B49: 34 | C49: Χρεόγραφα (34)
A50: 40 | B50: 35 | C50: Λογαριασμοί διαχείρισης προκαταβολών και πιστώσεων (35)
A51: 41 | B51: 45 | C51: Μακροπρόθεσμες υποχρεώσεις (45)
A52: 42 | B52: 52 | C52: Τράπεζες - Λογαριασμοί βραχυπρόθεσμων υποχρεώσεων (52)
A53: 43 | B53: 53 | C53: Πιστωτές διάφοροι (53 πλην 53.01)
A54: 44 | B54: 54 | C54: Υποχρεώσεις από φόρους και τέλη (54 πλην 54.08)
A55: 45 | B55: 55 | C55: Ασφαλιστικοί οργανισμοί (55)
A56: ΣΤ | B56: Γενικό Σύνολο Εσόδων (Α+Δ) | D56: =D4+D36 -> 0 | E56: =E4+E36 -> 0 | F56: =F4+F36 -> 0 | G56: =G4+G36 -> 0 | H56: =H4+H36 -> 0 | I56: =I4+I36 -> 0 | J56: =J4+J36 -> 0 | K56: =K4+K36 -> 0 | L56: =L4+L36 -> 0
A57: Ζ | B57: Γενικό Σύνολο Δαπανών (Β+Ε) | D57: =D18+D46 -> 0 | E57: =E18+E46 -> 0 | F57: =F18+F46 -> 0 | G57: =G18+G46 -> 0 | H57: =H18+H46 -> 0 | I57: =I18+I46 -> 0 | J57: =J18+J46 -> 0 | K57: =K18+K46 -> 0 | L57: =L18+L46 -> 0

Sheet Α2.2.5 ΑΝΤΩΝΗΣ ΤΡΙΤΣΗΣ κτλ
A1: Πίνακας Α2.2.5: Έσοδα - Δαπάνες ΑΕ, ΝΠΙΔ και Ειδικών Λογαριασμών που εφαρμόζουν το Ελληνικό Γενικό Λογιστικό Σχέδιο ("Αντώνης Τρίτσης" και συναφή)
D2: 2025 | E2: 2026 | F2: 2026 | G2: 2026 | H2: 2026 | I2: 2027 | J2: 2028 | K2: 2029 | L2: 2030
A3: α/α | B3: Λογαριασμοί ΕΓΛΣ | C3: Περιγραφή | D3: Πραγματοποιήσεις | E3: Αρχικός Προϋπολογισμός | F3: Διαμόρφωση (Αρχικός Π/Υ + τροποποιήσεις) | G3: Εκτέλεση Α΄ Εξαμήνου | H3: Εκτιμήσεις πραγματοποιήσεων έτους | I3: Προβλέψεις | J3: Προβλέψεις | K3: Προβλέψεις | L3: Προβλέψεις
A4: Α | B4: Έσοδα μη χρηματοοικονομικών συναλλαγών (1+2+3+4+5+6+7+8+9+10+11+12+13) | D4: =D5+D6+D7+D8+D9+D10+D11+D12+D13+D14+D15+D16+D17 -> 0 | E4: =E5+E6+E7+E8+E9+E10+E11+E12+E13+E14+E15+E16+E17 -> 0 | F4: =F5+F6+F7+F8+F9+F10+F11+F12+F13+F14+F15+F16+F17 -> 0 | G4: =G5+G6+G7+G8+G9+G10+G11+G12+G13+G14+G15+G16+G17 -> 0 | H4: =H5+H6+H7+H8+H9+H10+H11+H12+H13+H14+H15+H16+H17 -> 0 | I4: =I5+I6+I7+I8+I9+I10+I11+I12+I13+I14+I15+I16+I17 -> 0 | J4: =J5+J6+J7+J8+J9+J10+J11+J12+J13+J14+J15+J16+J17 -> 0 | K4: =K5+K6+K7+K8+K9+K10+K11+K12+K13+K14+K15+K16+K17 -> 0 | L4: =L5+L6+L7+L8+L9+L10+L11+L12+L13+L14+L15+L16+L17 -> 0
A5: 1 | B5: 70+71+72 | C5: Πωλήσεις εμπορευμάτων, έτοιμων και ημιτελών προϊόντων, λοιπών αποθεμάτων (70+71+72)
A6: 2 | B6: 73 | C6: Πωλήσεις υπηρεσιών (73)
A7: 3 | B7: 74 | C7: Επιχορηγήσεις και διάφορα έσοδα πωλήσεων (74)
A8: 4 | B8: 75 | C8: Έσοδα παρεπόμενων ασχολιών (75)
A9: 5 | B9: 76 | C9: Έσοδα κεφαλαίων (76 πλην 76.04)
A10: 6 | B10: 78 | C10: Ιδιοπαραγωγή παγίων (78 πλην 78.05)
A11: 7 | B11: 40* | C11: Αύξηση μετοχικού κεφαλαίου (40)
A12: 8 | B12: 41 | C12: Επιχορηγήσεις παγίων επενδύσεων (41.10)
A13: 9 | B13: 43** | C13: Ποσά προορισμένα για αύξηση κεφαλαίου (43)
A14: 10 | B14: 81 | C14: Έκτακτα και ανόργανα έσοδα (81.01 πλην 81.01.04 και 81.01.05)
A15: 11 | B15: 82 | C15: Έσοδα προηγούμενων χρήσεων (82.01)
A16: 12 | B16: 10+11+12+13+14+15+16 | C16: Πωλήσεις παγίων περιουσιακών στοιχείων (10+11+12+13+14+15+16)
A17: 13 | B17: 20+24+25+26+28 | C17: Εκπτώσεις επί αγορών εμπορευμάτων, πρώτων και βοηθητικών υλών, ανταλλακτικών και λοιπών αποθεμάτων (20+24+25+26+28)
A18: Β | B18: Δαπάνες μη χρηματοοικονομικών συναλλαγών (14+15+16+17+18+19+20+21+22+23+24+25+26+27) | D18: =D19+D20+D21+D22+D23+D24+D25+D26+D27+D28+D29+D30+D31+D32 -> 0 | E18: =E19+E20+E21+E22+E23+E24+E25+E26+E27+E28+E29+E30+E31+E32 -> 0 | F18: =F19+F20+F21+F22+F23+F24+F25+F26+F27+F28+F29+F30+F31+F32 -> 0 | G18: =G19+G20+G21+G22+G23+G24+G25+G26+G27+G28+G29+G30+G31+G32 -> 0 | H18: =H19+H20+H21+H22+H23+H24+H25+H26+H27+H28+H29+H30+H31+H32 -> 0 | I18: =I19+I20+I21+I22+I23+I24+I25+I26+I27+I28+I29+I30+I31+I32 -> 0 | J18: =J19+J20+J21+J22+J23+J24+J25+J26+J27+J28+J29+J30+J31+J32 -> 0 | K18: =K19+K20+K21+K22+K23+K24+K25+K26+K27+K28+K29+K30+K31+K32 -> 0 | L18: =L19+L20+L21+L22+L23+L24+L25+L26+L27+L28+L29+L30+L31+L32 -> 0
A19: 14 | B19: 60 | C19: Αμοιβές και έξοδα προσωπικού (60 εκτός 60.05)
A20: 15 | B20: 61 | C20: Αμοιβές και έξοδα τρίτων (61)
A21: 16 | B21: 62 | C21: Παροχές τρίτων (62)
A22: 17 | B22: 63 | C22: Φόροι τέλη (63)
A23: 18 | B23: 64 | C23: Διάφορα έξοδα (64 συν 60.05, πλην 64.11 και 64.12)
A24: 19 | B24: 65 | C24: Τόκοι και συναφή έξοδα (65 συν 16.18)
A25: 20 | B25: 67 | C25: Έξοδα που δεν εντάσσονται στους λοιπούς λογαριασμούς και παρακολουθούνται στον λογ. 67 από τον φορέα
A26: 21 | B26: 69 | C26: Έξοδα που δεν εντάσσονται στους λοιπούς λογαριασμούς και παρακολουθούνται στον λογ. 69 από τον φορέα
A27: 22 | B27: 53.01 | C27: Μερίσματα πληρωτέα (53.01)
A28: 23 | B28: 54.08 | C28: Λογαριασμός εκκαθάρισης φόρων - τελών ετήσιας δήλωσης φόρου εισοδήματος (54.08)
A29: 24 | B29: 81 | C29: Έκτακτα και ανόργανα έξοδα (81.00 πλην 81.00.03 και 81.00.04)
A30: 25 | B30: 82 | C30: Έξοδα προηγούμενων χρήσεων (82.00)
A31: 26 | B31: 10+11+12+13+14+15+16 | C31: Αγορές παγίων περιουσιακών στοιχείων (10+11+12+13+14+15+16-16.18)
A32: 27 | B32: 20+24+25+26+28 | C32: Αγορές εμπορευμάτων, πρώτων και βοηθητικών υλών, ανταλλακτικών και λοιπών αποθεμάτων (20+24+25+26+28)
A33: Γ | B33: Ισοζύγιο (Α-Β) | D33: =D4-D18 -> 0 | E33: =E4-E18 -> 0 | F33: =F4-F18 -> 0 | G33: =G4-G18 -> 0 | H33: =H4-H18 -> 0 | I33: =I4-I18 -> 0 | J33: =J4-J18 -> 0 | K33: =K4-K18 -> 0 | L33: =L4-L18 -> 0
A34: * | B34: Ποσά προορισμένα για αύξηση μετοχικού κεφαλαίου και για πληρωμές από το Κράτος λόγω κατάπτωσης εγγυήσεων.
A35: ** | B35: Ποσά προορισμένα για αύξηση μετοχικού κεφαλαίου.
A36: Δ | B36: Έσοδα χρηματοοικονομικών συναλλαγών (28+29+30+31+32+33+34+35+36) | D36: =SUM(D37:D45) -> 0 | E36: =SUM(E37:E45) -> 0 | F36: =SUM(F37:F45) -> 0 | G36: =SUM(G37:G45) -> 0 | H36: =SUM(H37:H45) -> 0 | I36: =SUM(I37:I45) -> 0 | J36: =SUM(J37:J45) -> 0 | K36: =SUM(K37:K45) -> 0 | L36: =SUM(L37:L45) -> 0
A37: 28 | B37: 18 | C37: Συμμετοχές και λοιπές μακροπρόθεσμες απαιτήσεις (18)
A38: 29 | B38: 33 | C38: Χρεώστες διάφοροι (33)
A39: 30 | B39: 34 | C39: Χρεόγραφα (34)
A40: 31 | B40: 35 | C40: Λογαριασμοί διαχείρισης προκαταβολών και πιστώσεων (35)
A41: 32 | B41: 45 | C41: Μακροπρόθεσμες υποχρεώσεις (45)
A42: 33 | B42: 52 | C42: Τράπεζες - Λογαριασμοί βραχυπρόθεσμων υποχρεώσεων (52)
A43: 34 | B43: 53 | C43: Πιστωτές διάφοροι (53)
A44: 35 | B44: 54 | C44: Υποχρεώσεις από φόρους και τέλη (54 πλην 54.08)
A45: 36 | B45: 55 | C45: Ασφαλιστικοί οργανισμοί (55)
A46: Ε | B46: Δαπάνες χρηματοοικονομικών συναλλαγών (37+38+39+40+41+42+43+44+45) | D46: =SUM(D47:D55) -> 0 | E46: =SUM(E47:E55) -> 0 | F46: =SUM(F47:F55) -> 0 | G46: =SUM(G47:G55) -> 0 | H46: =SUM(H47:H55) -> 0 | I46: =SUM(I47:I55) -> 0 | J46: =SUM(J47:J55) -> 0 | K46: =SUM(K47:K55) -> 0 | L46: =SUM(L47:L55) -> 0
A47: 37 | B47: 18 | C47: Συμμετοχές και λοιπές μακροπρόθεσμες απαιτήσεις (18)
A48: 38 | B48: 33 | C48: Χρεώστες διάφοροι (33)
A49: 39 | B49: 34 | C49: Χρεόγραφα (34)
A50: 40 | B50: 35 | C50: Λογαριασμοί διαχείρισης προκαταβολών και πιστώσεων (35)
A51: 41 | B51: 45 | C51: Μακροπρόθεσμες υποχρεώσεις (45)
A52: 42 | B52: 52 | C52: Τράπεζες - Λογαριασμοί βραχυπρόθεσμων υποχρεώσεων (52)
A53: 43 | B53: 53 | C53: Πιστωτές διάφοροι (53 πλην 53.01)
A54: 44 | B54: 54 | C54: Υποχρεώσεις από φόρους και τέλη (54 πλην 54.08)
A55: 45 | B55: 55 | C55: Ασφαλιστικοί οργανισμοί (55)
A56: ΣΤ | B56: Γενικό Σύνολο Εσόδων (Α+Δ) | D56: =D4+D36 -> 0 | E56: =E4+E36 -> 0 | F56: =F4+F36 -> 0 | G56: =G4+G36 -> 0 | H56: =H4+H36 -> 0 | I56: =I4+I36 -> 0 | J56: =J4+J36 -> 0 | K56: =K4+K36 -> 0 | L56: =L4+L36 -> 0
A57: Ζ | B57: Γενικό Σύνολο Δαπανών (Β+Ε) | D57: =D18+D46 -> 0 | E57: =E18+E46 -> 0 | F57: =F18+F46 -> 0 | G57: =G18+G46 -> 0 | H57: =H18+H46 -> 0 | I57: =I18+I46 -> 0 | J57: =J18+J46 -> 0 | K57: =K18+K46 -> 0 | L57: =L18+L46 -> 0

Sheet Αναλυτικός ΠΥ
A1: α/α | B1: Λογαριασμοί ΕΓΛΣ | C1: Περιγραφή | D1: 2025 | E1: 2026 | F1: 2027
D2: Πραγματο ποιήσεις | E2: Εκτιμήσεις | F2: Προβλέψεις
A3: 1 | B3: 70+71+72 | C3: Πωλήσεις εμπορευμάτων, έτοιμων και ημιτελών προϊόντων, λοιπών αποθεμάτων (70+71+72) | D3: =SUM(D4,D8,D10) -> 0 | E3: =SUM(E4,E8,E10) -> 0 | F3: =SUM(F4,F8,F10) -> 0
B4: 70 | C4: Πωλήσεις Εμπορευμάτων | D4: =SUM(D5:D7) -> 0 | E4: =SUM(E5:E7) -> 0 | F4: =SUM(F5:F7) -> 0
B5: 70.00 | C5: Πωλήσεις εμπορευμάτων
B6: 70.95 | C6: Επιστροφές πωλήσεων
B7: 70.98 | C7: Εκπτώσεις πωλήσεων
B8: 71 | C8: Πωλήσεις προϊόντων έτοιμων και ημιτελών | D8: =SUM(D9) -> 0 | E8: =SUM(E9) -> 0 | F8: =SUM(F9) -> 0
B9: 71.00 | C9: Πωλήσεις προϊόντων έτοιμων και ημιτελών
B10: 72 | C10: Πωλήσεις λοιπών αποθεμάτων και άρχρηστου υλικου | D10: =SUM(D11:D20) -> 0 | E10: =SUM(E11:E20) -> 0 | F10: =SUM(F11:F20) -> 0
B11: 72.00 | C11: Πωλήσεις άχρηστου υλικού
B12: 72.10 | C12: Ασφαλιστική αποζημίωση κλαπέντων ή απολεσθέντων αποθεμάτων
B13: 72.11 | C13: Ασφαλιστική αποζημίωση καταστραφέντων αποθεμάτων
B14: 72.22 | C14: Πωλήσεις υποπροϊόντων και υπολειμμάτων
B15: 72.24 | C15: Πωλήσεις πρώτων και βοηθητικών υλών - υλικών συσκευασίας
B16: 72.25 | C16: Πωλήσεις αναλωσίμων υλικών
B17: 72.26 | C17: Πωλήσεις ανταλλακτικών παγίων στοιχείων
B18: 72.28 | C18: Πωλήσεις ειδών συσκευασίας
B19: 72.95 | C19: Επιστροφές Πωλήσεων
B20: 72.98 | C20: Εκπτώσεις πωλήσεων
A21: 2 | B21: 73 | C21: Πωλήσεις υπηρεσιών (73) | D21: =SUM(D22:D24) -> 0 | E21: =SUM(E22:E24) -> 0 | F21: =SUM(F22:F24) -> 0
B22: 73.00 | C22: Πωλήσεις υπηρεσιών εσωτερικού
B23: 73.01 | C23: Πωλήσεις υπηρεσιών εξωτερικού
B24: 73.98 | C24: Εκπτώσεις πωλήσεων
A25: 3 | B25: 74 | C25: Επιχορηγήσεις και διάφορα έσοδα πωλήσεων (74) | D25: =SUM(D26:D31) -> 0 | E25: =SUM(E26:E31) -> 0 | F25: =SUM(F26:F31) -> 0
B26: 74.00 | C26: Επιχορηγήσεις πωλήσεων
B27: 74.03 | C27: Ειδικές επιχορηγήσεις - επιδοτήσεις
B28: 74.91 | C28: Λοιπές τρέχουσες μεταβιβάσεις
B29: 74.92 | C29: Λοιπές επιχορηγήσεις επενδύσεων
B30: 74.93 | C30: Λοιπές κεφαλαιακές μεταβιβάσεις
B31: 74.98 | C31: Διάφορα πρόσθετα έσοδα πωλήσεων
A32: 4 | B32: 75 | C32: Έσοδα παρεπόμενων ασχολιών (75) | D32: =SUM(D33:D43) -> 0 | E32: =SUM(E33:E43) -> 0 | F32: =SUM(F33:F43) -> 0
B33: 75.00 | C33: Έσοδα από παροχή υπηρεσιών σε τρίτους
B34: 75.01 | C34: Έσοδα από παροχή υπηρεσιών σε προσωπικό
B35: 75.02 | C35: Προμήθειες - Μεσιτείες
B36: 75.03 | C36: Έσοδα από προνόμια και διοικητικές παραχωρήσεις
B37: 75.04 | C37: Ενοίκια εδαφικών εκτάσεων
B38: 75.05 | C38: Ενοίκια κτιρίων - τεχνικών έργων
B39: 75.06 | C39: Ενοίκια μηχανημάτων τεχνικών εγκαταστάσεων λοιπού μηχανολογικού εξοπλισμού
B40: 75.07 | C40: Ενοίκια μεταφορικών μέσων
B41: 75.08 | C41: Ενοίκια επίπλων και λοιπού εξοπλισμού
B42: 75.09 | C42: Ενοίκια ασώματων ακινητοποιήσεων
B43: 75.10 | C43: Έσοδα από Δωρεές, Κληρονομιές, Κληροδοτήσεις
A44: 5 | B44: 76 | C44: Έσοδα κεφαλαίων (76 πλην 76.04) | D44: =SUM(D45:D48) -> 0 | E44: =SUM(E45:E48) -> 0 | F44: =SUM(F45:F48) -> 0
B45: 76.00 | C45: Έσοδα συμμετοχών
B46: 76.01 | C46: Έσοδα χρεογράφων
B47: 76.03 | C47: Λοιποί πιστωτικοί τόκοι
B48: 76.98 | C48: Λοιπά έσοδα κεφαλαίων
A49: 6 | B49: 78 | C49: Ιδιοπαραγωγή παγίων (78 πλην 78.05) | D49: =SUM(D50:D52) -> 0 | E49: =SUM(E50:E52) -> 0 | F49: =SUM(F50:F52) -> 0
B50: 78.00 | C50: Ιδιοπαραγωγή και βελτιώσεις παγίων
B51: 78.10 | C51: Έσοδα από ιδιόχρηση αποθεμάτων
B52: 78.11 | C52: Αξία καταστραφέντων ακατάλληλων αποθεμάτων
A53: 7 | B53: 40 | C53: Αύξηση μετοχικού κεφαλαίου (40) | D53: =SUM(D54:D60) -> 0 | E53: =SUM(E54:E60) -> 0 | F53: =SUM(F54:F60) -> 0
B54: 40.00 | C54: Καταβλημένο μετοχικό κεφάλαιο κοινών μετοχών
B55: 40.01 | C55: Καταβλημένο μετοχικό κεφάλαιο προνομιούχων μετοχών
B56: 40.02 | C56: Οφειλόμενο μετοχικό κεφάλαιο κοινών μετοχών
B57: 40.03 | C57: Οφειλόμενο μετοχικό κεφάλαιο προνομιούχων μετοχών
B58: 40.04 | C58: Κοινό μετοχικό κεφάλαιο αποσβεσμένο
B59: 40.05 | C59: Προνομιούχο μετοχικό κεφάλαιο αποσβεσμένο
B60: 40.06 | C60: Εταιρικό κεφάλαιο
A61: 8 | B61: 41 | C61: Επιχορηγήσεις παγίων επενδύσεων (41.10) | D61: =SUM(D62:D62) -> 0 | E61: =SUM(E62:E62) -> 0 | F61: =SUM(F62:F62) -> 0
B62: 41.10 | C62: Επιχορηγήσεις παγίων επενδύσεων
A63: 9 | B63: 43 | C63: Ποσά προορισμένα για αύξηση κεφαλαίου (43) | D63: =SUM(D64:D66) -> 0 | E63: =SUM(E64:E66) -> 0 | F63: =SUM(F64:F66) -> 0
B64: 43.00 | C64: Καταθέσεις μετόχων
B65: 43.01 | C65: Καταθέσεις εταίρων
B66: 43.02 | C66: Διαθέσιμα μερίσματα χρήσης για αύξηση μετοχικού κεφαλαίου
A67: 10 | B67: 81 | C67: Έκτακτα και ανόργανα έσοδα (81.01 πλην 81.01.04 και 81.01.05) | D67: =SUM(D68) -> 0 | E67: =SUM(E68) -> 0 | F67: =SUM(F68) -> 0
B68: 81.01 | C68: Έκτακτα και ανόργανα έσοδα (81.01 πλην 81.01.04 και 81.01.05)
A69: 11 | B69: 82 | C69: Έσοδα προηγούμενων χρήσεων (82.01) | D69: =SUM(D70) -> 0 | E69: =SUM(E70) -> 0 | F69: =SUM(F70) -> 0
B70: 82.01 | C70: Έσοδα προηγούμενων χρήσεων
A71: 12 | B71: 10+11+12+13+14+15+16 | C71: Πωλήσεις παγίων περιουσιακών στοιχείων (αντίτιμο πώλησης 10+11+12+13+14+15+16) | D71: =SUM(D72,D80,D89,D100,D109,D121,D126) -> 0 | E71: =SUM(E72,E80,E89,E100,E109,E121,E126) -> 0 | F71: =SUM(F72,F80,F89,F100,F109,F121,F126) -> 0
B72: 10 | C72: Εδαφικές εκτάσεις (πώληση) | D72: =SUM(D73:D79) -> 0 | E72: =SUM(E73:E79) -> 0 | F72: =SUM(F73:F79) -> 0
B73: 10.00 | C73: Γήπεδα - Οικόπεδα (πίστωση χρήσης - αντίτιμο πώλησης)
B74: 10.01 | C74: Ορυχεία (πίστωση χρήσης - αντίτιμο πώλησης)
B75: 10.02 | C75: Μεταλλεία (πίστωση χρήσης - αντίτιμο πώλησης)
B76: 10.03 | C76: Λατομεία (πίστωση χρήσης - αντίτιμο πώλησης)
B77: 10.04 | C77: Αγροί (πίστωση χρήσης - αντίτιμο πώλησης)
B78: 10.05 | C78: Φυτείες (πίστωση χρήσης - αντίτιμο πώλησης)
B79: 10.06 | C79: Δάση (πίστωση χρήσης - αντίτιμο πώλησης)
B80: 11 | C80: Κτίρια - εγκαταστάσεις κτιρίων - τεχνικά έργα (πώληση) | D80: =SUM(D81:D88) -> 0 | E80: =SUM(E81:E88) -> 0 | F80: =SUM(F81:F88) -> 0
B81: 11.00 | C81: Κτίρια - εγκαταστάσεις κτιρίων (πίστωση χρήσης - αντίτιμο πώλησης)
B82: 11.01 | C82: Τεχνικά έργα εξυπηρέτησης μεταφορών (πίστωση χρήσης - αντίτιμο πώλησης)
B83: 11.02 | C83: Λοιπά τεχνικά έργα (πίστωση χρήσης - αντίτιμο πώλησης)
B84: 11.03 | C84: Υποκείμενες σε απόσβεση διαμορφώσεις γηπέδων (πίστωση χρήσης - αντίτιμο πώλησης)
B85: 11.07 | C85: Κτίρια - Εγκαταστάσεις κτιρίων σε ακίνητα τρίτων (πίστωση χρήσης - αντίτιμο πώλησης)
B86: 11.08 | C86: Τεχνικά έργα εξυπηρέτησης μεταφορών σε ακίνητα τρίτων (πίστωση χρήσης - αντίτιμο πώλησης)
B87: 11.09 | C87: Λοιπά τεχνικά έργα σε ακίνητα τρίτων (πίστωση χρήσης - αντίτιμο πώλησης)
B88: 11.10 | C88: Υποκείμενες σε απόσβεση διαμορφώσεις γηπέδων τρίτων (πίστωση χρήσης - αντίτιμο πώλησης)
B89: 12 | C89: Μηχανήματα -Τεχνικές εγκαταστάσεις - Λοιπός μηχανολογικός εξοπλισμός (πώληση) | D89: =SUM(D90:D99) -> 0 | E89: =SUM(E90:E99) -> 0 | F89: =SUM(F90:F99) -> 0
B90: 12.00 | C90: Μηχανήματα (πίστωση χρήσης - αντίτιμο πώλησης)
B91: 12.01 | C91: Τεχνικές εγκαταστάσεις (πίστωση χρήσης - αντίτιμο πώλησης)
B92: 12.02 | C92: Φορητά μηχανήματα χεριού (πίστωση χρήσης - αντίτιμο πώλησης)
B93: 12.03 | C93: Εργαλεία (πίστωση χρήσης - αντίτιμο πώλησης)
B94: 12.04 | C94: Καλούπια - Ιδιοκατασκευές (πίστωση χρήσης - αντίτιμο πώλησης)
B95: 12.05 | C95: Μηχανολογικά όργανα (πίστωση χρήσης - αντίτιμο πώλησης)
B96: 12.06 | C96: Λοιπός μηχανολογικός εξοπλισμός (πίστωση χρήσης - αντίτιμο πώλησης)
B97: 12.07 | C97: Μηχανήματα σε ακίνητα τρίτων (πίστωση χρήσης - αντίτιμο πώλησης)
B98: 12.08 | C98: Τεχνικές εγκαταστάσεις σε ακίνητα τρίτων (πίστωση χρήσης - αντίτιμο πώλησης)
B99: 12.09 | C99: Λοιπός μηχανολογικός εξοπλισμός σε ακίνητα τρίτων
B100: 13 | C100: Μεταφορικά μέσα (πώληση) | D100: =SUM(D101:D108) -> 0 | E100: =SUM(E101:E108) -> 0 | F100: =SUM(F101:F108) -> 0
...

Sheet Σχέδιο Λογαριασμών ΠΥ
A1: Τύπος Λογιστικού Σχεδίου | B1: Ένδειξη Ενεργού | C1: Κωδικός Λογαριασμού | D1: Περιγραφή Λογαριασμού | E1: Είδος Λογαριασμού | F1: Κατηγορία Δελτίου Στοχοθεσίας | G1: Είδος Συναλλαγής | H1: Αναφορά Πολυετών Υποχρεώσεων
A2: ΕΓΛΣ για ΝΠΙΔ | B2: ΠΔΠ | C2: 70+71+72 | D2: Πωλήσεις εμπορευμάτων, έτοιμων και ημιτελών προϊόντων, λοιπών αποθεμάτων (70+71+72) | E2: ΕΣΟΔΟ | G2: NoFinancial
B3: - | C3: 70 | D3: Πωλήσεις Εμπορευμάτων | E3: ΕΣΟΔΟ | G3: NoFinancial
A4: ΕΓΛΣ για ΝΠΙΔ | B4: 1 | C4: 70.00 | D4: Πωλήσεις εμπορευμάτων | E4: ΕΣΟΔΟ | G4: NoFinancial
A5: ΕΓΛΣ για ΝΠΙΔ | B5: 1 | C5: 70.95 | D5: Επιστροφές πωλήσεων | E5: ΕΞΟΔΟ | G5: NoFinancial
A6: ΕΓΛΣ για ΝΠΙΔ | B6: 1 | C6: 70.98 | D6: Εκπτώσεις πωλήσεων | E6: ΕΞΟΔΟ | G6: NoFinancial
B7: - | C7: 71 | D7: Πωλήσεις προϊόντων έτοιμων και ημιτελών | E7: ΕΣΟΔΟ | G7: NoFinancial
A8: ΕΓΛΣ για ΝΠΙΔ | B8: 1 | C8: 71.00 | D8: Πωλήσεις προϊόντων έτοιμων και ημιτελών | E8: ΕΣΟΔΟ | G8: NoFinancial
B9: - | C9: 72 | D9: Πωλήσεις λοιπών αποθεμάτων και άρχρηστου υλικου | E9: ΕΣΟΔΟ | G9: NoFinancial
A10: ΕΓΛΣ για ΝΠΙΔ | B10: 1 | C10: 72.00 | D10: Πωλήσεις άχρηστου υλικού | E10: ΕΣΟΔΟ | G10: NoFinancial
A11: ΕΓΛΣ για ΝΠΙΔ | B11: 1 | C11: 72.10 | D11: Ασφαλιστική αποζημίωση κλαπέντων ή απολεσθέντων αποθεμάτων | E11: ΕΣΟΔΟ | G11: NoFinancial
A12: ΕΓΛΣ για ΝΠΙΔ | B12: 1 | C12: 72.11 | D12: Ασφαλιστική αποζημίωση καταστραφέντων αποθεμάτων | E12: ΕΣΟΔΟ | G12: NoFinancial
A13: ΕΓΛΣ για ΝΠΙΔ | B13: 1 | C13: 72.22 | D13: Πωλήσεις υποπροϊόντων και υπολειμμάτων | E13: ΕΣΟΔΟ | G13: NoFinancial
A14: ΕΓΛΣ για ΝΠΙΔ | B14: 1 | C14: 72.24 | D14: Πωλήσεις πρώτων και βοηθητικών υλών - υλικών συσκευασίας | E14: ΕΣΟΔΟ | G14: NoFinancial
A15: ΕΓΛΣ για ΝΠΙΔ | B15: 1 | C15: 72.25 | D15: Πωλήσεις αναλωσίμων υλικών | E15: ΕΣΟΔΟ | G15: NoFinancial
A16: ΕΓΛΣ για ΝΠΙΔ | B16: 1 | C16: 72.26 | D16: Πωλήσεις ανταλλακτικών παγίων στοιχείων | E16: ΕΣΟΔΟ | G16: NoFinancial
A17: ΕΓΛΣ για ΝΠΙΔ | B17: 1 | C17: 72.28 | D17: Πωλήσεις ειδών συσκευασίας | E17: ΕΣΟΔΟ | G17: NoFinancial
A18: ΕΓΛΣ για ΝΠΙΔ | B18: 1 | C18: 72.95 | D18: Επιστροφές Πωλήσεων | E18: ΕΞΟΔΟ | G18: NoFinancial
A19: ΕΓΛΣ για ΝΠΙΔ | B19: 1 | C19: 72.98 | D19: Εκπτώσεις πωλήσεων | E19: ΕΞΟΔΟ | G19: NoFinancial
A20: ΕΓΛΣ για ΝΠΙΔ | B20: ΠΔΠ | C20: 73 | D20: Πωλήσεις υπηρεσιών (73) | E20: ΕΣΟΔΟ | G20: `
A21: ΕΓΛΣ για ΝΠΙΔ | B21: 1 | C21: 73.00 | D21: Πωλήσεις υπηρεσιών εσωτερικού | E21: ΕΣΟΔΟ | G21: NoFinancial
A22: ΕΓΛΣ για ΝΠΙΔ | B22: 1 | C22: 73.01 | D22: Πωλήσεις υπηρεσιών εξωτερικού | E22: ΕΣΟΔΟ | G22: NoFinancial
A23: ΕΓΛΣ για ΝΠΙΔ | B23: 1 | C23: 73.98 | D23: Εκπτώσεις πωλήσεων | E23: ΕΞΟΔΟ | G23: NoFinancial
A24: ΕΓΛΣ για ΝΠΙΔ | B24: ΠΔΠ | C24: 74 | D24: Επιχορηγήσεις και διάφορα έσοδα πωλήσεων (74) | E24: ΕΣΟΔΟ | G24: NoFinancial
A25: ΕΓΛΣ για ΝΠΙΔ | B25: 1 | C25: 74.00 | D25: Επιχορηγήσεις πωλήσεων | E25: ΕΣΟΔΟ | G25: NoFinancial
A26: ΕΓΛΣ για ΝΠΙΔ | B26: 1 | C26: 74.03 | D26: Ειδικές επιχορηγήσεις - επιδοτήσεις | E26: ΕΣΟΔΟ | G26: NoFinancial
A27: ΕΓΛΣ για ΝΠΙΔ | B27: 1 | C27: 74.91 | D27: Λοιπές τρέχουσες μεταβιβάσεις | E27: ΕΣΟΔΟ | G27: NoFinancial
A28: ΕΓΛΣ για ΝΠΙΔ | B28: 1 | C28: 74.92 | D28: Λοιπές επιχορηγήσεις επενδύσεων | E28: ΕΣΟΔΟ | G28: NoFinancial
A29: ΕΓΛΣ για ΝΠΙΔ | B29: 1 | C29: 74.93 | D29: Λοιπές κεφαλαιακές μεταβιβάσεις | E29: ΕΣΟΔΟ | G29: NoFinancial
A30: ΕΓΛΣ για ΝΠΙΔ | B30: 1 | C30: 74.98 | D30: Διάφορα πρόσθετα έσοδα πωλήσεων | E30: ΕΣΟΔΟ | G30: NoFinancial
A31: ΕΓΛΣ για ΝΠΙΔ | B31: ΠΔΠ | C31: 75 | D31: Έσοδα παρεπόμενων ασχολιών (75) | E31: ΕΣΟΔΟ | G31: NoFinancial
A32: ΕΓΛΣ για ΝΠΙΔ | B32: 1 | C32: 75.00 | D32: Έσοδα από παροχή υπηρεσιών σε τρίτους | E32: ΕΣΟΔΟ | G32: NoFinancial
A33: ΕΓΛΣ για ΝΠΙΔ | B33: 1 | C33: 75.01 | D33: Έσοδα από παροχή υπηρεσιών σε προσωπικό | E33: ΕΣΟΔΟ | G33: NoFinancial
A34: ΕΓΛΣ για ΝΠΙΔ | B34: 1 | C34: 75.02 | D34: Προμήθειες - Μεσιτείες | E34: ΕΣΟΔΟ | G34: NoFinancial
A35: ΕΓΛΣ για ΝΠΙΔ | B35: 1 | C35: 75.03 | D35: Έσοδα από προνόμια και διοικητικές παραχωρήσεις | E35: ΕΣΟΔΟ | G35: NoFinancial
A36: ΕΓΛΣ για ΝΠΙΔ | B36: 1 | C36: 75.04 | D36: Ενοίκια εδαφικών εκτάσεων | E36: ΕΣΟΔΟ | G36: NoFinancial
... A42: ΕΓΛΣ για ΝΠΙΔ | B42: 1 | C42: 75.10 | D42: Έσοδα από Δωρεές, Κληρονομιές, Κληροδοτήσεις | E42: ΕΣΟΔΟ | G42: NoFinancial
A43: ΕΓΛΣ για ΝΠΙΔ | B43: ΠΔΠ | C43: 76 | D43: Έσοδα κεφαλαίων (76 πλην 76.04) | E43: ΕΣΟΔΟ | G43: NoFinancial
A44: ΕΓΛΣ για ΝΠΙΔ | B44: 1 | C44: 76.00 | D44: Έσοδα συμμετοχών | E44: ΕΣΟΔΟ | G44: NoFinancial
A45: ΕΓΛΣ για ΝΠΙΔ | B45: 1 | C45: 76.01 | D45: Έσοδα χρεογράφων | E45: ΕΣΟΔΟ | G45: NoFinancial
A46: ΕΓΛΣ για ΝΠΙΔ | B46: 1 | C46: 76.03 | D46: Λοιποί πιστωτικοί τόκοι | E46: ΕΣΟΔΟ | G46: NoFinancial
A47: ΕΓΛΣ για ΝΠΙΔ | B47: 1 | C47: 76.98 | D47: Λοιπά έσοδα κεφαλαίων | E47: ΕΣΟΔΟ | G47: NoFinancial
A48: ΕΓΛΣ για ΝΠΙΔ | B48: ΠΔΠ | C48: 78 | D48: Ιδιοπαραγωγή παγίων (78 πλην 78.05) | E48: ΕΣΟΔΟ | G48: NoFinancial
A49: ΕΓΛΣ για ΝΠΙΔ | B49: 1 | C49: 78.00 | D49: Ιδιοπαραγωγή και βελτιώσεις παγίων | E49: ΕΣΟΔΟ | G49: NoFinancial
A50: ΕΓΛΣ για ΝΠΙΔ | B50: 1 | C50: 78.10 | D50: Έσοδα από ιδιόχρηση αποθεμάτων | E50: ΕΣΟΔΟ | G50: NoFinancial
A51: ΕΓΛΣ για ΝΠΙΔ | B51: 1 | C51: 78.11 | D51: Αξία καταστραφέντων ακατάλληλων αποθεμάτων | E51: ΕΣΟΔΟ | G51: NoFinancial
A52: ΕΓΛΣ για ΝΠΙΔ | B52: ΠΔΠ | C52: 40 | D52: Αύξηση μετοχικού κεφαλαίου (40) | E52: ΕΣΟΔΟ | G52: NoFinancial
A53: ΕΓΛΣ για ΝΠΙΔ | B53: 1 | C53: 40.00 | D53: Καταβλημένο μετοχικό κεφάλαιο κοινών μετοχών | E53: ΕΣΟΔΟ | G53: NoFinancial
A54: ΕΓΛΣ για ΝΠΙΔ | B54: 1 | C54: 40.01 | D54: Καταβλημένο μετοχικό κεφάλαιο προνομιούχων μετοχών | E54: ΕΣΟΔΟ | G54: NoFinancial
A55: ΕΓΛΣ για ΝΠΙΔ | B55: 1 | C55: 40.02 | D55: Οφειλόμενο μετοχικό κεφάλαιο κοινών μετοχών | E55: ΕΣΟΔΟ | G55: NoFinancial
A56: ΕΓΛΣ για ΝΠΙΔ | B56: 1 | C56: 40.03 | D56: Οφειλόμενο μετοχικό κεφάλαιο προνομιούχων μετοχών | E56: ΕΣΟΔΟ | G56: NoFinancial
A57: ΕΓΛΣ για ΝΠΙΔ | B57: 1 | C57: 40.04 | D57: Κοινό μετοχικό κεφάλαιο αποσβεσμένο | E57: ΕΣΟΔΟ | G57: NoFinancial
A58: ΕΓΛΣ για ΝΠΙΔ | B58: 1 | C58: 40.05 | D58: Προνομιούχο μετοχικό κεφάλαιο αποσβεσμένο | E58: ΕΣΟΔΟ | G58: NoFinancial
A59: ΕΓΛΣ για ΝΠΙΔ | B59: 1 | C59: 40.06 | D59: Εταιρικό κεφάλαιο | E59: ΕΣΟΔΟ | G59: NoFinancial
A60: ΕΓΛΣ για ΝΠΙΔ | B60: ΠΔΠ | C60: 41 | D60: Επιχορηγήσεις παγίων επενδύσεων (41.10) | E60: ΕΣΟΔΟ | G60: NoFinancial
A61: ΕΓΛΣ για ΝΠΙΔ | B61: 1 | C61: 41.10 | D61: Επιχορηγήσεις παγίων επενδύσεων | E61: ΕΣΟΔΟ | G61: NoFinancial
A62: ΕΓΛΣ για ΝΠΙΔ | B62: ΠΔΠ | C62: 43 | D62: Ποσά προορισμένα για αύξηση κεφαλαίου (43) | E62: ΕΣΟΔΟ | G62: NoFinancial
A63: ΕΓΛΣ για ΝΠΙΔ | B63: 1 | C63: 43.00 | D63: Καταθέσεις μετόχων | E63: ΕΣΟΔΟ | G63: NoFinancial
A64: ΕΓΛΣ για ΝΠΙΔ | B64: 1 | C64: 43.01 | D64: Καταθέσεις εταίρων | E64: ΕΣΟΔΟ | G64: NoFinancial
A65: ΕΓΛΣ για ΝΠΙΔ | B65: 1 | C65: 43.02 | D65: Διαθέσιμα μερίσματα χρήσης για αύξηση μετοχικού κεφαλαίου | E65: ΕΣΟΔΟ | G65: NoFinancial
A66: ΕΓΛΣ για ΝΠΙΔ | B66: ΠΔΠ | C66: 81 | D66: Έκτακτα και ανόργανα έσοδα (81.01 πλην 81.01.04 και 81.01.05) | E66: ΕΣΟΔΟ | G66: NoFinancial
A67: ΕΓΛΣ για ΝΠΙΔ | B67: 1 | C67: 81.01 | D67: Έκτακτα και ανόργανα έσοδα (81.01 πλην 81.01.04 και 81.01.05) | E67: ΕΣΟΔΟ | G67: NoFinancial
A68: ΕΓΛΣ για ΝΠΙΔ | B68: ΠΔΠ | C68: 82 | D68: Έσοδα προηγούμενων χρήσεων (82.01) | E68: ΕΣΟΔΟ | G68: NoFinancial
A69: ΕΓΛΣ για ΝΠΙΔ | B69: 1 | C69: 82.01 | D69: Έσοδα προηγούμενων χρήσεων | E69: ΕΣΟΔΟ | G69: NoFinancial
A70: ΕΓΛΣ για ΝΠΙΔ | B70: ΠΔΠ | C70: 10+11+12+13+14+15+16 | D70: Πωλήσεις παγίων περιουσιακών στοιχείων (αντίτιμο πώλησης 10+11+12+13+14+15+16) | E70: ΕΣΟΔΟ | G70: NoFinancial
A71: ΕΓΛΣ για ΝΠΙΔ | B71: - | C71: 10 | D71: Εδαφικές εκτάσεις (πώληση) | E71: ΕΣΟΔΟ | G71: NoFinancial
A72: ΕΓΛΣ για ΝΠΙΔ | B72: 1 | C72: 10.00 | D72: Γήπεδα - Οικόπεδα (πίστωση χρήσης - αντίτιμο πώλησης) | E72: ΕΣΟΔΟ | G72: NoFinancial
A73: ΕΓΛΣ για ΝΠΙΔ | B73: 1 | C73: 10.01 | D73: Ορυχεία (πίστωση χρήσης - αντίτιμο πώλησης) | E73: ΕΣΟΔΟ | G73: NoFinancial
A74: ΕΓΛΣ για ΝΠΙΔ | B74: 1 | C74: 10.02 | D74: Μεταλλεία (πίστωση χρήσης - αντίτιμο πώλησης) | E74: ΕΣΟΔΟ | G74: NoFinancial
A75: ΕΓΛΣ για ΝΠΙΔ | B75: 1 | C75: 10.03 | D75: Λατομεία (πίστωση χρήσης - αντίτιμο πώλησης) | E75: ΕΣΟΔΟ | G75: NoFinancial
A76: ΕΓΛΣ για ΝΠΙΔ | B76: 1 | C76: 10.04 | D76: Αγροί (πίστωση χρήσης - αντίτιμο πώλησης) | E76: ΕΣΟΔΟ | G76: NoFinancial
A77: ΕΓΛΣ για ΝΠΙΔ | B77: 1 | C77: 10.05 | D77: Φυτείες (πίστωση χρήσης - αντίτιμο πώλησης) | E77: ΕΣΟΔΟ | G77: NoFinancial
A78: ΕΓΛΣ για ΝΠΙΔ | B78: 1 | C78: 10.06 | D78: Δάση (πίστωση χρήσης - αντίτιμο πώλησης) | E78: ΕΣΟΔΟ | G78: NoFinancial
A79: ΕΓΛΣ για ΝΠΙΔ | B79: - | C79: 11 | D79: Κτίρια - εγκαταστάσεις κτιρίων - τεχνικά έργα (πώληση) | E79: ΕΣΟΔΟ | G79: NoFinancial
A80: ΕΓΛΣ για ΝΠΙΔ | B80: 1 | C80: 11.00 | D80: Κτίρια - εγκαταστάσεις κτιρίων (πίστωση χρήσης - αντίτιμο πώλησης) | E80: ΕΣΟΔΟ | G80: NoFinancial
A81: ΕΓΛΣ για ΝΠΙΔ | B81: 1 | C81: 11.01 | D81: Τεχνικά έργα εξυπηρέτησης μεταφορών (πίστωση χρήσης - αντίτιμο πώλησης) | E81: ΕΣΟΔΟ | G81: NoFinancial
A82: ΕΓΛΣ για ΝΠΙΔ | B82: 1 | C82: 11.02 | D82: Λοιπά τεχνικά έργα (πίστωση χρήσης - αντίτιμο πώλησης) | E82: ΕΣΟΔΟ | G82: NoFinancial
A83: ΕΓΛΣ για ΝΠΙΔ | B83: 1 | C83: 11.03 | D83: Υποκείμενες σε απόσβεση διαμορφώσεις γηπέδων (πίστωση χρήσης - αντίτιμο πώλησης) | E83: ΕΣΟΔΟ | G83: NoFinancial
A84: ΕΓΛΣ για ΝΠΙΔ | B84: 1 | C84: 11.07 | D84: Κτίρια - Εγκαταστάσεις κτιρίων σε ακίνητα τρίτων (πίστωση χρήσης - αντίτιμο πώλησης) | E84: ΕΣΟΔΟ | G84: NoFinancial
A85: ΕΓΛΣ για ΝΠΙΔ | B85: 1 | C85: 11.08 | D85: Τεχνικά έργα εξυπηρέτησης μεταφορών σε ακίνητα τρίτων (πίστωση χρήσης - αντίτιμο πώλησης) | E85: ΕΣΟΔΟ | G85: NoFinancial
A86: ΕΓΛΣ για ΝΠΙΔ | B86: 1 | C86: 11.09 | D86: Λοιπά τεχνικά έργα σε ακίνητα τρίτων (πίστωση χρήσης - αντίτιμο πώλησης) | E86: ΕΣΟΔΟ | G86: NoFinancial
A87: ΕΓΛΣ για ΝΠΙΔ | B87: 1 | C87: 11.10 | D87: Υποκείμενες σε απόσβεση διαμορφώσεις γηπέδων τρίτων (πίστωση χρήσης - αντίτιμο πώλησης) | E87: ΕΣΟΔΟ | G87: NoFinancial
A88: ΕΓΛΣ για ΝΠΙΔ | B88: - | C88: 12 | D88: Μηχανήματα -Τεχνικές εγκαταστάσεις - Λοιπός μηχανολογικός εξοπλισμός (πώληση) | E88: ΕΣΟΔΟ | G88: NoFinancial
A89: ΕΓΛΣ για ΝΠΙΔ | B89: 1 | C89: 12.00 | D89: Μηχανήματα (πίστωση χρήσης - αντίτιμο πώλησης) | E89: ΕΣΟΔΟ | G89: NoFinancial
A90: ΕΓΛΣ για ΝΠΙΔ | B90: 1 | C90: 12.01 | D90: Τεχνικές εγκαταστάσεις (πίστωση χρήσης - αντίτιμο πώλησης) | E90: ΕΣΟΔΟ | G90: NoFinancial
A91: ΕΓΛΣ για ΝΠΙΔ | B91: 1 | C91: 12.02 | D91: Φορητά μηχανήματα χεριού (πίστωση χρήσης - αντίτιμο πώλησης) | E91: ΕΣΟΔΟ | G91: NoFinancial
A92: ΕΓΛΣ για ΝΠΙΔ | B92: 1 | C92: 12.03 | D92: Εργαλεία (πίστωση χρήσης - αντίτιμο πώλησης) | E92: ΕΣΟΔΟ | G92: NoFinancial
A93: ΕΓΛΣ για ΝΠΙΔ | B93: 1 | C93: 12.04 | D93: Καλούπια - Ιδιοκατασκευές (πίστωση χρήσης - αντίτιμο πώλησης) | E93: ΕΣΟΔΟ | G93: NoFinancial
A94: ΕΓΛΣ για ΝΠΙΔ | B94: 1 | C94: 12.05 | D94: Μηχανολογικά όργανα (πίστωση χρήσης - αντίτιμο πώλησης) | E94: ΕΣΟΔΟ | G94: NoFinancial
A95: ΕΓΛΣ για ΝΠΙΔ | B95: 1 | C95: 12.06 | D95: Λοιπός μηχανολογικός εξοπλισμός (πίστωση χρήσης - αντίτιμο πώλησης) | E95: ΕΣΟΔΟ | G95: NoFinancial
A96: ΕΓΛΣ για ΝΠΙΔ | B96: 1 | C96: 12.07 | D96: Μηχανήματα σε ακίνητα τρίτων (πίστωση χρήσης - αντίτιμο πώλησης) | E96: ΕΣΟΔΟ | G96: NoFinancial
A97: ΕΓΛΣ για ΝΠΙΔ | B97: 1 | C97: 12.08 | D97: Τεχνικές εγκαταστάσεις σε ακίνητα τρίτων (πίστωση χρήσης - αντίτιμο πώλησης) | E97: ΕΣΟΔΟ | G97: NoFinancial
A98: ΕΓΛΣ για ΝΠΙΔ | B98: 1 | C98: 12.09 | D98: Λοιπός μηχανολογικός εξοπλισμός σε ακίνητα τρίτων | E98: ΕΣΟΔΟ | G98: NoFinancial
A99: ΕΓΛΣ για ΝΠΙΔ | B99: - | C99: 13 | D99: Μεταφορικά μέσα (πώληση) | E99: ΕΣΟΔΟ | G99: NoFinancial
A100: ΕΓΛΣ για ΝΠΙΔ | B100: 1 | C100: 13.00 | D100: Αυτοκίνητα λεωφορεία (πίστωση χρήσης - αντίτιμο πώλησης) | E100: ΕΣΟΔΟ | G100: NoFinancial
A101: ΕΓΛΣ για ΝΠΙΔ | B101: 1 | C101: 13.01 | D101: Λοιπά επιβατικά αυτοκίνητα (πίστωση χρήσης - αντίτιμο πώλησης) | E101: ΕΣΟΔΟ | G101: NoFinancial
A102: ΕΓΛΣ για ΝΠΙΔ | B102: 1 | C102: 13.02 | D102: Αυτοκίνητα φορτηγά - ρυμούλκες ειδικής χρήσης (πίστωση χρήσης - αντίτιμο πώλησης) | E102: ΕΣΟΔΟ | G102: NoFinancial
A103: ΕΓΛΣ για ΝΠΙΔ | B103: 1 | C103: 13.03 | D103: Σιδηροδρομικά οχήματα (πίστωση χρήσης - αντίτιμο πώλησης) | E103: ΕΣΟΔΟ | G103: NoFinancial
A104: ΕΓΛΣ για ΝΠΙΔ | B104: 1 | C104: 13.04 | D104: Πλωτά μέσα (πίστωση χρήσης - αντίτιμο πώλησης) | E104: ΕΣΟΔΟ | G104: NoFinancial
A105: ΕΓΛΣ για ΝΠΙΔ | B105: 1 | C105: 13.05 | D105: Εναέρια μέσα (πίστωση χρήσης - αντίτιμο πώλησης) | E105: ΕΣΟΔΟ | G105: NoFinancial
...
