Workbook

Sheet Α2. Σύνολο ΠΥ
A1: Πίνακας Α2: Έσοδα - Δαπάνες ΑΕ, ΝΠΙΔ και Ειδικών Λογαριασμών που εφαρμόζουν το Ελληνικό Γενικό Λογιστικό Σχέδιο (Τακτικός προϋπολογισμός και ΠΔΕ, ΤΑΑ & λοιπά εργαλεία)
D2: 2025 | E2: 2026 | F2: 2026 | G2: 2026 | H2: 2026 | I2: 2027 | J2: 2028 | K2: 2029 | L2: 2030
A3: α/α | B3: Λογαριασμοί ΕΓΛΣ | C3: Περιγραφή | D3: Πραγματοποιήσεις | E3: Αρχικός Προϋπολογισμός | F3: Διαμόρφωση (Αρχικός Π/Υ + τροποποιήσεις) | G3: Εκτέλεση Α΄ Εξαμήνου | H3: Εκτιμήσεις πραγματοποιήσεων έτους | I3: Προβλέψεις | J3: Προβλέψεις | K3: Προβλέψεις | L3: Προβλέψεις
A4: Α | B4: Έσοδα μη χρηματοοικονομικών συναλλαγών (1+2+3+4+5+6+7+8+9+10+11+12+13) | D4: ='Α2.1.Τακτικός ΠΥ'!D4+'Α2.2. ΠΔΕ, ΤΑΑ & λοιπά εργαλεία'!D4 -> 0 | E4: ='Α2.1.Τακτικός ΠΥ'!E4+'Α2.2. ΠΔΕ, ΤΑΑ & λοιπά εργαλεία'!E4 -> 0 | F4: ='Α2.1.Τακτικός ΠΥ'!F4+'Α2.2. ΠΔΕ, ΤΑΑ & λοιπά εργαλεία'!F4 -> 0 | G4: ='Α2.1.Τακτικός ΠΥ'!G4+'Α2.2. ΠΔΕ, ΤΑΑ & λοιπά εργαλεία'!G4 -> 0 | H4: ='Α2.1.Τακτικός ΠΥ'!H4+'Α2.2. ΠΔΕ, ΤΑΑ & λοιπά εργαλεία'!H4 -> 0 | I4: ='Α2.1.Τακτικός ΠΥ'!I4+'Α2.2. ΠΔΕ, ΤΑΑ & λοιπά εργαλεία'!I4 -> 0 | J4: ='Α2.1.Τακτικός ΠΥ'!J4+'Α2.2. ΠΔΕ, ΤΑΑ & λοιπά εργαλεία'!J4 -> 0 | K4: ='Α2.1.Τακτικός ΠΥ'!K4+'Α2.2. ΠΔΕ, ΤΑΑ & λοιπά εργαλεία'!K4 -> 0 | L4: ='Α2.1.Τακτικός ΠΥ'!L4+'Α2.2. ΠΔΕ, ΤΑΑ & λοιπά εργαλεία'!L4 -> 0
A5: 1 | B5: 70+71+72 | C5: Πωλήσεις εμπορευμάτων, έτοιμων και ημιτελών προϊόντων, λοιπών αποθεμάτων (70+71+72) | D5: ='Α2.1.Τακτικός ΠΥ'!D5+'Α2.2. ΠΔΕ, ΤΑΑ & λοιπά εργαλεία'!D5 -> 0 | E5: ='Α2.1.Τακτικός ΠΥ'!E5+'Α2.2. ΠΔΕ, ΤΑΑ & λοιπά εργαλεία'!E5 -> 0 | F5: ='Α2.1.Τακτικός ΠΥ'!F5+'Α2.2. ΠΔΕ, ΤΑΑ & λοιπά εργαλεία'!F5 -> 0 | G5: ='Α2.1.Τακτικός ΠΥ'!G5+'Α2.2. ΠΔΕ, ΤΑΑ & λοιπά εργαλεία'!G5 -> 0 | H5: ='Α2.1.Τακτικός ΠΥ'!H5+'Α2.2. ΠΔΕ, ΤΑΑ & λοιπά εργαλεία'!H5 -> 0 | I5: ='Α2.1.Τακτικός ΠΥ'!I5+'Α2.2. ΠΔΕ, ΤΑΑ & λοιπά εργαλεία'!I5 -> 0 | J5: ='Α2.1.Τακτικός ΠΥ'!J5+'Α2.2. ΠΔΕ, ΤΑΑ & λοιπά εργαλεία'!J5 -> 0 | K5: ='Α2.1.Τακτικός ΠΥ'!K5+'Α2.2. ΠΔΕ, ΤΑΑ & λοιπά εργαλεία'!K5 -> 0 | L5: ='Α2.1.Τακτικός ΠΥ'!L5+'Α2.2. ΠΔΕ, ΤΑΑ & λοιπά εργαλεία'!L5 -> 0
A6: 2 | B6: 73 | C6: Πωλήσεις υπηρεσιών (73) | D6: ='Α2.1.Τακτικός ΠΥ'!D6+'Α2.2. ΠΔΕ, ΤΑΑ & λοιπά εργαλεία'!D6 -> 0 | E6: ='Α2.1.Τακτικός ΠΥ'!E6+'Α2.2. ΠΔΕ, ΤΑΑ & λοιπά εργαλεία'!E6 -> 0 | F6: ='Α2.1.Τακτικός ΠΥ'!F6+'Α2.2. ΠΔΕ, ΤΑΑ & λοιπά εργαλεία'!F6 -> 0 | G6: ='Α2.1.Τακτικός ΠΥ'!G6+'Α2.2. ΠΔΕ, ΤΑΑ & λοιπά εργαλεία'!G6 -> 0 | H6: ='Α2.1.Τακτικός ΠΥ'!H6+'Α2.2. ΠΔΕ, ΤΑΑ & λοιπά εργαλεία'!H6 -> 0 | I6: ='Α2.1.Τακτικός ΠΥ'!I6+'Α2.2. ΠΔΕ, ΤΑΑ & λοιπά εργαλεία'!I6 -> 0 | J6: ='Α2.1.Τακτικός ΠΥ'!J6+'Α2.2. ΠΔΕ, ΤΑΑ & λοιπά εργαλεία'!J6 -> 0 | K6: ='Α2.1.Τακτικός ΠΥ'!K6+'Α2.2. ΠΔΕ, ΤΑΑ & λοιπά εργαλεία'!K6 -> 0 | L6: ='Α2.1.Τακτικός ΠΥ'!L6+'Α2.2. ΠΔΕ, ΤΑΑ & λοιπά εργαλεία'!L6 -> 0
A7: 3 | B7: 74 | C7: Επιχορηγήσεις και διάφορα έσοδα πωλήσεων (74) | D7: ='Α2.1.Τακτικός ΠΥ'!D7+'Α2.2. ΠΔΕ, ΤΑΑ & λοιπά εργαλεία'!D7 -> 0 | E7: ='Α2.1.Τακτικός ΠΥ'!E7+'Α2.2. ΠΔΕ, ΤΑΑ & λοιπά εργαλεία'!E7 -> 0 | F7: ='Α2.1.Τακτικός ΠΥ'!F7+'Α2.2. ΠΔΕ, ΤΑΑ & λοιπά εργαλεία'!F7 -> 0 | G7: ='Α2.1.Τακτικός ΠΥ'!G7+'Α2.2. ΠΔΕ, ΤΑΑ & λοιπά εργαλεία'!G7 -> 0 | H7: ='Α2.1.Τακτικός ΠΥ'!H7+'Α2.2. ΠΔΕ, ΤΑΑ & λοιπά εργαλεία'!H7 -> 0 | I7: ='Α2.1.Τακτικός ΠΥ'!I7+'Α2.2. ΠΔΕ, ΤΑΑ & λοιπά εργαλεία'!I7 -> 0 | J7: ='Α2.1.Τακτικός ΠΥ'!J7+'Α2.2. ΠΔΕ, ΤΑΑ & λοιπά εργαλεία'!J7 -> 0 | K7: ='Α2.1.Τακτικός ΠΥ'!K7+'Α2.2. ΠΔΕ, ΤΑΑ & λοιπά εργαλεία'!K7 -> 0 | L7: ='Α2.1.Τακτικός ΠΥ'!L7+'Α2.2. ΠΔΕ, ΤΑΑ & λοιπά εργαλεία'!L7 -> 0
A8: 4 | B8: 75 | C8: Έσοδα παρεπόμενων ασχολιών (75) | D8: ='Α2.1.Τακτικός ΠΥ'!D8+'Α2.2. ΠΔΕ, ΤΑΑ & λοιπά εργαλεία'!D8 -> 0 | E8: ='Α2.1.Τακτικός ΠΥ'!E8+'Α2.2. ΠΔΕ, ΤΑΑ & λοιπά εργαλεία'!E8 -> 0 | F8: ='Α2.1.Τακτικός ΠΥ'!F8+'Α2.2. ΠΔΕ, ΤΑΑ & λοιπά εργαλεία'!F8 -> 0 | G8: ='Α2.1.Τακτικός ΠΥ'!G8+'Α2.2. ΠΔΕ, ΤΑΑ & λοιπά εργαλεία'!G8 -> 0 | H8: ='Α2.1.Τακτικός ΠΥ'!H8+'Α2.2. ΠΔΕ, ΤΑΑ & λοιπά εργαλεία'!H8 -> 0 | I8: ='Α2.1.Τακτικός ΠΥ'!I8+'Α2.2. ΠΔΕ, ΤΑΑ & λοιπά εργαλεία'!I8 -> 0 | J8: ='Α2.1.Τακτικός ΠΥ'!J8+'Α2.2. ΠΔΕ, ΤΑΑ & λοιπά εργαλεία'!J8 -> 0 | K8: ='Α2.1.Τακτικός ΠΥ'!K8+'Α2.2. ΠΔΕ, ΤΑΑ & λοιπά εργαλεία'!K8 -> 0 | L8: ='Α2.1.Τακτικός ΠΥ'!L8+'Α2.2. ΠΔΕ, ΤΑΑ & λοιπά εργαλεία'!L8 -> 0
A9: 5 | B9: 76 | C9: Έσοδα κεφαλαίων (76 πλην 76.04) | D9: ='Α2.1.Τακτικός ΠΥ'!D9+'Α2.2. ΠΔΕ, ΤΑΑ & λοιπά εργαλεία'!D9 -> 0 | E9: ='Α2.1.Τακτικός ΠΥ'!E9+'Α2.2. ΠΔΕ, ΤΑΑ & λοιπά εργαλεία'!E9 -> 0 | F9: ='Α2.1.Τακτικός ΠΥ'!F9+'Α2.2. ΠΔΕ, ΤΑΑ & λοιπά εργαλεία'!F9 -> 0 | G9: ='Α2.1.Τακτικός ΠΥ'!G9+'Α2.2. ΠΔΕ, ΤΑΑ & λοιπά εργαλεία'!G9 -> 0 | H9: ='Α2.1.Τακτικός ΠΥ'!H9+'Α2.2. ΠΔΕ, ΤΑΑ & λοιπά εργαλεία'!H9 -> 0 | I9: ='Α2.1.Τακτικός ΠΥ'!I9+'Α2.2. ΠΔΕ, ΤΑΑ & λοιπά εργαλεία'!I9 -> 0 | J9: ='Α2.1.Τακτικός ΠΥ'!J9+'Α2.2. ΠΔΕ, ΤΑΑ & λοιπά εργαλεία'!J9 -> 0 | K9: ='Α2.1.Τακτικός ΠΥ'!K9+'Α2.2. ΠΔΕ, ΤΑΑ & λοιπά εργαλεία'!K9 -> 0 | L9: ='Α2.1.Τακτικός ΠΥ'!L9+'Α2.2. ΠΔΕ, ΤΑΑ & λοιπά εργαλεία'!L9 -> 0
A10: 6 | B10: 78 | C10: Ιδιοπαραγωγή παγίων (78 πλην 78.05) | D10: ='Α2.1.Τακτικός ΠΥ'!D10+'Α2.2. ΠΔΕ, ΤΑΑ & λοιπά εργαλεία'!D10 -> 0 | E10: ='Α2.1.Τακτικός ΠΥ'!E10+'Α2.2. ΠΔΕ, ΤΑΑ & λοιπά εργαλεία'!E10 -> 0 | F10: ='Α2.1.Τακτικός ΠΥ'!F10+'Α2.2. ΠΔΕ, ΤΑΑ & λοιπά εργαλεία'!F10 -> 0 | G10: ='Α2.1.Τακτικός ΠΥ'!G10+'Α2.2. ΠΔΕ, ΤΑΑ & λοιπά εργαλεία'!G10 -> 0 | H10: ='Α2.1.Τακτικός ΠΥ'!H10+'Α2.2. ΠΔΕ, ΤΑΑ & λοιπά εργαλεία'!H10 -> 0 | I10: ='Α2.1.Τακτικός ΠΥ'!I10+'Α2.2. ΠΔΕ, ΤΑΑ & λοιπά εργαλεία'!I10 -> 0 | J10: ='Α2.1.Τακτικός ΠΥ'!J10+'Α2.2. ΠΔΕ, ΤΑΑ & λοιπά εργαλεία'!J10 -> 0 | K10: ='Α2.1.Τακτικός ΠΥ'!K10+'Α2.2. ΠΔΕ, ΤΑΑ & λοιπά εργαλεία'!K10 -> 0 | L10: ='Α2.1.Τακτικός ΠΥ'!L10+'Α2.2. ΠΔΕ, ΤΑΑ & λοιπά εργαλεία'!L10 -> 0
A11: 7 | B11: 40* | C11: Αύξηση μετοχικού κεφαλαίου (40) | D11: ='Α2.1.Τακτικός ΠΥ'!D11+'Α2.2. ΠΔΕ, ΤΑΑ & λοιπά εργαλεία'!D11 -> 0 | E11: ='Α2.1.Τακτικός ΠΥ'!E11+'Α2.2. ΠΔΕ, ΤΑΑ & λοιπά εργαλεία'!E11 -> 0 | F11: ='Α2.1.Τακτικός ΠΥ'!F11+'Α2.2. ΠΔΕ, ΤΑΑ & λοιπά εργαλεία'!F11 -> 0 | G11: ='Α2.1.Τακτικός ΠΥ'!G11+'Α2.2. ΠΔΕ, ΤΑΑ & λοιπά εργαλεία'!G11 -> 0 | H11: ='Α2.1.Τακτικός ΠΥ'!H11+'Α2.2. ΠΔΕ, ΤΑΑ & λοιπά εργαλεία'!H11 -> 0 | I11: ='Α2.1.Τακτικός ΠΥ'!I11+'Α2.2. ΠΔΕ, ΤΑΑ & λοιπά εργαλεία'!I11 -> 0 | J11: ='Α2.1.Τακτικός ΠΥ'!J11+'Α2.2. ΠΔΕ, ΤΑΑ & λοιπά εργαλεία'!J11 -> 0 | K11: ='Α2.1.Τακτικός ΠΥ'!K11+'Α2.2. ΠΔΕ, ΤΑΑ & λοιπά εργαλεία'!K11 -> 0 | L11: ='Α2.1.Τακτικός ΠΥ'!L11+'Α2.2. ΠΔΕ, ΤΑΑ & λοιπά εργαλεία'!L11 -> 0
A12: 8 | B12: 41 | C12: Επιχορηγήσεις παγίων επενδύσεων (41.10) | D12: ='Α2.1.Τακτικός ΠΥ'!D12+'Α2.2. ΠΔΕ, ΤΑΑ & λοιπά εργαλεία'!D12 -> 0 | E12: ='Α2.1.Τακτικός ΠΥ'!E12+'Α2.2. ΠΔΕ, ΤΑΑ & λοιπά εργαλεία'!E12 -> 0 | F12: ='Α2.1.Τακτικός ΠΥ'!F12+'Α2.2. ΠΔΕ, ΤΑΑ & λοιπά εργαλεία'!F12 -> 0 | G12: ='Α2.1.Τακτικός ΠΥ'!G12+'Α2.2. ΠΔΕ, ΤΑΑ & λοιπά εργαλεία'!G12 -> 0 | H12: ='Α2.1.Τακτικός ΠΥ'!H12+'Α2.2. ΠΔΕ, ΤΑΑ & λοιπά εργαλεία'!H12 -> 0 | I12: ='Α2.1.Τακτικός ΠΥ'!I12+'Α2.2. ΠΔΕ, ΤΑΑ & λοιπά εργαλεία'!I12 -> 0 | J12: ='Α2.1.Τακτικός ΠΥ'!J12+'Α2.2. ΠΔΕ, ΤΑΑ & λοιπά εργαλεία'!J12 -> 0 | K12: ='Α2.1.Τακτικός ΠΥ'!K12+'Α2.2. ΠΔΕ, ΤΑΑ & λοιπά εργαλεία'!K12 -> 0 | L12: ='Α2.1.Τακτικός ΠΥ'!L12+'Α2.2. ΠΔΕ, ΤΑΑ & λοιπά εργαλεία'!L12 -> 0
A13: 9 | B13: 43** | C13: Ποσά προορισμένα για αύξηση κεφαλαίου (43) | D13: ='Α2.1.Τακτικός ΠΥ'!D13+'Α2.2. ΠΔΕ, ΤΑΑ & λοιπά εργαλεία'!D13 -> 0 | E13: ='Α2.1.Τακτικός ΠΥ'!E13+'Α2.2. ΠΔΕ, ΤΑΑ & λοιπά εργαλεία'!E13 -> 0 | F13: ='Α2.1.Τακτικός ΠΥ'!F13+'Α2.2. ΠΔΕ, ΤΑΑ & λοιπά εργαλεία'!F13 -> 0 | G13: ='Α2.1.Τακτικός ΠΥ'!G13+'Α2.2. ΠΔΕ, ΤΑΑ & λοιπά εργαλεία'!G13 -> 0 | H13: ='Α2.1.Τακτικός ΠΥ'!H13+'Α2.2. ΠΔΕ, ΤΑΑ & λοιπά εργαλεία'!H13 -> 0 | I13: ='Α2.1.Τακτικός ΠΥ'!I13+'Α2.2. ΠΔΕ, ΤΑΑ & λοιπά εργαλεία'!I13 -> 0 | J13: ='Α2.1.Τακτικός ΠΥ'!J13+'Α2.2. ΠΔΕ, ΤΑΑ & λοιπά εργαλεία'!J13 -> 0 | K13: ='Α2.1.Τακτικός ΠΥ'!K13+'Α2.2. ΠΔΕ, ΤΑΑ & λοιπά εργαλεία'!K13 -> 0 | L13: ='Α2.1.Τακτικός ΠΥ'!L13+'Α2.2. ΠΔΕ, ΤΑΑ & λοιπά εργαλεία'!L13 -> 0
A14: 10 | B14: 81 | C14: Έκτακτα και ανόργανα έσοδα (81.01 πλην 81.01.04 και 81.01.05) | D14: ='Α2.1.Τακτικός ΠΥ'!D14+'Α2.2. ΠΔΕ, ΤΑΑ & λοιπά εργαλεία'!D14 -> 0 | E14: ='Α2.1.Τακτικός ΠΥ'!E14+'Α2.2. ΠΔΕ, ΤΑΑ & λοιπά εργαλεία'!E14 -> 0 | F14: ='Α2.1.Τακτικός ΠΥ'!F14+'Α2.2. ΠΔΕ, ΤΑΑ & λοιπά εργαλεία'!F14 -> 0 | G14: ='Α2.1.Τακτικός ΠΥ'!G14+'Α2.2. ΠΔΕ, ΤΑΑ & λοιπά εργαλεία'!G14 -> 0 | H14: ='Α2.1.Τακτικός ΠΥ'!H14+'Α2.2. ΠΔΕ, ΤΑΑ & λοιπά εργαλεία'!H14 -> 0 | I14: ='Α2.1.Τακτικός ΠΥ'!I14+'Α2.2. ΠΔΕ, ΤΑΑ & λοιπά εργαλεία'!I14 -> 0 | J14: ='Α2.1.Τακτικός ΠΥ'!J14+'Α2.2. ΠΔΕ, ΤΑΑ & λοιπά εργαλεία'!J14 -> 0 | K14: ='Α2.1.Τακτικός ΠΥ'!K14+'Α2.2. ΠΔΕ, ΤΑΑ & λοιπά εργαλεία'!K14 -> 0 | L14: ='Α2.1.Τακτικός ΠΥ'!L14+'Α2.2. ΠΔΕ, ΤΑΑ & λοιπά εργαλεία'!L14 -> 0
A15: 11 | B15: 82 | C15: Έσοδα προηγούμενων χρήσεων (82.01) | D15: ='Α2.1.Τακτικός ΠΥ'!D15+'Α2.2. ΠΔΕ, ΤΑΑ & λοιπά εργαλεία'!D15 -> 0 | E15: ='Α2.1.Τακτικός ΠΥ'!E15+'Α2.2. ΠΔΕ, ΤΑΑ & λοιπά εργαλεία'!E15 -> 0 | F15: ='Α2.1.Τακτικός ΠΥ'!F15+'Α2.2. ΠΔΕ, ΤΑΑ & λοιπά εργαλεία'!F15 -> 0 | G15: ='Α2.1.Τακτικός ΠΥ'!G15+'Α2.2. ΠΔΕ, ΤΑΑ & λοιπά εργαλεία'!G15 -> 0 | H15: ='Α2.1.Τακτικός ΠΥ'!H15+'Α2.2. ΠΔΕ, ΤΑΑ & λοιπά εργαλεία'!H15 -> 0 | I15: ='Α2.1.Τακτικός ΠΥ'!I15+'Α2.2. ΠΔΕ, ΤΑΑ & λοιπά εργαλεία'!I15 -> 0 | J15: ='Α2.1.Τακτικός ΠΥ'!J15+'Α2.2. ΠΔΕ, ΤΑΑ & λοιπά εργαλεία'!J15 -> 0 | K15: ='Α2.1.Τακτικός ΠΥ'!K15+'Α2.2. ΠΔΕ, ΤΑΑ & λοιπά εργαλεία'!K15 -> 0 | L15: ='Α2.1.Τακτικός ΠΥ'!L15+'Α2.2. ΠΔΕ, ΤΑΑ & λοιπά εργαλεία'!L15 -> 0
A16: 12 | B16: 10+11+12+13+14+15+16 | C16: Πωλήσεις παγίων περιουσιακών στοιχείων (10+11+12+13+14+15+16) | D16: ='Α2.1.Τακτικός ΠΥ'!D16+'Α2.2. ΠΔΕ, ΤΑΑ & λοιπά εργαλεία'!D16 -> 0 | E16: ='Α2.1.Τακτικός ΠΥ'!E16+'Α2.2. ΠΔΕ, ΤΑΑ & λοιπά εργαλεία'!E16 -> 0 | F16: ='Α2.1.Τακτικός ΠΥ'!F16+'Α2.2. ΠΔΕ, ΤΑΑ & λοιπά εργαλεία'!F16 -> 0 | G16: ='Α2.1.Τακτικός ΠΥ'!G16+'Α2.2. ΠΔΕ, ΤΑΑ & λοιπά εργαλεία'!G16 -> 0 | H16: ='Α2.1.Τακτικός ΠΥ'!H16+'Α2.2. ΠΔΕ, ΤΑΑ & λοιπά εργαλεία'!H16 -> 0 | I16: ='Α2.1.Τακτικός ΠΥ'!I16+'Α2.2. ΠΔΕ, ΤΑΑ & λοιπά εργαλεία'!I16 -> 0 | J16: ='Α2.1.Τακτικός ΠΥ'!J16+'Α2.2. ΠΔΕ, ΤΑΑ & λοιπά εργαλεία'!J16 -> 0 | K16: ='Α2.1.Τακτικός ΠΥ'!K16+'Α2.2. ΠΔΕ, ΤΑΑ & λοιπά εργαλεία'!K16 -> 0 | L16: ='Α2.1.Τακτικός ΠΥ'!L16+'Α2.2. ΠΔΕ, ΤΑΑ & λοιπά εργαλεία'!L16 -> 0
A17: 13 | B17: 20+24+25+26+28 | C17: Εκπτώσεις επί αγορών εμπορευμάτων, πρώτων και βοηθητικών υλών, ανταλλακτικών και λοιπών αποθεμάτων (20+24+25+26+28) | D17: ='Α2.1.Τακτικός ΠΥ'!D17+'Α2.2. ΠΔΕ, ΤΑΑ & λοιπά εργαλεία'!D17 -> 0 | E17: ='Α2.1.Τακτικός ΠΥ'!E17+'Α2.2. ΠΔΕ, ΤΑΑ & λοιπά εργαλεία'!E17 -> 0 | F17: ='Α2.1.Τακτικός ΠΥ'!F17+'Α2.2. ΠΔΕ, ΤΑΑ & λοιπά εργαλεία'!F17 -> 0 | G17: ='Α2.1.Τακτικός ΠΥ'!G17+'Α2.2. ΠΔΕ, ΤΑΑ & λοιπά εργαλεία'!G17 -> 0 | H17: ='Α2.1.Τακτικός ΠΥ'!H17+'Α2.2. ΠΔΕ, ΤΑΑ & λοιπά εργαλεία'!H17 -> 0 | I17: ='Α2.1.Τακτικός ΠΥ'!I17+'Α2.2. ΠΔΕ, ΤΑΑ & λοιπά εργαλεία'!I17 -> 0 | J17: ='Α2.1.Τακτικός ΠΥ'!J17+'Α2.2. ΠΔΕ, ΤΑΑ & λοιπά εργαλεία'!J17 -> 0 | K17: ='Α2.1.Τακτικός ΠΥ'!K17+'Α2.2. ΠΔΕ, ΤΑΑ & λοιπά εργαλεία'!K17 -> 0 | L17: ='Α2.1.Τακτικός ΠΥ'!L17+'Α2.2. ΠΔΕ, ΤΑΑ & λοιπά εργαλεία'!L17 -> 0
A18: Β | B18: Δαπάνες μη χρηματοοικονομικών συναλλαγών (14+15+16+17+18+19+20+21+22+23+24+25+26+27) | D18: ='Α2.1.Τακτικός ΠΥ'!D18+'Α2.2. ΠΔΕ, ΤΑΑ & λοιπά εργαλεία'!D18 -> 0 | E18: ='Α2.1.Τακτικός ΠΥ'!E18+'Α2.2. ΠΔΕ, ΤΑΑ & λοιπά εργαλεία'!E18 -> 0 | F18: ='Α2.1.Τακτικός ΠΥ'!F18+'Α2.2. ΠΔΕ, ΤΑΑ & λοιπά εργαλεία'!F18 -> 0 | G18: ='Α2.1.Τακτικός ΠΥ'!G18+'Α2.2. ΠΔΕ, ΤΑΑ & λοιπά εργαλεία'!G18 -> 0 | H18: ='Α2.1.Τακτικός ΠΥ'!H18+'Α2.2. ΠΔΕ, ΤΑΑ & λοιπά εργαλεία'!H18 -> 0 | I18: ='Α2.1.Τακτικός ΠΥ'!I18+'Α2.2. ΠΔΕ, ΤΑΑ & λοιπά εργαλεία'!I18 -> 0 | J18: ='Α2.1.Τακτικός ΠΥ'!J18+'Α2.2. ΠΔΕ, ΤΑΑ & λοιπά εργαλεία'!J18 -> 0 | K18: ='Α2.1.Τακτικός ΠΥ'!K18+'Α2.2. ΠΔΕ, ΤΑΑ & λοιπά εργαλεία'!K18 -> 0 | L18: ='Α2.1.Τακτικός ΠΥ'!L18+'Α2.2. ΠΔΕ, ΤΑΑ & λοιπά εργαλεία'!L18 -> 0
A19: 14 | B19: 60 | C19: Αμοιβές και έξοδα προσωπικού (60 εκτός 60.05) | D19: ='Α2.1.Τακτικός ΠΥ'!D19+'Α2.2. ΠΔΕ, ΤΑΑ & λοιπά εργαλεία'!D19 -> 0 | E19: ='Α2.1.Τακτικός ΠΥ'!E19+'Α2.2. ΠΔΕ, ΤΑΑ & λοιπά εργαλεία'!E19 -> 0 | F19: ='Α2.1.Τακτικός ΠΥ'!F19+'Α2.2. ΠΔΕ, ΤΑΑ & λοιπά εργαλεία'!F19 -> 0 | G19: ='Α2.1.Τακτικός ΠΥ'!G19+'Α2.2. ΠΔΕ, ΤΑΑ & λοιπά εργαλεία'!G19 -> 0 | H19: ='Α2.1.Τακτικός ΠΥ'!H19+'Α2.2. ΠΔΕ, ΤΑΑ & λοιπά εργαλεία'!H19 -> 0 | I19: ='Α2.1.Τακτικός ΠΥ'!I19+'Α2.2. ΠΔΕ, ΤΑΑ & λοιπά εργαλεία'!I19 -> 0 | J19: ='Α2.1.Τακτικός ΠΥ'!J19+'Α2.2. ΠΔΕ, ΤΑΑ & λοιπά εργαλεία'!J19 -> 0 | K19: ='Α2.1.Τακτικός ΠΥ'!K19+'Α2.2. ΠΔΕ, ΤΑΑ & λοιπά εργαλεία'!K19 -> 0 | L19: ='Α2.1.Τακτικός ΠΥ'!L19+'Α2.2. ΠΔΕ, ΤΑΑ & λοιπά εργαλεία'!L19 -> 0
A20: 15 | B20: 61 | C20: Αμοιβές και έξοδα τρίτων (61) | D20: ='Α2.1.Τακτικός ΠΥ'!D20+'Α2.2. ΠΔΕ, ΤΑΑ & λοιπά εργαλεία'!D20 -> 0 | E20: ='Α2.1.Τακτικός ΠΥ'!E20+'Α2.2. ΠΔΕ, ΤΑΑ & λοιπά εργαλεία'!E20 -> 0 | F20: ='Α2.1.Τακτικός ΠΥ'!F20+'Α2.2. ΠΔΕ, ΤΑΑ & λοιπά εργαλεία'!F20 -> 0 | G20: ='Α2.1.Τακτικός ΠΥ'!G20+'Α2.2. ΠΔΕ, ΤΑΑ & λοιπά εργαλεία'!G20 -> 0 | H20: ='Α2.1.Τακτικός ΠΥ'!H20+'Α2.2. ΠΔΕ, ΤΑΑ & λοιπά εργαλεία'!H20 -> 0 | I20: ='Α2.1.Τακτικός ΠΥ'!I20+'Α2.2. ΠΔΕ, ΤΑΑ & λοιπά εργαλεία'!I20 -> 0 | J20: ='Α2.1.Τακτικός ΠΥ'!J20+'Α2.2. ΠΔΕ, ΤΑΑ & λοιπά εργαλεία'!J20 -> 0 | K20: ='Α2.1.Τακτικός ΠΥ'!K20+'Α2.2. ΠΔΕ, ΤΑΑ & λοιπά εργαλεία'!K20 -> 0 | L20: ='Α2.1.Τακτικός ΠΥ'!L20+'Α2.2. ΠΔΕ, ΤΑΑ & λοιπά εργαλεία'!L20 -> 0
A21: 16 | B21: 62 | C21: Παροχές τρίτων (62) | D21: ='Α2.1.Τακτικός ΠΥ'!D21+'Α2.2. ΠΔΕ, ΤΑΑ & λοιπά εργαλεία'!D21 -> 0 | E21: ='Α2.1.Τακτικός ΠΥ'!E21+'Α2.2. ΠΔΕ, ΤΑΑ & λοιπά εργαλεία'!E21 -> 0 | F21: ='Α2.1.Τακτικός ΠΥ'!F21+'Α2.2. ΠΔΕ, ΤΑΑ & λοιπά εργαλεία'!F21 -> 0 | G21: ='Α2.1.Τακτικός ΠΥ'!G21+'Α2.2. ΠΔΕ, ΤΑΑ & λοιπά εργαλεία'!G21 -> 0 | H21: ='Α2.1.Τακτικός ΠΥ'!H21+'Α2.2. ΠΔΕ, ΤΑΑ & λοιπά εργαλεία'!H21 -> 0 | I21: ='Α2.1.Τακτικός ΠΥ'!I21+'Α2.2. ΠΔΕ, ΤΑΑ & λοιπά εργαλεία'!I21 -> 0 | J21: ='Α2.1.Τακτικός ΠΥ'!J21+'Α2.2. ΠΔΕ, ΤΑΑ & λοιπά εργαλεία'!J21 -> 0 | K21: ='Α2.1.Τακτικός ΠΥ'!K21+'Α2.2. ΠΔΕ, ΤΑΑ & λοιπά εργαλεία'!K21 -> 0 | L21: ='Α2.1.Τακτικός ΠΥ'!L21+'Α2.2. ΠΔΕ, ΤΑΑ & λοιπά εργαλεία'!L21 -> 0
A22: 17 | B22: 63 | C22: Φόροι τέλη (63) | D22: ='Α2.1.Τακτικός ΠΥ'!D22+'Α2.2. ΠΔΕ, ΤΑΑ & λοιπά εργαλεία'!D22 -> 0 | E22: ='Α2.1.Τακτικός ΠΥ'!E22+'Α2.2. ΠΔΕ, ΤΑΑ & λοιπά εργαλεία'!E22 -> 0 | F22: ='Α2.1.Τακτικός ΠΥ'!F22+'Α2.2. ΠΔΕ, ΤΑΑ & λοιπά εργαλεία'!F22 -> 0 | G22: ='Α2.1.Τακτικός ΠΥ'!G22+'Α2.2. ΠΔΕ, ΤΑΑ & λοιπά εργαλεία'!G22 -> 0 | H22: ='Α2.1.Τακτικός ΠΥ'!H22+'Α2.2. ΠΔΕ, ΤΑΑ & λοιπά εργαλεία'!H22 -> 0 | I22: ='Α2.1.Τακτικός ΠΥ'!I22+'Α2.2. ΠΔΕ, ΤΑΑ & λοιπά εργαλεία'!I22 -> 0 | J22: ='Α2.1.Τακτικός ΠΥ'!J22+'Α2.2. ΠΔΕ, ΤΑΑ & λοιπά εργαλεία'!J22 -> 0 | K22: ='Α2.1.Τακτικός ΠΥ'!K22+'Α2.2. ΠΔΕ, ΤΑΑ & λοιπά εργαλεία'!K22 -> 0 | L22: ='Α2.1.Τακτικός ΠΥ'!L22+'Α2.2. ΠΔΕ, ΤΑΑ & λοιπά εργαλεία'!L22 -> 0
A23: 18 | B23: 64 | C23: Διάφορα έξοδα (64 συν 60.05, πλην 64.11 και 64.12) | D23: ='Α2.1.Τακτικός ΠΥ'!D23+'Α2.2. ΠΔΕ, ΤΑΑ & λοιπά εργαλεία'!D23 -> 0 | E23: ='Α2.1.Τακτικός ΠΥ'!E23+'Α2.2. ΠΔΕ, ΤΑΑ & λοιπά εργαλεία'!E23 -> 0 | F23: ='Α2.1.Τακτικός ΠΥ'!F23+'Α2.2. ΠΔΕ, ΤΑΑ & λοιπά εργαλεία'!F23 -> 0 | G23: ='Α2.1.Τακτικός ΠΥ'!G23+'Α2.2. ΠΔΕ, ΤΑΑ & λοιπά εργαλεία'!G23 -> 0 | H23: ='Α2.1.Τακτικός ΠΥ'!H23+'Α2.2. ΠΔΕ, ΤΑΑ & λοιπά εργαλεία'!H23 -> 0 | I23: ='Α2.1.Τακτικός ΠΥ'!I23+'Α2.2. ΠΔΕ, ΤΑΑ & λοιπά εργαλεία'!I23 -> 0 | J23: ='Α2.1.Τακτικός ΠΥ'!J23+'Α2.2. ΠΔΕ, ΤΑΑ & λοιπά εργαλεία'!J23 -> 0 | K23: ='Α2.1.Τακτικός ΠΥ'!K23+'Α2.2. ΠΔΕ, ΤΑΑ & λοιπά εργαλεία'!K23 -> 0 | L23: ='Α2.1.Τακτικός ΠΥ'!L23+'Α2.2. ΠΔΕ, ΤΑΑ & λοιπά εργαλεία'!L23 -> 0
A24: 19 | B24: 65 | C24: Τόκοι και συναφή έξοδα (65 συν 16.18) | D24: ='Α2.1.Τακτικός ΠΥ'!D24+'Α2.2. ΠΔΕ, ΤΑΑ & λοιπά εργαλεία'!D24 -> 0 | E24: ='Α2.1.Τακτικός ΠΥ'!E24+'Α2.2. ΠΔΕ, ΤΑΑ & λοιπά εργαλεία'!E24 -> 0 | F24: ='Α2.1.Τακτικός ΠΥ'!F24+'Α2.2. ΠΔΕ, ΤΑΑ & λοιπά εργαλεία'!F24 -> 0 | G24: ='Α2.1.Τακτικός ΠΥ'!G24+'Α2.2. ΠΔΕ, ΤΑΑ & λοιπά εργαλεία'!G24 -> 0 | H24: ='Α2.1.Τακτικός ΠΥ'!H24+'Α2.2. ΠΔΕ, ΤΑΑ & λοιπά εργαλεία'!H24 -> 0 | I24: ='Α2.1.Τακτικός ΠΥ'!I24+'Α2.2. ΠΔΕ, ΤΑΑ & λοιπά εργαλεία'!I24 -> 0 | J24: ='Α2.1.Τακτικός ΠΥ'!J24+'Α2.2. ΠΔΕ, ΤΑΑ & λοιπά εργαλεία'!J24 -> 0 | K24: ='Α2.1.Τακτικός ΠΥ'!K24+'Α2.2. ΠΔΕ, ΤΑΑ & λοιπά εργαλεία'!K24 -> 0 | L24: ='Α2.1.Τακτικός ΠΥ'!L24+'Α2.2. ΠΔΕ, ΤΑΑ & λοιπά εργαλεία'!L24 -> 0
A25: 20 | B25: 67 | C25: Έξοδα που δεν εντάσσονται στους λοιπούς λογαριασμούς και παρακολουθούνται στον λογ. 67 από τον φορέα | D25: ='Α2.1.Τακτικός ΠΥ'!D25+'Α2.2. ΠΔΕ, ΤΑΑ & λοιπά εργαλεία'!D25 -> 0 | E25: ='Α2.1.Τακτικός ΠΥ'!E25+'Α2.2. ΠΔΕ, ΤΑΑ & λοιπά εργαλεία'!E25 -> 0 | F25: ='Α2.1.Τακτικός ΠΥ'!F25+'Α2.2. ΠΔΕ, ΤΑΑ & λοιπά εργαλεία'!F25 -> 0 | G25: ='Α2.1.Τακτικός ΠΥ'!G25+'Α2.2. ΠΔΕ, ΤΑΑ & λοιπά εργαλεία'!G25 -> 0 | H25: ='Α2.1.Τακτικός ΠΥ'!H25+'Α2.2. ΠΔΕ, ΤΑΑ & λοιπά εργαλεία'!H25 -> 0 | I25: ='Α2.1.Τακτικός ΠΥ'!I25+'Α2.2. ΠΔΕ, ΤΑΑ & λοιπά εργαλεία'!I25 -> 0 | J25: ='Α2.1.Τακτικός ΠΥ'!J25+'Α2.2. ΠΔΕ, ΤΑΑ & λοιπά εργαλεία'!J25 -> 0 | K25: ='Α2.1.Τακτικός ΠΥ'!K25+'Α2.2. ΠΔΕ, ΤΑΑ & λοιπά εργαλεία'!K25 -> 0 | L25: ='Α2.1.Τακτικός ΠΥ'!L25+'Α2.2. ΠΔΕ, ΤΑΑ & λοιπά εργαλεία'!L25 -> 0
A26: 21 | B26: 69 | C26: Έξοδα που δεν εντάσσονται στους λοιπούς λογαριασμούς και παρακολουθούνται στον λογ. 69 από τον φορέα | D26: ='Α2.1.Τακτικός ΠΥ'!D26+'Α2.2. ΠΔΕ, ΤΑΑ & λοιπά εργαλεία'!D26 -> 0 | E26: ='Α2.1.Τακτικός ΠΥ'!E26+'Α2.2. ΠΔΕ, ΤΑΑ & λοιπά εργαλεία'!E26 -> 0 | F26: ='Α2.1.Τακτικός ΠΥ'!F26+'Α2.2. ΠΔΕ, ΤΑΑ & λοιπά εργαλεία'!F26 -> 0 | G26: ='Α2.1.Τακτικός ΠΥ'!G26+'Α2.2. ΠΔΕ, ΤΑΑ & λοιπά εργαλεία'!G26 -> 0 | H26: ='Α2.1.Τακτικός ΠΥ'!H26+'Α2.2. ΠΔΕ, ΤΑΑ & λοιπά εργαλεία'!H26 -> 0 | I26: ='Α2.1.Τακτικός ΠΥ'!I26+'Α2.2. ΠΔΕ, ΤΑΑ & λοιπά εργαλεία'!I26 -> 0 | J26: ='Α2.1.Τακτικός ΠΥ'!J26+'Α2.2. ΠΔΕ, ΤΑΑ & λοιπά εργαλεία'!J26 -> 0 | K26: ='Α2.1.Τακτικός ΠΥ'!K26+'Α2.2. ΠΔΕ, ΤΑΑ & λοιπά εργαλεία'!K26 -> 0 | L26: ='Α2.1.Τακτικός ΠΥ'!L26+'Α2.2. ΠΔΕ, ΤΑΑ & λοιπά εργαλεία'!L26 -> 0
A27: 22 | B27: 53.01 | C27: Μερίσματα πληρωτέα (53.01) | D27: ='Α2.1.Τακτικός ΠΥ'!D27+'Α2.2. ΠΔΕ, ΤΑΑ & λοιπά εργαλεία'!D27 -> 0 | E27: ='Α2.1.Τακτικός ΠΥ'!E27+'Α2.2. ΠΔΕ, ΤΑΑ & λοιπά εργαλεία'!E27 -> 0 | F27: ='Α2.1.Τακτικός ΠΥ'!F27+'Α2.2. ΠΔΕ, ΤΑΑ & λοιπά εργαλεία'!F27 -> 0 | G27: ='Α2.1.Τακτικός ΠΥ'!G27+'Α2.2. ΠΔΕ, ΤΑΑ & λοιπά εργαλεία'!G27 -> 0 | H27: ='Α2.1.Τακτικός ΠΥ'!H27+'Α2.2. ΠΔΕ, ΤΑΑ & λοιπά εργαλεία'!H27 -> 0 | I27: ='Α2.1.Τακτικός ΠΥ'!I27+'Α2.2. ΠΔΕ, ΤΑΑ & λοιπά εργαλεία'!I27 -> 0 | J27: ='Α2.1.Τακτικός ΠΥ'!J27+'Α2.2. ΠΔΕ, ΤΑΑ & λοιπά εργαλεία'!J27 -> 0 | K27: ='Α2.1.Τακτικός ΠΥ'!K27+'Α2.2. ΠΔΕ, ΤΑΑ & λοιπά εργαλεία'!K27 -> 0 | L27: ='Α2.1.Τακτικός ΠΥ'!L27+'Α2.2. ΠΔΕ, ΤΑΑ & λοιπά εργαλεία'!L27 -> 0
A28: 23 | B28: 54.08 | C28: Λογαριασμός εκκαθάρισης φόρων - τελών ετήσιας δήλωσης φόρου εισοδήματος (54.08) | D28: ='Α2.1.Τακτικός ΠΥ'!D28+'Α2.2. ΠΔΕ, ΤΑΑ & λοιπά εργαλεία'!D28 -> 0 | E28: ='Α2.1.Τακτικός ΠΥ'!E28+'Α2.2. ΠΔΕ, ΤΑΑ & λοιπά εργαλεία'!E28 -> 0 | F28: ='Α2.1.Τακτικός ΠΥ'!F28+'Α2.2. ΠΔΕ, ΤΑΑ & λοιπά εργαλεία'!F28 -> 0 | G28: ='Α2.1.Τακτικός ΠΥ'!G28+'Α2.2. ΠΔΕ, ΤΑΑ & λοιπά εργαλεία'!G28 -> 0 | H28: ='Α2.1.Τακτικός ΠΥ'!H28+'Α2.2. ΠΔΕ, ΤΑΑ & λοιπά εργαλεία'!H28 -> 0 | I28: ='Α2.1.Τακτικός ΠΥ'!I28+'Α2.2. ΠΔΕ, ΤΑΑ & λοιπά εργαλεία'!I28 -> 0 | J28: ='Α2.1.Τακτικός ΠΥ'!J28+'Α2.2. ΠΔΕ, ΤΑΑ & λοιπά εργαλεία'!J28 -> 0 | K28: ='Α2.1.Τακτικός ΠΥ'!K28+'Α2.2. ΠΔΕ, ΤΑΑ & λοιπά εργαλεία'!K28 -> 0 | L28: ='Α2.1.Τακτικός ΠΥ'!L28+'Α2.2. ΠΔΕ, ΤΑΑ & λοιπά εργαλεία'!L28 -> 0
A29: 24 | B29: 81 | C29: Έκτακτα και ανόργανα έξοδα (81.00 πλην 81.00.03 και 81.00.04) | D29: ='Α2.1.Τακτικός ΠΥ'!D29+'Α2.2. ΠΔΕ, ΤΑΑ & λοιπά εργαλεία'!D29 -> 0 | E29: ='Α2.1.Τακτικός ΠΥ'!E29+'Α2.2. ΠΔΕ, ΤΑΑ & λοιπά εργαλεία'!E29 -> 0 | F29: ='Α2.1.Τακτικός ΠΥ'!F29+'Α2.2. ΠΔΕ, ΤΑΑ & λοιπά εργαλεία'!F29 -> 0 | G29: ='Α2.1.Τακτικός ΠΥ'!G29+'Α2.2. ΠΔΕ, ΤΑΑ & λοιπά εργαλεία'!G29 -> 0 | H29: ='Α2.1.Τακτικός ΠΥ'!H29+'Α2.2. ΠΔΕ, ΤΑΑ & λοιπά εργαλεία'!H29 -> 0 | I29: ='Α2.1.Τακτικός ΠΥ'!I29+'Α2.2. ΠΔΕ, ΤΑΑ & λοιπά εργαλεία'!I29 -> 0 | J29: ='Α2.1.Τακτικός ΠΥ'!J29+'Α2.2. ΠΔΕ, ΤΑΑ & λοιπά εργαλεία'!J29 -> 0 | K29: ='Α2.1.Τακτικός ΠΥ'!K29+'Α2.2. ΠΔΕ, ΤΑΑ & λοιπά εργαλεία'!K29 -> 0 | L29: ='Α2.1.Τακτικός ΠΥ'!L29+'Α2.2. ΠΔΕ, ΤΑΑ & λοιπά εργαλεία'!L29 -> 0
A30: 25 | B30: 82 | C30: Έξοδα προηγούμενων χρήσεων (82.00) | D30: ='Α2.1.Τακτικός ΠΥ'!D30+'Α2.2. ΠΔΕ, ΤΑΑ & λοιπά εργαλεία'!D30 -> 0 | E30: ='Α2.1.Τακτικός ΠΥ'!E30+'Α2.2. ΠΔΕ, ΤΑΑ & λοιπά εργαλεία'!E30 -> 0 | F30: ='Α2.1.Τακτικός ΠΥ'!F30+'Α2.2. ΠΔΕ, ΤΑΑ & λοιπά εργαλεία'!F30 -> 0 | G30: ='Α2.1.Τακτικός ΠΥ'!G30+'Α2.2. ΠΔΕ, ΤΑΑ & λοιπά εργαλεία'!G30 -> 0 | H30: ='Α2.1.Τακτικός ΠΥ'!H30+'Α2.2. ΠΔΕ, ΤΑΑ & λοιπά εργαλεία'!H30 -> 0 | I30: ='Α2.1.Τακτικός ΠΥ'!I30+'Α2.2. ΠΔΕ, ΤΑΑ & λοιπά εργαλεία'!I30 -> 0 | J30: ='Α2.1.Τακτικός ΠΥ'!J30+'Α2.2. ΠΔΕ, ΤΑΑ & λοιπά εργαλεία'!J30 -> 0 | K30: ='Α2.1.Τακτικός ΠΥ'!K30+'Α2.2. ΠΔΕ, ΤΑΑ & λοιπά εργαλεία'!K30 -> 0 | L30: ='Α2.1.Τακτικός ΠΥ'!L30+'Α2.2. ΠΔΕ, ΤΑΑ & λοιπά εργαλεία'!L30 -> 0
A31: 26 | B31: 10+11+12+13+14+15+16 | C31: Αγορές παγίων περιουσιακών στοιχείων (10+11+12+13+14+15+16-16.18) | D31: ='Α2.1.Τακτικός ΠΥ'!D31+'Α2.2. ΠΔΕ, ΤΑΑ & λοιπά εργαλεία'!D31 -> 0 | E31: ='Α2.1.Τακτικός ΠΥ'!E31+'Α2.2. ΠΔΕ, ΤΑΑ & λοιπά εργαλεία'!E31 -> 0 | F31: ='Α2.1.Τακτικός ΠΥ'!F31+'Α2.2. ΠΔΕ, ΤΑΑ & λοιπά εργαλεία'!F31 -> 0 | G31: ='Α2.1.Τακτικός ΠΥ'!G31+'Α2.2. ΠΔΕ, ΤΑΑ & λοιπά εργαλεία'!G31 -> 0 | H31: ='Α2.1.Τακτικός ΠΥ'!H31+'Α2.2. ΠΔΕ, ΤΑΑ & λοιπά εργαλεία'!H31 -> 0 | I31: ='Α2.1.Τακτικός ΠΥ'!I31+'Α2.2. ΠΔΕ, ΤΑΑ & λοιπά εργαλεία'!I31 -> 0 | J31: ='Α2.1.Τακτικός ΠΥ'!J31+'Α2.2. ΠΔΕ, ΤΑΑ & λοιπά εργαλεία'!J31 -> 0 | K31: ='Α2.1.Τακτικός ΠΥ'!K31+'Α2.2. ΠΔΕ, ΤΑΑ & λοιπά εργαλεία'!K31 -> 0 | L31: ='Α2.1.Τακτικός ΠΥ'!L31+'Α2.2. ΠΔΕ, ΤΑΑ & λοιπά εργαλεία'!L31 -> 0
A32: 27 | B32: 20+24+25+26+28 | C32: Αγορές εμπορευμάτων, πρώτων και βοηθητικών υλών, ανταλλακτικών και λοιπών αποθεμάτων (20+24+25+26+28) | D32: ='Α2.1.Τακτικός ΠΥ'!D32+'Α2.2. ΠΔΕ, ΤΑΑ & λοιπά εργαλεία'!D32 -> 0 | E32: ='Α2.1.Τακτικός ΠΥ'!E32+'Α2.2. ΠΔΕ, ΤΑΑ & λοιπά εργαλεία'!E32 -> 0 | F32: ='Α2.1.Τακτικός ΠΥ'!F32+'Α2.2. ΠΔΕ, ΤΑΑ & λοιπά εργαλεία'!F32 -> 0 | G32: ='Α2.1.Τακτικός ΠΥ'!G32+'Α2.2. ΠΔΕ, ΤΑΑ & λοιπά εργαλεία'!G32 -> 0 | H32: ='Α2.1.Τακτικός ΠΥ'!H32+'Α2.2. ΠΔΕ, ΤΑΑ & λοιπά εργαλεία'!H32 -> 0 | I32: ='Α2.1.Τακτικός ΠΥ'!I32+'Α2.2. ΠΔΕ, ΤΑΑ & λοιπά εργαλεία'!I32 -> 0 | J32: ='Α2.1.Τακτικός ΠΥ'!J32+'Α2.2. ΠΔΕ, ΤΑΑ & λοιπά εργαλεία'!J32 -> 0 | K32: ='Α2.1.Τακτικός ΠΥ'!K32+'Α2.2. ΠΔΕ, ΤΑΑ & λοιπά εργαλεία'!K32 -> 0 | L32: ='Α2.1.Τακτικός ΠΥ'!L32+'Α2.2. ΠΔΕ, ΤΑΑ & λοιπά εργαλεία'!L32 -> 0
A33: Γ | B33: Ισοζύγιο (Α-Β) | D33: ='Α2.1.Τακτικός ΠΥ'!D33+'Α2.2. ΠΔΕ, ΤΑΑ & λοιπά εργαλεία'!D33 -> 0 | E33: ='Α2.1.Τακτικός ΠΥ'!E33+'Α2.2. ΠΔΕ, ΤΑΑ & λοιπά εργαλεία'!E33 -> 0 | F33: ='Α2.1.Τακτικός ΠΥ'!F33+'Α2.2. ΠΔΕ, ΤΑΑ & λοιπά εργαλεία'!F33 -> 0 | G33: ='Α2.1.Τακτικός ΠΥ'!G33+'Α2.2. ΠΔΕ, ΤΑΑ & λοιπά εργαλεία'!G33 -> 0 | H33: ='Α2.1.Τακτικός ΠΥ'!H33+'Α2.2. ΠΔΕ, ΤΑΑ & λοιπά εργαλεία'!H33 -> 0 | I33: ='Α2.1.Τακτικός ΠΥ'!I33+'Α2.2. ΠΔΕ, ΤΑΑ & λοιπά εργαλεία'!I33 -> 0 | J33: ='Α2.1.Τακτικός ΠΥ'!J33+'Α2.2. ΠΔΕ, ΤΑΑ & λοιπά εργαλεία'!J33 -> 0 | K33: ='Α2.1.Τακτικός ΠΥ'!K33+'Α2.2. ΠΔΕ, ΤΑΑ & λοιπά εργαλεία'!K33 -> 0 | L33: ='Α2.1.Τακτικός ΠΥ'!L33+'Α2.2. ΠΔΕ, ΤΑΑ & λοιπά εργαλεία'!L33 -> 0
A34: * | B34: Ποσά προορισμένα για αύξηση μετοχικού κεφαλαίου και για πληρωμές από το Κράτος λόγω κατάπτωσης εγγυήσεων.
A35: ** | B35: Ποσά προορισμένα για αύξηση μετοχικού κεφαλαίου.
A36: Δ | B36: Έσοδα χρηματοοικονομικών συναλλαγών (28+29+30+31+32+33+34+35+36) | D36: ='Α2.1.Τακτικός ΠΥ'!D36+'Α2.2. ΠΔΕ, ΤΑΑ & λοιπά εργαλεία'!D36 -> 0 | E36: ='Α2.1.Τακτικός ΠΥ'!E36+'Α2.2. ΠΔΕ, ΤΑΑ & λοιπά εργαλεία'!E36 -> 0 | F36: ='Α2.1.Τακτικός ΠΥ'!F36+'Α2.2. ΠΔΕ, ΤΑΑ & λοιπά εργαλεία'!F36 -> 0 | G36: ='Α2.1.Τακτικός ΠΥ'!G36+'Α2.2. ΠΔΕ, ΤΑΑ & λοιπά εργαλεία'!G36 -> 0 | H36: ='Α2.1.Τακτικός ΠΥ'!H36+'Α2.2. ΠΔΕ, ΤΑΑ & λοιπά εργαλεία'!H36 -> 0 | I36: ='Α2.1.Τακτικός ΠΥ'!I36+'Α2.2. ΠΔΕ, ΤΑΑ & λοιπά εργαλεία'!I36 -> 0 | J36: ='Α2.1.Τακτικός ΠΥ'!J36+'Α2.2. ΠΔΕ, ΤΑΑ & λοιπά εργαλεία'!J36 -> 0 | K36: ='Α2.1.Τακτικός ΠΥ'!K36+'Α2.2. ΠΔΕ, ΤΑΑ & λοιπά εργαλεία'!K36 -> 0 | L36: ='Α2.1.Τακτικός ΠΥ'!L36+'Α2.2. ΠΔΕ, ΤΑΑ & λοιπά εργαλεία'!L36 -> 0
A37: 28 | B37: 18 | C37: Συμμετοχές και λοιπές μακροπρόθεσμες απαιτήσεις (18) | D37: ='Α2.1.Τακτικός ΠΥ'!D37+'Α2.2. ΠΔΕ, ΤΑΑ & λοιπά εργαλεία'!D37 -> 0 | E37: ='Α2.1.Τακτικός ΠΥ'!E37+'Α2.2. ΠΔΕ, ΤΑΑ & λοιπά εργαλεία'!E37 -> 0 | F37: ='Α2.1.Τακτικός ΠΥ'!F37+'Α2.2. ΠΔΕ, ΤΑΑ & λοιπά εργαλεία'!F37 -> 0 | G37: ='Α2.1.Τακτικός ΠΥ'!G37+'Α2.2. ΠΔΕ, ΤΑΑ & λοιπά εργαλεία'!G37 -> 0 | H37: ='Α2.1.Τακτικός ΠΥ'!H37+'Α2.2. ΠΔΕ, ΤΑΑ & λοιπά εργαλεία'!H37 -> 0 | I37: ='Α2.1.Τακτικός ΠΥ'!I37+'Α2.2. ΠΔΕ, ΤΑΑ & λοιπά εργαλεία'!I37 -> 0 | J37: ='Α2.1.Τακτικός ΠΥ'!J37+'Α2.2. ΠΔΕ, ΤΑΑ & λοιπά εργαλεία'!J37 -> 0 | K37: ='Α2.1.Τακτικός ΠΥ'!K37+'Α2.2. ΠΔΕ, ΤΑΑ & λοιπά εργαλεία'!K37 -> 0 | L37: ='Α2.1.Τακτικός ΠΥ'!L37+'Α2.2. ΠΔΕ, ΤΑΑ & λοιπά εργαλεία'!L37 -> 0
A38: 29 | B38: 33 | C38: Χρεώστες διάφοροι (33) | D38: ='Α2.1.Τακτικός ΠΥ'!D38+'Α2.2. ΠΔΕ, ΤΑΑ & λοιπά εργαλεία'!D38 -> 0 | E38: ='Α2.1.Τακτικός ΠΥ'!E38+'Α2.2. ΠΔΕ, ΤΑΑ & λοιπά εργαλεία'!E38 -> 0 | F38: ='Α2.1.Τακτικός ΠΥ'!F38+'Α2.2. ΠΔΕ, ΤΑΑ & λοιπά εργαλεία'!F38 -> 0 | G38: ='Α2.1.Τακτικός ΠΥ'!G38+'Α2.2. ΠΔΕ, ΤΑΑ & λοιπά εργαλεία'!G38 -> 0 | H38: ='Α2.1.Τακτικός ΠΥ'!H38+'Α2.2. ΠΔΕ, ΤΑΑ & λοιπά εργαλεία'!H38 -> 0 | I38: ='Α2.1.Τακτικός ΠΥ'!I38+'Α2.2. ΠΔΕ, ΤΑΑ & λοιπά εργαλεία'!I38 -> 0 | J38: ='Α2.1.Τακτικός ΠΥ'!J38+'Α2.2. ΠΔΕ, ΤΑΑ & λοιπά εργαλεία'!J38 -> 0 | K38: ='Α2.1.Τακτικός ΠΥ'!K38+'Α2.2. ΠΔΕ, ΤΑΑ & λοιπά εργαλεία'!K38 -> 0 | L38: ='Α2.1.Τακτικός ΠΥ'!L38+'Α2.2. ΠΔΕ, ΤΑΑ & λοιπά εργαλεία'!L38 -> 0
A39: 30 | B39: 34 | C39: Χρεόγραφα (34) | D39: ='Α2.1.Τακτικός ΠΥ'!D39+'Α2.2. ΠΔΕ, ΤΑΑ & λοιπά εργαλεία'!D39 -> 0 | E39: ='Α2.1.Τακτικός ΠΥ'!E39+'Α2.2. ΠΔΕ, ΤΑΑ & λοιπά εργαλεία'!E39 -> 0 | F39: ='Α2.1.Τακτικός ΠΥ'!F39+'Α2.2. ΠΔΕ, ΤΑΑ & λοιπά εργαλεία'!F39 -> 0 | G39: ='Α2.1.Τακτικός ΠΥ'!G39+'Α2.2. ΠΔΕ, ΤΑΑ & λοιπά εργαλεία'!G39 -> 0 | H39: ='Α2.1.Τακτικός ΠΥ'!H39+'Α2.2. ΠΔΕ, ΤΑΑ & λοιπά εργαλεία'!H39 -> 0 | I39: ='Α2.1.Τακτικός ΠΥ'!I39+'Α2.2. ΠΔΕ, ΤΑΑ & λοιπά εργαλεία'!I39 -> 0 | J39: ='Α2.1.Τακτικός ΠΥ'!J39+'Α2.2. ΠΔΕ, ΤΑΑ & λοιπά εργαλεία'!J39 -> 0 | K39: ='Α2.1.Τακτικός ΠΥ'!K39+'Α2.2. ΠΔΕ, ΤΑΑ & λοιπά εργαλεία'!K39 -> 0 | L39: ='Α2.1.Τακτικός ΠΥ'!L39+'Α2.2. ΠΔΕ, ΤΑΑ & λοιπά εργαλεία'!L39 -> 0
A40: 31 | B40: 35 | C40: Λογαριασμοί διαχείρισης προκαταβολών και πιστώσεων (35) | D40: ='Α2.1.Τακτικός ΠΥ'!D40+'Α2.2. ΠΔΕ, ΤΑΑ & λοιπά εργαλεία'!D40 -> 0 | E40: ='Α2.1.Τακτικός ΠΥ'!E40+'Α2.2. ΠΔΕ, ΤΑΑ & λοιπά εργαλεία'!E40 -> 0 | F40: ='Α2.1.Τακτικός ΠΥ'!F40+'Α2.2. ΠΔΕ, ΤΑΑ & λοιπά εργαλεία'!F40 -> 0 | G40: ='Α2.1.Τακτικός ΠΥ'!G40+'Α2.2. ΠΔΕ, ΤΑΑ & λοιπά εργαλεία'!G40 -> 0 | H40: ='Α2.1.Τακτικός ΠΥ'!H40+'Α2.2. ΠΔΕ, ΤΑΑ & λοιπά εργαλεία'!H40 -> 0 | I40: ='Α2.1.Τακτικός ΠΥ'!I40+'Α2.2. ΠΔΕ, ΤΑΑ & λοιπά εργαλεία'!I40 -> 0 | J40: ='Α2.1.Τακτικός ΠΥ'!J40+'Α2.2. ΠΔΕ, ΤΑΑ & λοιπά εργαλεία'!J40 -> 0 | K40: ='Α2.1.Τακτικός ΠΥ'!K40+'Α2.2. ΠΔΕ, ΤΑΑ & λοιπά εργαλεία'!K40 -> 0 | L40: ='Α2.1.Τακτικός ΠΥ'!L40+'Α2.2. ΠΔΕ, ΤΑΑ & λοιπά εργαλεία'!L40 -> 0
...

Sheet Α2.1.Τακτικός ΠΥ
A1: Πίνακας Α2.1: Έσοδα - Δαπάνες ΑΕ, ΝΠΙΔ και Ειδικών Λογαριασμών που εφαρμόζουν το Ελληνικό Γενικό Λογιστικό Σχέδιο (Τακτικός προϋπολογισμός)
D2: 2025 | E2: 2026 | F2: 2026 | G2: 2026 | H2: 2026 | I2: 2027 | J2: 2028 | K2: 2029 | L2: 2030
A3: α/α | B3: Λογαριασμοί ΕΓΛΣ | C3: Περιγραφή | D3: Πραγματοποιήσεις | E3: Αρχικός Προϋπολογισμός | F3: Διαμόρφωση (Αρχικός Π/Υ + τροποποιήσεις) | G3: Εκτέλεση Α΄ Εξαμήνου | H3: Εκτιμήσεις πραγματοποιήσεων έτους | I3: Προβλέψεις | J3: Προβλέψεις | K3: Προβλέψεις | L3: Προβλέψεις
A4: Α | B4: Έσοδα μη χρηματοοικονομικών συναλλαγών (1+2+3+4+5+6+7+8+9+10+11+12+13) | D4: =D5+D6+D7+D8+D9+D10+D11+D12+D13+D14+D15+D16+D17 -> 0 | E4: =E5+E6+E7+E8+E9+E10+E11+E12+E13+E14+E15+E16+E17 -> 0 | F4: =F5+F6+F7+F8+F9+F10+F11+F12+F13+F14+F15+F16+F17 -> 0 | G4: =G5+G6+G7+G8+G9+G10+G11+G12+G13+G14+G15+G16+G17 -> 0 | H4: =H5+H6+H7+H8+H9+H10+H11+H12+H13+H14+H15+H16+H17 -> 0 | I4: =I5+I6+I7+I8+I9+I10+I11+I12+I13+I14+I15+I16+I17 -> 0 | J4: =J5+J6+J7+J8+J9+J10+J11+J12+J13+J14+J15+J16+J17 -> 0 | K4: =K5+K6+K7+K8+K9+K10+K11+K12+K13+K14+K15+K16+K17 -> 0 | L4: =L5+L6+L7+L8+L9+L10+L11+L12+L13+L14+L15+L16+L17 -> 0
A5: 1 | B5: 70+71+72 | C5: Πωλήσεις εμπορευμάτων, έτοιμων και ημιτελών προϊόντων, λοιπών αποθεμάτων (70+71+72)
A6: 2 | B6: 73 | C6: Πωλήσεις υπηρεσιών (73)
A7: 3 | B7: 74 | C7: Επιχορηγήσεις και διάφορα έσοδα πωλήσεων (74)
A8: 4 | B8: 75 | C8: Έσοδα παρεπόμενων ασχολιών (75)
A9: 5 | B9: 76 | C9: Έσοδα κεφαλαίων (76 πλην 76.04)
A10: 6 | B10: 78 | C10: Ιδιοπαραγωγή παγίων (78 πλην 78.05)
A11: 7 | B11: 40* | C11: Αύξηση μετοχικού κεφαλαίου (40)
A12: 8 | B12: 41 | C12: Επιχορηγήσεις παγίων επενδύσεων (41.10)
A13: 9 | B13: 43** | C13: Ποσά προορισμένα για αύξηση κεφαλαίου (43)
A14: 10 | B14: 81 | C14: Έκτακτα και ανόργανα έσοδα (81.01 πλην 81.01.04 και 81.01.05)
A15: 11 | B15: 82 | C15: Έσοδα προηγούμενων χρήσεων (82.01)
A16: 12 | B16: 10+11+12+13+14+15+16 | C16: Πωλήσεις παγίων περιουσιακών στοιχείων (10+11+12+13+14+15+16)
A17: 13 | B17: 20+24+25+26+28 | C17: Εκπτώσεις επί αγορών εμπορευμάτων, πρώτων και βοηθητικών υλών, ανταλλακτικών και λοιπών αποθεμάτων (20+24+25+26+28)
A18: Β | B18: Δαπάνες μη χρηματοοικονομικών συναλλαγών (14+15+16+17+18+19+20+21+22+23+24+25+26+27) | D18: =D19+D20+D21+D22+D23+D24+D25+D26+D27+D28+D29+D30+D31+D32 -> 0 | E18: =E19+E20+E21+E22+E23+E24+E25+E26+E27+E28+E29+E30+E31+E32 -> 0 | F18: =F19+F20+F21+F22+F23+F24+F25+F26+F27+F28+F29+F30+F31+F32 -> 0 | G18: =G19+G20+G21+G22+G23+G24+G25+G26+G27+G28+G29+G30+G31+G32 -> 0 | H18: =H19+H20+H21+H22+H23+H24+H25+H26+H27+H28+H29+H30+H31+H32 -> 0 | I18: =I19+I20+I21+I22+I23+I24+I25+I26+I27+I28+I29+I30+I31+I32 -> 0 | J18: =J19+J20+J21+J22+J23+J24+J25+J26+J27+J28+J29+J30+J31+J32 -> 0 | K18: =K19+K20+K21+K22+K23+K24+K25+K26+K27+K28+K29+K30+K31+K32 -> 0 | L18: =L19+L20+L21+L22+L23+L24+L25+L26+L27+L28+L29+L30+L31+L32 -> 0
A19: 14 | B19: 60 | C19: Αμοιβές και έξοδα προσωπικού (60 εκτός 60.05)
A20: 15 | B20: 61 | C20: Αμοιβές και έξοδα τρίτων (61)
A21: 16 | B21: 62 | C21: Παροχές τρίτων (62)
A22: 17 | B22: 63 | C22: Φόροι τέλη (63)
A23: 18 | B23: 64 | C23: Διάφορα έξοδα (64 συν 60.05, πλην 64.11 και 64.12)
A24: 19 | B24: 65 | C24: Τόκοι και συναφή έξοδα (65 συν 16.18)
A25: 20 | B25: 67 | C25: Έξοδα που δεν εντάσσονται στους λοιπούς λογαριασμούς και παρακολουθούνται στον λογ. 67 από τον φορέα
A26: 21 | B26: 69 | C26: Έξοδα που δεν εντάσσονται στους λοιπούς λογαριασμούς και παρακολουθούνται στον λογ. 69 από τον φορέα
A27: 22 | B27: 53.01 | C27: Μερίσματα πληρωτέα (53.01)
A28: 23 | B28: 54.08 | C28: Λογαριασμός εκκαθάρισης φόρων - τελών ετήσιας δήλωσης φόρου εισοδήματος (54.08)
A29: 24 | B29: 81 | C29: Έκτακτα και ανόργανα έξοδα (81.00 πλην 81.00.03 και 81.00.04)
A30: 25 | B30: 82 | C30: Έξοδα προηγούμενων χρήσεων (82.00)
A31: 26 | B31: 10+11+12+13+14+15+16 | C31: Αγορές παγίων περιουσιακών στοιχείων (10+11+12+13+14+15+16-16.18)
A32: 27 | B32: 20+24+25+26+28 | C32: Αγορές εμπορευμάτων, πρώτων και βοηθητικών υλών, ανταλλακτικών και λοιπών αποθεμάτων (20+24+25+26+28)
A33: Γ | B33: Ισοζύγιο (Α-Β) | D33: =D4-D18 -> 0 | E33: =E4-E18 -> 0 | F33: =F4-F18 -> 0 | G33: =G4-G18 -> 0 | H33: =H4-H18 -> 0 | I33: =I4-I18 -> 0 | J33: =J4-J18 -> 0 | K33: =K4-K18 -> 0 | L33: =L4-L18 -> 0
A34: * | B34: Ποσά προορισμένα για αύξηση μετοχικού κεφαλαίου και για πληρωμές από το Κράτος λόγω κατάπτωσης εγγυήσεων.
A35: ** | B35: Ποσά προορισμένα για αύξηση μετοχικού κεφαλαίου.
A36: Δ | B36: Έσοδα χρηματοοικονομικών συναλλαγών (28+29+30+31+32+33+34+35+36) | D36: =SUM(D37:D45) -> 0 | E36: =SUM(E37:E45) -> 0 | F36: =SUM(F37:F45) -> 0 | G36: =SUM(G37:G45) -> 0 | H36: =SUM(H37:H45) -> 0 | I36: =SUM(I37:I45) -> 0 | J36: =SUM(J37:J45) -> 0 | K36: =SUM(K37:K45) -> 0 | L36: =SUM(L37:L45) -> 0
A37: 28 | B37: 18 | C37: Συμμετοχές και λοιπές μακροπρόθεσμες απαιτήσεις (18)
A38: 29 | B38: 33 | C38: Χρεώστες διάφοροι (33)
A39: 30 | B39: 34 | C39: Χρεόγραφα (34)
A40: 31 | B40: 35 | C40: Λογαριασμοί διαχείρισης προκαταβολών και πιστώσεων (35)
...

Sheet Α2.2. ΠΔΕ, ΤΑΑ & λοιπά εργαλεία
A1: Πίνακας Α2.2: Έσοδα - Δαπάνες ΑΕ, ΝΠΙΔ και Ειδικών Λογαριασμών που εφαρμόζουν το Ελληνικό Γενικό Λογιστικό Σχέδιο (ΠΔΕ, ΤΑΑ και λοιπά εργαλεία)
D2: 2025 | E2: 2026 | F2: 2026 | G2: 2026 | H2: 2026 | I2: 2027 | J2: 2028 | K2: 2029 | L2: 2030
A3: α/α | B3: Λογαριασμοί ΕΓΛΣ | C3: Περιγραφή | D3: Πραγματοποιήσεις | E3: Αρχικός Προϋπολογισμός | F3: Διαμόρφωση (Αρχικός Π/Υ + τροποποιήσεις) | G3: Εκτέλεση Α΄ Εξαμήνου | H3: Εκτιμήσεις πραγματοποιήσεων έτους | I3: Προβλέψεις | J3: Προβλέψεις | K3: Προβλέψεις | L3: Προβλέψεις
A4: Α | B4: Έσοδα μη χρηματοοικονομικών συναλλαγών (1+2+3+4+5+6+7+8+9+10+11+12+13) | D4: ='Α2.2.1 ΠΔΕ Εθνικό'!D4+'Α2.2.2 ΠΔΕ Συγχρημ.'!D4+'Α2.2.3 ΤΑΑ'!D4+'Α2.2.4 Πράσινο Ταμείο'!D4+'Α2.2.5 ΑΝΤΩΝΗΣ ΤΡΙΤΣΗΣ κτλ'!D4 -> 0 | E4: ='Α2.2.1 ΠΔΕ Εθνικό'!E4+'Α2.2.2 ΠΔΕ Συγχρημ.'!E4+'Α2.2.3 ΤΑΑ'!E4+'Α2.2.4 Πράσινο Ταμείο'!E4+'Α2.2.5 ΑΝΤΩΝΗΣ ΤΡΙΤΣΗΣ κτλ'!E4 -> 0 | F4: ='Α2.2.1 ΠΔΕ Εθνικό'!F4+'Α2.2.2 ΠΔΕ Συγχρημ.'!F4+'Α2.2.3 ΤΑΑ'!F4+'Α2.2.4 Πράσινο Ταμείο'!F4+'Α2.2.5 ΑΝΤΩΝΗΣ ΤΡΙΤΣΗΣ κτλ'!F4 -> 0 | G4: ='Α2.2.1 ΠΔΕ Εθνικό'!G4+'Α2.2.2 ΠΔΕ Συγχρημ.'!G4+'Α2.2.3 ΤΑΑ'!G4+'Α2.2.4 Πράσινο Ταμείο'!G4+'Α2.2.5 ΑΝΤΩΝΗΣ ΤΡΙΤΣΗΣ κτλ'!G4 -> 0 | H4: ='Α2.2.1 ΠΔΕ Εθνικό'!H4+'Α2.2.2 ΠΔΕ Συγχρημ.'!H4+'Α2.2.3 ΤΑΑ'!H4+'Α2.2.4 Πράσινο Ταμείο'!H4+'Α2.2.5 ΑΝΤΩΝΗΣ ΤΡΙΤΣΗΣ κτλ'!H4 -> 0 | I4: ='Α2.2.1 ΠΔΕ Εθνικό'!I4+'Α2.2.2 ΠΔΕ Συγχρημ.'!I4+'Α2.2.3 ΤΑΑ'!I4+'Α2.2.4 Πράσινο Ταμείο'!I4+'Α2.2.5 ΑΝΤΩΝΗΣ ΤΡΙΤΣΗΣ κτλ'!I4 -> 0 | J4: ='Α2.2.1 ΠΔΕ Εθνικό'!J4+'Α2.2.2 ΠΔΕ Συγχρημ.'!J4+'Α2.2.3 ΤΑΑ'!J4+'Α2.2.4 Πράσινο Ταμείο'!J4+'Α2.2.5 ΑΝΤΩΝΗΣ ΤΡΙΤΣΗΣ κτλ'!J4 -> 0 | K4: ='Α2.2.1 ΠΔΕ Εθνικό'!K4+'Α2.2.2 ΠΔΕ Συγχρημ.'!K4+'Α2.2.3 ΤΑΑ'!K4+'Α2.2.4 Πράσινο Ταμείο'!K4+'Α2.2.5 ΑΝΤΩΝΗΣ ΤΡΙΤΣΗΣ κτλ'!K4 -> 0 | L4: ='Α2.2.1 ΠΔΕ Εθνικό'!L4+'Α2.2.2 ΠΔΕ Συγχρημ.'!L4+'Α2.2.3 ΤΑΑ'!L4+'Α2.2.4 Πράσινο Ταμείο'!L4+'Α2.2.5 ΑΝΤΩΝΗΣ ΤΡΙΤΣΗΣ κτλ'!L4 -> 0
A5: 1 | B5: 70+71+72 | C5: Πωλήσεις εμπορευμάτων, έτοιμων και ημιτελών προϊόντων, λοιπών αποθεμάτων (70+71+72) | D5: ='Α2.2.1 ΠΔΕ Εθνικό'!D5+'Α2.2.2 ΠΔΕ Συγχρημ.'!D5+'Α2.2.3 ΤΑΑ'!D5+'Α2.2.4 Πράσινο Ταμείο'!D5+'Α2.2.5 ΑΝΤΩΝΗΣ ΤΡΙΤΣΗΣ κτλ'!D5 -> 0 | E5: ='Α2.2.1 ΠΔΕ Εθνικό'!E5+'Α2.2.2 ΠΔΕ Συγχρημ.'!E5+'Α2.2.3 ΤΑΑ'!E5+'Α2.2.4 Πράσινο Ταμείο'!E5+'Α2.2.5 ΑΝΤΩΝΗΣ ΤΡΙΤΣΗΣ κτλ'!E5 -> 0 | F5: ='Α2.2.1 ΠΔΕ Εθνικό'!F5+'Α2.2.2 ΠΔΕ Συγχρημ.'!F5+'Α2.2.3 ΤΑΑ'!F5+'Α2.2.4 Πράσινο Ταμείο'!F5+'Α2.2.5 ΑΝΤΩΝΗΣ ΤΡΙΤΣΗΣ κτλ'!F5 -> 0 | G5: ='Α2.2.1 ΠΔΕ Εθνικό'!G5+'Α2.2.2 ΠΔΕ Συγχρημ.'!G5+'Α2.2.3 ΤΑΑ'!G5+'Α2.2.4 Πράσινο Ταμείο'!G5+'Α2.2.5 ΑΝΤΩΝΗΣ ΤΡΙΤΣΗΣ κτλ'!G5 -> 0 | H5: ='Α2.2.1 ΠΔΕ Εθνικό'!H5+'Α2.2.2 ΠΔΕ Συγχρημ.'!H5+'Α2.2.3 ΤΑΑ'!H5+'Α2.2.4 Πράσινο Ταμείο'!H5+'Α2.2.5 ΑΝΤΩΝΗΣ ΤΡΙΤΣΗΣ κτλ'!H5 -> 0 | I5: ='Α2.2.1 ΠΔΕ Εθνικό'!I5+'Α2.2.2 ΠΔΕ Συγχρημ.'!I5+'Α2.2.3 ΤΑΑ'!I5+'Α2.2.4 Πράσινο Ταμείο'!I5+'Α2.2.5 ΑΝΤΩΝΗΣ ΤΡΙΤΣΗΣ κτλ'!I5 -> 0 | J5: ='Α2.2.1 ΠΔΕ Εθνικό'!J5+'Α2.2.2 ΠΔΕ Συγχρημ.'!J5+'Α2.2.3 ΤΑΑ'!J5+'Α2.2.4 Πράσινο Ταμείο'!J5+'Α2.2.5 ΑΝΤΩΝΗΣ ΤΡΙΤΣΗΣ κτλ'!J5 -> 0 | K5: ='Α2.2.1 ΠΔΕ Εθνικό'!K5+'Α2.2.2 ΠΔΕ Συγχρημ.'!K5+'Α2.2.3 ΤΑΑ'!K5+'Α2.2.4 Πράσινο Ταμείο'!K5+'Α2.2.5 ΑΝΤΩΝΗΣ ΤΡΙΤΣΗΣ κτλ'!K5 -> 0 | L5: ='Α2.2.1 ΠΔΕ Εθνικό'!L5+'Α2.2.2 ΠΔΕ Συγχρημ.'!L5+'Α2.2.3 ΤΑΑ'!L5+'Α2.2.4 Πράσινο Ταμείο'!L5+'Α2.2.5 ΑΝΤΩΝΗΣ ΤΡΙΤΣΗΣ κτλ'!L5 -> 0
A6: 2 | B6: 73 | C6: Πωλήσεις υπηρεσιών (73) | D6: ='Α2.2.1 ΠΔΕ Εθνικό'!D6+'Α2.2.2 ΠΔΕ Συγχρημ.'!D6+'Α2.2.3 ΤΑΑ'!D6+'Α2.2.4 Πράσινο Ταμείο'!D6+'Α2.2.5 ΑΝΤΩΝΗΣ ΤΡΙΤΣΗΣ κτλ'!D6 -> 0 | E6: ='Α2.2.1 ΠΔΕ Εθνικό'!E6+'Α2.2.2 ΠΔΕ Συγχρημ.'!E6+'Α2.2.3 ΤΑΑ'!E6+'Α2.2.4 Πράσινο Ταμείο'!E6+'Α2.2.5 ΑΝΤΩΝΗΣ ΤΡΙΤΣΗΣ κτλ'!E6 -> 0 | F6: ='Α2.2.1 ΠΔΕ Εθνικό'!F6+'Α2.2.2 ΠΔΕ Συγχρημ.'!F6+'Α2.2.3 ΤΑΑ'!F6+'Α2.2.4 Πράσινο Ταμείο'!F6+'Α2.2.5 ΑΝΤΩΝΗΣ ΤΡΙΤΣΗΣ κτλ'!F6 -> 0 | G6: ='Α2.2.1 ΠΔΕ Εθνικό'!G6+'Α2.2.2 ΠΔΕ Συγχρημ.'!G6+'Α2.2.3 ΤΑΑ'!G6+'Α2.2.4 Πράσινο Ταμείο'!G6+'Α2.2.5 ΑΝΤΩΝΗΣ ΤΡΙΤΣΗΣ κτλ'!G6 -> 0 | H6: ='Α2.2.1 ΠΔΕ Εθνικό'!H6+'Α2.2.2 ΠΔΕ Συγχρημ.'!H6+'Α2.2.3 ΤΑΑ'!H6+'Α2.2.4 Πράσινο Ταμείο'!H6+'Α2.2.5 ΑΝΤΩΝΗΣ ΤΡΙΤΣΗΣ κτλ'!H6 -> 0 | I6: ='Α2.2.1 ΠΔΕ Εθνικό'!I6+'Α2.2.2 ΠΔΕ Συγχρημ.'!I6+'Α2.2.3 ΤΑΑ'!I6+'Α2.2.4 Πράσινο Ταμείο'!I6+'Α2.2.5 ΑΝΤΩΝΗΣ ΤΡΙΤΣΗΣ κτλ'!I6 -> 0 | J6: ='Α2.2.1 ΠΔΕ Εθνικό'!J6+'Α2.2.2 ΠΔΕ Συγχρημ.'!J6+'Α2.2.3 ΤΑΑ'!J6+'Α2.2.4 Πράσινο Ταμείο'!J6+'Α2.2.5 ΑΝΤΩΝΗΣ ΤΡΙΤΣΗΣ κτλ'!J6 -> 0 | K6: ='Α2.2.1 ΠΔΕ Εθνικό'!K6+'Α2.2.2 ΠΔΕ Συγχρημ.'!K6+'Α2.2.3 ΤΑΑ'!K6+'Α2.2.4 Πράσινο Ταμείο'!K6+'Α2.2.5 ΑΝΤΩΝΗΣ ΤΡΙΤΣΗΣ κτλ'!K6 -> 0 | L6: ='Α2.2.1 ΠΔΕ Εθνικό'!L6+'Α2.2.2 ΠΔΕ Συγχρημ.'!L6+'Α2.2.3 ΤΑΑ'!L6+'Α2.2.4 Πράσινο Ταμείο'!L6+'Α2.2.5 ΑΝΤΩΝΗΣ ΤΡΙΤΣΗΣ κτλ'!L6 -> 0
A7: 3 | B7: 74 | C7: Επιχορηγήσεις και διάφορα έσοδα πωλήσεων (74) | D7: ='Α2.2.1 ΠΔΕ Εθνικό'!D7+'Α2.2.2 ΠΔΕ Συγχρημ.'!D7+'Α2.2.3 ΤΑΑ'!D7+'Α2.2.4 Πράσινο Ταμείο'!D7+'Α2.2.5 ΑΝΤΩΝΗΣ ΤΡΙΤΣΗΣ κτλ'!D7 -> 0 | E7: ='Α2.2.1 ΠΔΕ Εθνικό'!E7+'Α2.2.2 ΠΔΕ Συγχρημ.'!E7+'Α2.2.3 ΤΑΑ'!E7+'Α2.2.4 Πράσινο Ταμείο'!E7+'Α2.2.5 ΑΝΤΩΝΗΣ ΤΡΙΤΣΗΣ κτλ'!E7 -> 0 | F7: ='Α2.2.1 ΠΔΕ Εθνικό'!F7+'Α2.2.2 ΠΔΕ Συγχρημ.'!F7+'Α2.2.3 ΤΑΑ'!F7+'Α2.2.4 Πράσινο Ταμείο'!F7+'Α2.2.5 ΑΝΤΩΝΗΣ ΤΡΙΤΣΗΣ κτλ'!F7 -> 0 | G7: ='Α2.2.1 ΠΔΕ Εθνικό'!G7+'Α2.2.2 ΠΔΕ Συγχρημ.'!G7+'Α2.2.3 ΤΑΑ'!G7+'Α2.2.4 Πράσινο Ταμείο'!G7+'Α2.2.5 ΑΝΤΩΝΗΣ ΤΡΙΤΣΗΣ κτλ'!G7 -> 0 | H7: ='Α2.2.1 ΠΔΕ Εθνικό'!H7+'Α2.2.2 ΠΔΕ Συγχρημ.'!H7+'Α2.2.3 ΤΑΑ'!H7+'Α2.2.4 Πράσινο Ταμείο'!H7+'Α2.2.5 ΑΝΤΩΝΗΣ ΤΡΙΤΣΗΣ κτλ'!H7 -> 0 | I7: ='Α2.2.1 ΠΔΕ Εθνικό'!I7+'Α2.2.2 ΠΔΕ Συγχρημ.'!I7+'Α2.2.3 ΤΑΑ'!I7+'Α2.2.4 Πράσινο Ταμείο'!I7+'Α2.2.5 ΑΝΤΩΝΗΣ ΤΡΙΤΣΗΣ κτλ'!I7 -> 0 | J7: ='Α2.2.1 ΠΔΕ Εθνικό'!J7+'Α2.2.2 ΠΔΕ Συγχρημ.'!J7+'Α2.2.3 ΤΑΑ'!J7+'Α2.2.4 Πράσινο Ταμείο'!J7+'Α2.2.5 ΑΝΤΩΝΗΣ ΤΡΙΤΣΗΣ κτλ'!J7 -> 0 | K7: ='Α2.2.1 ΠΔΕ Εθνικό'!K7+'Α2.2.2 ΠΔΕ Συγχρημ.'!K7+'Α2.2.3 ΤΑΑ'!K7+'Α2.2.4 Πράσινο Ταμείο'!K7+'Α2.2.5 ΑΝΤΩΝΗΣ ΤΡΙΤΣΗΣ κτλ'!K7 -> 0 | L7: ='Α2.2.1 ΠΔΕ Εθνικό'!L7+'Α2.2.2 ΠΔΕ Συγχρημ.'!L7+'Α2.2.3 ΤΑΑ'!L7+'Α2.2.4 Πράσινο Ταμείο'!L7+'Α2.2.5 ΑΝΤΩΝΗΣ ΤΡΙΤΣΗΣ κτλ'!L7 -> 0
A8: 4 | B8: 75 | C8: Έσοδα παρεπόμενων ασχολιών (75) | D8: ='Α2.2.1 ΠΔΕ Εθνικό'!D8+'Α2.2.2 ΠΔΕ Συγχρημ.'!D8+'Α2.2.3 ΤΑΑ'!D8+'Α2.2.4 Πράσινο Ταμείο'!D8+'Α2.2.5 ΑΝΤΩΝΗΣ ΤΡΙΤΣΗΣ κτλ'!D8 -> 0 | E8: ='Α2.2.1 ΠΔΕ Εθνικό'!E8+'Α2.2.2 ΠΔΕ Συγχρημ.'!E8+'Α2.2.3 ΤΑΑ'!E8+'Α2.2.4 Πράσινο Ταμείο'!E8+'Α2.2.5 ΑΝΤΩΝΗΣ ΤΡΙΤΣΗΣ κτλ'!E8 -> 0 | F8: ='Α2.2.1 ΠΔΕ Εθνικό'!F8+'Α2.2.2 ΠΔΕ Συγχρημ.'!F8+'Α2.2.3 ΤΑΑ'!F8+'Α2.2.4 Πράσινο Ταμείο'!F8+'Α2.2.5 ΑΝΤΩΝΗΣ ΤΡΙΤΣΗΣ κτλ'!F8 -> 0 | G8: ='Α2.2.1 ΠΔΕ Εθνικό'!G8+'Α2.2.2 ΠΔΕ Συγχρημ.'!G8+'Α2.2.3 ΤΑΑ'!G8+'Α2.2.4 Πράσινο Ταμείο'!G8+'Α2.2.5 ΑΝΤΩΝΗΣ ΤΡΙΤΣΗΣ κτλ'!G8 -> 0 | H8: ='Α2.2.1 ΠΔΕ Εθνικό'!H8+'Α2.2.2 ΠΔΕ Συγχρημ.'!H8+'Α2.2.3 ΤΑΑ'!H8+'Α2.2.4 Πράσινο Ταμείο'!H8+'Α2.2.5 ΑΝΤΩΝΗΣ ΤΡΙΤΣΗΣ κτλ'!H8 -> 0 | I8: ='Α2.2.1 ΠΔΕ Εθνικό'!I8+'Α2.2.2 ΠΔΕ Συγχρημ.'!I8+'Α2.2.3 ΤΑΑ'!I8+'Α2.2.4 Πράσινο Ταμείο'!I8+'Α2.2.5 ΑΝΤΩΝΗΣ ΤΡΙΤΣΗΣ κτλ'!I8 -> 0 | J8: ='Α2.2.1 ΠΔΕ Εθνικό'!J8+'Α2.2.2 ΠΔΕ Συγχρημ.'!J8+'Α2.2.3 ΤΑΑ'!J8+'Α2.2.4 Πράσινο Ταμείο'!J8+'Α2.2.5 ΑΝΤΩΝΗΣ ΤΡΙΤΣΗΣ κτλ'!J8 -> 0 | K8: ='Α2.2.1 ΠΔΕ Εθνικό'!K8+'Α2.2.2 ΠΔΕ Συγχρημ.'!K8+'Α2.2.3 ΤΑΑ'!K8+'Α2.2.4 Πράσινο Ταμείο'!K8+'Α2.2.5 ΑΝΤΩΝΗΣ ΤΡΙΤΣΗΣ κτλ'!K8 -> 0 | L8: ='Α2.2.1 ΠΔΕ Εθνικό'!L8+'Α2.2.2 ΠΔΕ Συγχρημ.'!L8+'Α2.2.3 ΤΑΑ'!L8+'Α2.2.4 Πράσινο Ταμείο'!L8+'Α2.2.5 ΑΝΤΩΝΗΣ ΤΡΙΤΣΗΣ κτλ'!L8 -> 0
A9: 5 | B9: 76 | C9: Έσοδα κεφαλαίων (76 πλην 76.04) | D9: ='Α2.2.1 ΠΔΕ Εθνικό'!D9+'Α2.2.2 ΠΔΕ Συγχρημ.'!D9+'Α2.2.3 ΤΑΑ'!D9+'Α2.2.4 Πράσινο Ταμείο'!D9+'Α2.2.5 ΑΝΤΩΝΗΣ ΤΡΙΤΣΗΣ κτλ'!D9 -> 0 | E9: ='Α2.2.1 ΠΔΕ Εθνικό'!E9+'Α2.2.2 ΠΔΕ Συγχρημ.'!E9+'Α2.2.3 ΤΑΑ'!E9+'Α2.2.4 Πράσινο Ταμείο'!E9+'Α2.2.5 ΑΝΤΩΝΗΣ ΤΡΙΤΣΗΣ κτλ'!E9 -> 0 | F9: ='Α2.2.1 ΠΔΕ Εθνικό'!F9+'Α2.2.2 ΠΔΕ Συγχρημ.'!F9+'Α2.2.3 ΤΑΑ'!F9+'Α2.2.4 Πράσινο Ταμείο'!F9+'Α2.2.5 ΑΝΤΩΝΗΣ ΤΡΙΤΣΗΣ κτλ'!F9 -> 0 | G9: ='Α2.2.1 ΠΔΕ Εθνικό'!G9+'Α2.2.2 ΠΔΕ Συγχρημ.'!G9+'Α2.2.3 ΤΑΑ'!G9+'Α2.2.4 Πράσινο Ταμείο'!G9+'Α2.2.5 ΑΝΤΩΝΗΣ ΤΡΙΤΣΗΣ κτλ'!G9 -> 0 | H9: ='Α2.2.1 ΠΔΕ Εθνικό'!H9+'Α2.2.2 ΠΔΕ Συγχρημ.'!H9+'Α2.2.3 ΤΑΑ'!H9+'Α2.2.4 Πράσινο Ταμείο'!H9+'Α2.2.5 ΑΝΤΩΝΗΣ ΤΡΙΤΣΗΣ κτλ'!H9 -> 0 | I9: ='Α2.2.1 ΠΔΕ Εθνικό'!I9+'Α2.2.2 ΠΔΕ Συγχρημ.'!I9+'Α2.2.3 ΤΑΑ'!I9+'Α2.2.4 Πράσινο Ταμείο'!I9+'Α2.2.5 ΑΝΤΩΝΗΣ ΤΡΙΤΣΗΣ κτλ'!I9 -> 0 | J9: ='Α2.2.1 ΠΔΕ Εθνικό'!J9+'Α2.2.2 ΠΔΕ Συγχρημ.'!J9+'Α2.2.3 ΤΑΑ'!J9+'Α2.2.4 Πράσινο Ταμείο'!J9+'Α2.2.5 ΑΝΤΩΝΗΣ ΤΡΙΤΣΗΣ κτλ'!J9 -> 0 | K9: ='Α2.2.1 ΠΔΕ Εθνικό'!K9+'Α2.2.2 ΠΔΕ Συγχρημ.'!K9+'Α2.2.3 ΤΑΑ'!K9+'Α2.2.4 Πράσινο Ταμείο'!K9+'Α2.2.5 ΑΝΤΩΝΗΣ ΤΡΙΤΣΗΣ κτλ'!K9 -> 0 | L9: ='Α2.2.1 ΠΔΕ Εθνικό'!L9+'Α2.2.2 ΠΔΕ Συγχρημ.'!L9+'Α2.2.3 ΤΑΑ'!L9+'Α2.2.4 Πράσινο Ταμείο'!L9+'Α2.2.5 ΑΝΤΩΝΗΣ ΤΡΙΤΣΗΣ κτλ'!L9 -> 0
A10: 6 | B10: 78 | C10: Ιδιοπαραγωγή παγίων (78 πλην 78.05) | D10: ='Α2.2.1 ΠΔΕ Εθνικό'!D10+'Α2.2.2 ΠΔΕ Συγχρημ.'!D10+'Α2.2.3 ΤΑΑ'!D10+'Α2.2.4 Πράσινο Ταμείο'!D10+'Α2.2.5 ΑΝΤΩΝΗΣ ΤΡΙΤΣΗΣ κτλ'!D10 -> 0 | E10: ='Α2.2.1 ΠΔΕ Εθνικό'!E10+'Α2.2.2 ΠΔΕ Συγχρημ.'!E10+'Α2.2.3 ΤΑΑ'!E10+'Α2.2.4 Πράσινο Ταμείο'!E10+'Α2.2.5 ΑΝΤΩΝΗΣ ΤΡΙΤΣΗΣ κτλ'!E10 -> 0 | F10: ='Α2.2.1 ΠΔΕ Εθνικό'!F10+'Α2.2.2 ΠΔΕ Συγχρημ.'!F10+'Α2.2.3 ΤΑΑ'!F10+'Α2.2.4 Πράσινο Ταμείο'!F10+'Α2.2.5 ΑΝΤΩΝΗΣ ΤΡΙΤΣΗΣ κτλ'!F10 -> 0 | G10: ='Α2.2.1 ΠΔΕ Εθνικό'!G10+'Α2.2.2 ΠΔΕ Συγχρημ.'!G10+'Α2.2.3 ΤΑΑ'!G10+'Α2.2.4 Πράσινο Ταμείο'!G10+'Α2.2.5 ΑΝΤΩΝΗΣ ΤΡΙΤΣΗΣ κτλ'!G10 -> 0 | H10: ='Α2.2.1 ΠΔΕ Εθνικό'!H10+'Α2.2.2 ΠΔΕ Συγχρημ.'!H10+'Α2.2.3 ΤΑΑ'!H10+'Α2.2.4 Πράσινο Ταμείο'!H10+'Α2.2.5 ΑΝΤΩΝΗΣ ΤΡΙΤΣΗΣ κτλ'!H10 -> 0 | I10: ='Α2.2.1 ΠΔΕ Εθνικό'!I10+'Α2.2.2 ΠΔΕ Συγχρημ.'!I10+'Α2.2.3 ΤΑΑ'!I10+'Α2.2.4 Πράσινο Ταμείο'!I10+'Α2.2.5 ΑΝΤΩΝΗΣ ΤΡΙΤΣΗΣ κτλ'!I10 -> 0 | J10: ='Α2.2.1 ΠΔΕ Εθνικό'!J10+'Α2.2.2 ΠΔΕ Συγχρημ.'!J10+'Α2.2.3 ΤΑΑ'!J10+'Α2.2.4 Πράσινο Ταμείο'!J10+'Α2.2.5 ΑΝΤΩΝΗΣ ΤΡΙΤΣΗΣ κτλ'!J10 -> 0 | K10: ='Α2.2.1 ΠΔΕ Εθνικό'!K10+'Α2.2.2 ΠΔΕ Συγχρημ.'!K10+'Α2.2.3 ΤΑΑ'!K10+'Α2.2.4 Πράσινο Ταμείο'!K10+'Α2.2.5 ΑΝΤΩΝΗΣ ΤΡΙΤΣΗΣ κτλ'!K10 -> 0 | L10: ='Α2.2.1 ΠΔΕ Εθνικό'!L10+'Α2.2.2 ΠΔΕ Συγχρημ.'!L10+'Α2.2.3 ΤΑΑ'!L10+'Α2.2.4 Πράσινο Ταμείο'!L10+'Α2.2.5 ΑΝΤΩΝΗΣ ΤΡΙΤΣΗΣ κτλ'!L10 -> 0
A11: 7 | B11: 40* | C11: Αύξηση μετοχικού κεφαλαίου (40) | D11: ='Α2.2.1 ΠΔΕ Εθνικό'!D11+'Α2.2.2 ΠΔΕ Συγχρημ.'!D11+'Α2.2.3 ΤΑΑ'!D11+'Α2.2.4 Πράσινο Ταμείο'!D11+'Α2.2.5 ΑΝΤΩΝΗΣ ΤΡΙΤΣΗΣ κτλ'!D11 -> 0 | E11: ='Α2.2.1 ΠΔΕ Εθνικό'!E11+'Α2.2.2 ΠΔΕ Συγχρημ.'!E11+'Α2.2.3 ΤΑΑ'!E11+'Α2.2.4 Πράσινο Ταμείο'!E11+'Α2.2.5 ΑΝΤΩΝΗΣ ΤΡΙΤΣΗΣ κτλ'!E11 -> 0 | F11: ='Α2.2.1 ΠΔΕ Εθνικό'!F11+'Α2.2.2 ΠΔΕ Συγχρημ.'!F11+'Α2.2.3 ΤΑΑ'!F11+'Α2.2.4 Πράσινο Ταμείο'!F11+'Α2.2.5 ΑΝΤΩΝΗΣ ΤΡΙΤΣΗΣ κτλ'!F11 -> 0 | G11: ='Α2.2.1 ΠΔΕ Εθνικό'!G11+'Α2.2.2 ΠΔΕ Συγχρημ.'!G11+'Α2.2.3 ΤΑΑ'!G11+'Α2.2.4 Πράσινο Ταμείο'!G11+'Α2.2.5 ΑΝΤΩΝΗΣ ΤΡΙΤΣΗΣ κτλ'!G11 -> 0 | H11: ='Α2.2.1 ΠΔΕ Εθνικό'!H11+'Α2.2.2 ΠΔΕ Συγχρημ.'!H11+'Α2.2.3 ΤΑΑ'!H11+'Α2.2.4 Πράσινο Ταμείο'!H11+'Α2.2.5 ΑΝΤΩΝΗΣ ΤΡΙΤΣΗΣ κτλ'!H11 -> 0 | I11: ='Α2.2.1 ΠΔΕ Εθνικό'!I11+'Α2.2.2 ΠΔΕ Συγχρημ.'!I11+'Α2.2.3 ΤΑΑ'!I11+'Α2.2.4 Πράσινο Ταμείο'!I11+'Α2.2.5 ΑΝΤΩΝΗΣ ΤΡΙΤΣΗΣ κτλ'!I11 -> 0 | J11: ='Α2.2.1 ΠΔΕ Εθνικό'!J11+'Α2.2.2 ΠΔΕ Συγχρημ.'!J11+'Α2.2.3 ΤΑΑ'!J11+'Α2.2.4 Πράσινο Ταμείο'!J11+'Α2.2.5 ΑΝΤΩΝΗΣ ΤΡΙΤΣΗΣ κτλ'!J11 -> 0 | K11: ='Α2.2.1 ΠΔΕ Εθνικό'!K11+'Α2.2.2 ΠΔΕ Συγχρημ.'!K11+'Α2.2.3 ΤΑΑ'!K11+'Α2.2.4 Πράσινο Ταμείο'!K11+'Α2.2.5 ΑΝΤΩΝΗΣ ΤΡΙΤΣΗΣ κτλ'!K11 -> 0 | L11: ='Α2.2.1 ΠΔΕ Εθνικό'!L11+'Α2.2.2 ΠΔΕ Συγχρημ.'!L11+'Α2.2.3 ΤΑΑ'!L11+'Α2.2.4 Πράσινο Ταμείο'!L11+'Α2.2.5 ΑΝΤΩΝΗΣ ΤΡΙΤΣΗΣ κτλ'!L11 -> 0
A12: 8 | B12: 41 | C12: Επιχορηγήσεις παγίων επενδύσεων (41.10) | D12: ='Α2.2.1 ΠΔΕ Εθνικό'!D12+'Α2.2.2 ΠΔΕ Συγχρημ.'!D12+'Α2.2.3 ΤΑΑ'!D12+'Α2.2.4 Πράσινο Ταμείο'!D12+'Α2.2.5 ΑΝΤΩΝΗΣ ΤΡΙΤΣΗΣ κτλ'!D12 -> 0 | E12: ='Α2.2.1 ΠΔΕ Εθνικό'!E12+'Α2.2.2 ΠΔΕ Συγχρημ.'!E12+'Α2.2.3 ΤΑΑ'!E12+'Α2.2.4 Πράσινο Ταμείο'!E12+'Α2.2.5 ΑΝΤΩΝΗΣ ΤΡΙΤΣΗΣ κτλ'!E12 -> 0 | F12: ='Α2.2.1 ΠΔΕ Εθνικό'!F12+'Α2.2.2 ΠΔΕ Συγχρημ.'!F12+'Α2.2.3 ΤΑΑ'!F12+'Α2.2.4 Πράσινο Ταμείο'!F12+'Α2.2.5 ΑΝΤΩΝΗΣ ΤΡΙΤΣΗΣ κτλ'!F12 -> 0 | G12: ='Α2.2.1 ΠΔΕ Εθνικό'!G12+'Α2.2.2 ΠΔΕ Συγχρημ.'!G12+'Α2.2.3 ΤΑΑ'!G12+'Α2.2.4 Πράσινο Ταμείο'!G12+'Α2.2.5 ΑΝΤΩΝΗΣ ΤΡΙΤΣΗΣ κτλ'!G12 -> 0 | H12: ='Α2.2.1 ΠΔΕ Εθνικό'!H12+'Α2.2.2 ΠΔΕ Συγχρημ.'!H12+'Α2.2.3 ΤΑΑ'!H12+'Α2.2.4 Πράσινο Ταμείο'!H12+'Α2.2.5 ΑΝΤΩΝΗΣ ΤΡΙΤΣΗΣ κτλ'!H12 -> 0 | I12: ='Α2.2.1 ΠΔΕ Εθνικό'!I12+'Α2.2.2 ΠΔΕ Συγχρημ.'!I12+'Α2.2.3 ΤΑΑ'!I12+'Α2.2.4 Πράσινο Ταμείο'!I12+'Α2.2.5 ΑΝΤΩΝΗΣ ΤΡΙΤΣΗΣ κτλ'!I12 -> 0 | J12: ='Α2.2.1 ΠΔΕ Εθνικό'!J12+'Α2.2.2 ΠΔΕ Συγχρημ.'!J12+'Α2.2.3 ΤΑΑ'!J12+'Α2.2.4 Πράσινο Ταμείο'!J12+'Α2.2.5 ΑΝΤΩΝΗΣ ΤΡΙΤΣΗΣ κτλ'!J12 -> 0 | K12: ='Α2.2.1 ΠΔΕ Εθνικό'!K12+'Α2.2.2 ΠΔΕ Συγχρημ.'!K12+'Α2.2.3 ΤΑΑ'!K12+'Α2.2.4 Πράσινο Ταμείο'!K12+'Α2.2.5 ΑΝΤΩΝΗΣ ΤΡΙΤΣΗΣ κτλ'!K12 -> 0 | L12: ='Α2.2.1 ΠΔΕ Εθνικό'!L12+'Α2.2.2 ΠΔΕ Συγχρημ.'!L12+'Α2.2.3 ΤΑΑ'!L12+'Α2.2.4 Πράσινο Ταμείο'!L12+'Α2.2.5 ΑΝΤΩΝΗΣ ΤΡΙΤΣΗΣ κτλ'!L12 -> 0
A13: 9 | B13: 43** | C13: Ποσά προορισμένα για αύξηση κεφαλαίου (43) | D13: ='Α2.2.1 ΠΔΕ Εθνικό'!D13+'Α2.2.2 ΠΔΕ Συγχρημ.'!D13+'Α2.2.3 ΤΑΑ'!D13+'Α2.2.4 Πράσινο Ταμείο'!D13+'Α2.2.5 ΑΝΤΩΝΗΣ ΤΡΙΤΣΗΣ κτλ'!D13 -> 0 | E13: ='Α2.2.1 ΠΔΕ Εθνικό'!E13+'Α2.2.2 ΠΔΕ Συγχρημ.'!E13+'Α2.2.3 ΤΑΑ'!E13+'Α2.2.4 Πράσινο Ταμείο'!E13+'Α2.2.5 ΑΝΤΩΝΗΣ ΤΡΙΤΣΗΣ κτλ'!E13 -> 0 | F13: ='Α2.2.1 ΠΔΕ Εθνικό'!F13+'Α2.2.2 ΠΔΕ Συγχρημ.'!F13+'Α2.2.3 ΤΑΑ'!F13+'Α2.2.4 Πράσινο Ταμείο'!F13+'Α2.2.5 ΑΝΤΩΝΗΣ ΤΡΙΤΣΗΣ κτλ'!F13 -> 0 | G13: ='Α2.2.1 ΠΔΕ Εθνικό'!G13+'Α2.2.2 ΠΔΕ Συγχρημ.'!G13+'Α2.2.3 ΤΑΑ'!G13+'Α2.2.4 Πράσινο Ταμείο'!G13+'Α2.2.5 ΑΝΤΩΝΗΣ ΤΡΙΤΣΗΣ κτλ'!G13 -> 0 | H13: ='Α2.2.1 ΠΔΕ Εθνικό'!H13+'Α2.2.2 ΠΔΕ Συγχρημ.'!H13+'Α2.2.3 ΤΑΑ'!H13+'Α2.2.4 Πράσινο Ταμείο'!H13+'Α2.2.5 ΑΝΤΩΝΗΣ ΤΡΙΤΣΗΣ κτλ'!H13 -> 0 | I13: ='Α2.2.1 ΠΔΕ Εθνικό'!I13+'Α2.2.2 ΠΔΕ Συγχρημ.'!I13+'Α2.2.3 ΤΑΑ'!I13+'Α2.2.4 Πράσινο Ταμείο'!I13+'Α2.2.5 ΑΝΤΩΝΗΣ ΤΡΙΤΣΗΣ κτλ'!I13 -> 0 | J13: ='Α2.2.1 ΠΔΕ Εθνικό'!J13+'Α2.2.2 ΠΔΕ Συγχρημ.'!J13+'Α2.2.3 ΤΑΑ'!J13+'Α2.2.4 Πράσινο Ταμείο'!J13+'Α2.2.5 ΑΝΤΩΝΗΣ ΤΡΙΤΣΗΣ κτλ'!J13 -> 0 | K13: ='Α2.2.1 ΠΔΕ Εθνικό'!K13+'Α2.2.2 ΠΔΕ Συγχρημ.'!K13+'Α2.2.3 ΤΑΑ'!K13+'Α2.2.4 Πράσινο Ταμείο'!K13+'Α2.2.5 ΑΝΤΩΝΗΣ ΤΡΙΤΣΗΣ κτλ'!K13 -> 0 | L13: ='Α2.2.1 ΠΔΕ Εθνικό'!L13+'Α2.2.2 ΠΔΕ Συγχρημ.'!L13+'Α2.2.3 ΤΑΑ'!L13+'Α2.2.4 Πράσινο Ταμείο'!L13+'Α2.2.5 ΑΝΤΩΝΗΣ ΤΡΙΤΣΗΣ κτλ'!L13 -> 0
A14: 10 | B14: 81 | C14: Έκτακτα και ανόργανα έσοδα (81.01 πλην 81.01.04 και 81.01.05) | D14: ='Α2.2.1 ΠΔΕ Εθνικό'!D14+'Α2.2.2 ΠΔΕ Συγχρημ.'!D14+'Α2.2.3 ΤΑΑ'!D14+'Α2.2.4 Πράσινο Ταμείο'!D14+'Α2.2.5 ΑΝΤΩΝΗΣ ΤΡΙΤΣΗΣ κτλ'!D14 -> 0 | E14: ='Α2.2.1 ΠΔΕ Εθνικό'!E14+'Α2.2.2 ΠΔΕ Συγχρημ.'!E14+'Α2.2.3 ΤΑΑ'!E14+'Α2.2.4 Πράσινο Ταμείο'!E14+'Α2.2.5 ΑΝΤΩΝΗΣ ΤΡΙΤΣΗΣ κτλ'!E14 -> 0 | F14: ='Α2.2.1 ΠΔΕ Εθνικό'!F14+'Α2.2.2 ΠΔΕ Συγχρημ.'!F14+'Α2.2.3 ΤΑΑ'!F14+'Α2.2.4 Πράσινο Ταμείο'!F14+'Α2.2.5 ΑΝΤΩΝΗΣ ΤΡΙΤΣΗΣ κτλ'!F14 -> 0 | G14: ='Α2.2.1 ΠΔΕ Εθνικό'!G14+'Α2.2.2 ΠΔΕ Συγχρημ.'!G14+'Α2.2.3 ΤΑΑ'!G14+'Α2.2.4 Πράσινο Ταμείο'!G14+'Α2.2.5 ΑΝΤΩΝΗΣ ΤΡΙΤΣΗΣ κτλ'!G14 -> 0 | H14: ='Α2.2.1 ΠΔΕ Εθνικό'!H14+'Α2.2.2 ΠΔΕ Συγχρημ.'!H14+'Α2.2.3 ΤΑΑ'!H14+'Α2.2.4 Πράσινο Ταμείο'!H14+'Α2.2.5 ΑΝΤΩΝΗΣ ΤΡΙΤΣΗΣ κτλ'!H14 -> 0 | I14: ='Α2.2.1 ΠΔΕ Εθνικό'!I14+'Α2.2.2 ΠΔΕ Συγχρημ.'!I14+'Α2.2.3 ΤΑΑ'!I14+'Α2.2.4 Πράσινο Ταμείο'!I14+'Α2.2.5 ΑΝΤΩΝΗΣ ΤΡΙΤΣΗΣ κτλ'!I14 -> 0 | J14: ='Α2.2.1 ΠΔΕ Εθνικό'!J14+'Α2.2.2 ΠΔΕ Συγχρημ.'!J14+'Α2.2.3 ΤΑΑ'!J14+'Α2.2.4 Πράσινο Ταμείο'!J14+'Α2.2.5 ΑΝΤΩΝΗΣ ΤΡΙΤΣΗΣ κτλ'!J14 -> 0 | K14: ='Α2.2.1 ΠΔΕ Εθνικό'!K14+'Α2.2.2 ΠΔΕ Συγχρημ.'!K14+'Α2.2.3 ΤΑΑ'!K14+'Α2.2.4 Πράσινο Ταμείο'!K14+'Α2.2.5 ΑΝΤΩΝΗΣ ΤΡΙΤΣΗΣ κτλ'!K14 -> 0 | L14: ='Α2.2.1 ΠΔΕ Εθνικό'!L14+'Α2.2.2 ΠΔΕ Συγχρημ.'!L14+'Α2.2.3 ΤΑΑ'!L14+'Α2.2.4 Πράσινο Ταμείο'!L14+'Α2.2.5 ΑΝΤΩΝΗΣ ΤΡΙΤΣΗΣ κτλ'!L14 -> 0
A15: 11 | B15: 82 | C15: Έσοδα προηγούμενων χρήσεων (82.01) | D15: ='Α2.2.1 ΠΔΕ Εθνικό'!D15+'Α2.2.2 ΠΔΕ Συγχρημ.'!D15+'Α2.2.3 ΤΑΑ'!D15+'Α2.2.4 Πράσινο Ταμείο'!D15+'Α2.2.5 ΑΝΤΩΝΗΣ ΤΡΙΤΣΗΣ κτλ'!D15 -> 0 | E15: ='Α2.2.1 ΠΔΕ Εθνικό'!E15+'Α2.2.2 ΠΔΕ Συγχρημ.'!E15+'Α2.2.3 ΤΑΑ'!E15+'Α2.2.4 Πράσινο Ταμείο'!E15+'Α2.2.5 ΑΝΤΩΝΗΣ ΤΡΙΤΣΗΣ κτλ'!E15 -> 0 | F15: ='Α2.2.1 ΠΔΕ Εθνικό'!F15+'Α2.2.2 ΠΔΕ Συγχρημ.'!F15+'Α2.2.3 ΤΑΑ'!F15+'Α2.2.4 Πράσινο Ταμείο'!F15+'Α2.2.5 ΑΝΤΩΝΗΣ ΤΡΙΤΣΗΣ κτλ'!F15 -> 0 | G15: ='Α2.2.1 ΠΔΕ Εθνικό'!G15+'Α2.2.2 ΠΔΕ Συγχρημ.'!G15+'Α2.2.3 ΤΑΑ'!G15+'Α2.2.4 Πράσινο Ταμείο'!G15+'Α2.2.5 ΑΝΤΩΝΗΣ ΤΡΙΤΣΗΣ κτλ'!G15 -> 0 | H15: ='Α2.2.1 ΠΔΕ Εθνικό'!H15+'Α2.2.2 ΠΔΕ Συγχρημ.'!H15+'Α2.2.3 ΤΑΑ'!H15+'Α2.2.4 Πράσινο Ταμείο'!H15+'Α2.2.5 ΑΝΤΩΝΗΣ ΤΡΙΤΣΗΣ κτλ'!H15 -> 0 | I15: ='Α2.2.1 ΠΔΕ Εθνικό'!I15+'Α2.2.2 ΠΔΕ Συγχρημ.'!I15+'Α2.2.3 ΤΑΑ'!I15+'Α2.2.4 Πράσινο Ταμείο'!I15+'Α2.2.5 ΑΝΤΩΝΗΣ ΤΡΙΤΣΗΣ κτλ'!I15 -> 0 | J15: ='Α2.2.1 ΠΔΕ Εθνικό'!J15+'Α2.2.2 ΠΔΕ Συγχρημ.'!J15+'Α2.2.3 ΤΑΑ'!J15+'Α2.2.4 Πράσινο Ταμείο'!J15+'Α2.2.5 ΑΝΤΩΝΗΣ ΤΡΙΤΣΗΣ κτλ'!J15 -> 0 | K15: ='Α2.2.1 ΠΔΕ Εθνικό'!K15+'Α2.2.2 ΠΔΕ Συγχρημ.'!K15+'Α2.2.3 ΤΑΑ'!K15+'Α2.2.4 Πράσινο Ταμείο'!K15+'Α2.2.5 ΑΝΤΩΝΗΣ ΤΡΙΤΣΗΣ κτλ'!K15 -> 0 | L15: ='Α2.2.1 ΠΔΕ Εθνικό'!L15+'Α2.2.2 ΠΔΕ Συγχρημ.'!L15+'Α2.2.3 ΤΑΑ'!L15+'Α2.2.4 Πράσινο Ταμείο'!L15+'Α2.2.5 ΑΝΤΩΝΗΣ ΤΡΙΤΣΗΣ κτλ'!L15 -> 0
A16: 12 | B16: 10+11+12+13+14+15+16 | C16: Πωλήσεις παγίων περιουσιακών στοιχείων (10+11+12+13+14+15+16) | D16: ='Α2.2.1 ΠΔΕ Εθνικό'!D16+'Α2.2.2 ΠΔΕ Συγχρημ.'!D16+'Α2.2.3 ΤΑΑ'!D16+'Α2.2.4 Πράσινο Ταμείο'!D16+'Α2.2.5 ΑΝΤΩΝΗΣ ΤΡΙΤΣΗΣ κτλ'!D16 -> 0 | E16: ='Α2.2.1 ΠΔΕ Εθνικό'!E16+'Α2.2.2 ΠΔΕ Συγχρημ.'!E16+'Α2.2.3 ΤΑΑ'!E16+'Α2.2.4 Πράσινο Ταμείο'!E16+'Α2.2.5 ΑΝΤΩΝΗΣ ΤΡΙΤΣΗΣ κτλ'!E16 -> 0 | F16: ='Α2.2.1 ΠΔΕ Εθνικό'!F16+'Α2.2.2 ΠΔΕ Συγχρημ.'!F16+'Α2.2.3 ΤΑΑ'!F16+'Α2.2.4 Πράσινο Ταμείο'!F16+'Α2.2.5 ΑΝΤΩΝΗΣ ΤΡΙΤΣΗΣ κτλ'!F16 -> 0 | G16: ='Α2.2.1 ΠΔΕ Εθνικό'!G16+'Α2.2.2 ΠΔΕ Συγχρημ.'!G16+'Α2.2.3 ΤΑΑ'!G16+'Α2.2.4 Πράσινο Ταμείο'!G16+'Α2.2.5 ΑΝΤΩΝΗΣ ΤΡΙΤΣΗΣ κτλ'!G16 -> 0 | H16: ='Α2.2.1 ΠΔΕ Εθνικό'!H16+'Α2.2.2 ΠΔΕ Συγχρημ.'!H16+'Α2.2.3 ΤΑΑ'!H16+'Α2.2.4 Πράσινο Ταμείο'!H16+'Α2.2.5 ΑΝΤΩΝΗΣ ΤΡΙΤΣΗΣ κτλ'!H16 -> 0 | I16: ='Α2.2.1 ΠΔΕ Εθνικό'!I16+'Α2.2.2 ΠΔΕ Συγχρημ.'!I16+'Α2.2.3 ΤΑΑ'!I16+'Α2.2.4 Πράσινο Ταμείο'!I16+'Α2.2.5 ΑΝΤΩΝΗΣ ΤΡΙΤΣΗΣ κτλ'!I16 -> 0 | J16: ='Α2.2.1 ΠΔΕ Εθνικό'!J16+'Α2.2.2 ΠΔΕ Συγχρημ.'!J16+'Α2.2.3 ΤΑΑ'!J16+'Α2.2.4 Πράσινο Ταμείο'!J16+'Α2.2.5 ΑΝΤΩΝΗΣ ΤΡΙΤΣΗΣ κτλ'!J16 -> 0 | K16: ='Α2.2.1 ΠΔΕ Εθνικό'!K16+'Α2.2.2 ΠΔΕ Συγχρημ.'!K16+'Α2.2.3 ΤΑΑ'!K16+'Α2.2.4 Πράσινο Ταμείο'!K16+'Α2.2.5 ΑΝΤΩΝΗΣ ΤΡΙΤΣΗΣ κτλ'!K16 -> 0 | L16: ='Α2.2.1 ΠΔΕ Εθνικό'!L16+'Α2.2.2 ΠΔΕ Συγχρημ.'!L16+'Α2.2.3 ΤΑΑ'!L16+'Α2.2.4 Πράσινο Ταμείο'!L16+'Α2.2.5 ΑΝΤΩΝΗΣ ΤΡΙΤΣΗΣ κτλ'!L16 -> 0
A17: 13 | B17: 20+24+25+26+28 | C17: Εκπτώσεις επί αγορών εμπορευμάτων, πρώτων και βοηθητικών υλών, ανταλλακτικών και λοιπών αποθεμάτων (20+24+25+26+28) | D17: ='Α2.2.1 ΠΔΕ Εθνικό'!D17+'Α2.2.2 ΠΔΕ Συγχρημ.'!D17+'Α2.2.3 ΤΑΑ'!D17+'Α2.2.4 Πράσινο Ταμείο'!D17+'Α2.2.5 ΑΝΤΩΝΗΣ ΤΡΙΤΣΗΣ κτλ'!D17 -> 0 | E17: ='Α2.2.1 ΠΔΕ Εθνικό'!E17+'Α2.2.2 ΠΔΕ Συγχρημ.'!E17+'Α2.2.3 ΤΑΑ'!E17+'Α2.2.4 Πράσινο Ταμείο'!E17+'Α2.2.5 ΑΝΤΩΝΗΣ ΤΡΙΤΣΗΣ κτλ'!E17 -> 0 | F17: ='Α2.2.1 ΠΔΕ Εθνικό'!F17+'Α2.2.2 ΠΔΕ Συγχρημ.'!F17+'Α2.2.3 ΤΑΑ'!F17+'Α2.2.4 Πράσινο Ταμείο'!F17+'Α2.2.5 ΑΝΤΩΝΗΣ ΤΡΙΤΣΗΣ κτλ'!F17 -> 0 | G17: ='Α2.2.1 ΠΔΕ Εθνικό'!G17+'Α2.2.2 ΠΔΕ Συγχρημ.'!G17+'Α2.2.3 ΤΑΑ'!G17+'Α2.2.4 Πράσινο Ταμείο'!G17+'Α2.2.5 ΑΝΤΩΝΗΣ ΤΡΙΤΣΗΣ κτλ'!G17 -> 0 | H17: ='Α2.2.1 ΠΔΕ Εθνικό'!H17+'Α2.2.2 ΠΔΕ Συγχρημ.'!H17+'Α2.2.3 ΤΑΑ'!H17+'Α2.2.4 Πράσινο Ταμείο'!H17+'Α2.2.5 ΑΝΤΩΝΗΣ ΤΡΙΤΣΗΣ κτλ'!H17 -> 0 | I17: ='Α2.2.1 ΠΔΕ Εθνικό'!I17+'Α2.2.2 ΠΔΕ Συγχρημ.'!I17+'Α2.2.3 ΤΑΑ'!I17+'Α2.2.4 Πράσινο Ταμείο'!I17+'Α2.2.5 ΑΝΤΩΝΗΣ ΤΡΙΤΣΗΣ κτλ'!I17 -> 0 | J17: ='Α2.2.1 ΠΔΕ Εθνικό'!J17+'Α2.2.2 ΠΔΕ Συγχρημ.'!J17+'Α2.2.3 ΤΑΑ'!J17+'Α2.2.4 Πράσινο Ταμείο'!J17+'Α2.2.5 ΑΝΤΩΝΗΣ ΤΡΙΤΣΗΣ κτλ'!J17 -> 0 | K17: ='Α2.2.1 ΠΔΕ Εθνικό'!K17+'Α2.2.2 ΠΔΕ Συγχρημ.'!K17+'Α2.2.3 ΤΑΑ'!K17+'Α2.2.4 Πράσινο Ταμείο'!K17+'Α2.2.5 ΑΝΤΩΝΗΣ ΤΡΙΤΣΗΣ κτλ'!K17 -> 0 | L17: ='Α2.2.1 ΠΔΕ Εθνικό'!L17+'Α2.2.2 ΠΔΕ Συγχρημ.'!L17+'Α2.2.3 ΤΑΑ'!L17+'Α2.2.4 Πράσινο Ταμείο'!L17+'Α2.2.5 ΑΝΤΩΝΗΣ ΤΡΙΤΣΗΣ κτλ'!L17 -> 0
A18: Β | B18: Δαπάνες μη χρηματοοικονομικών συναλλαγών (14+15+16+17+18+19+20+21+22+23+24+25+26+27) | D18: ='Α2.2.1 ΠΔΕ Εθνικό'!D18+'Α2.2.2 ΠΔΕ Συγχρημ.'!D18+'Α2.2.3 ΤΑΑ'!D18+'Α2.2.4 Πράσινο Ταμείο'!D18+'Α2.2.5 ΑΝΤΩΝΗΣ ΤΡΙΤΣΗΣ κτλ'!D18 -> 0 | E18: ='Α2.2.1 ΠΔΕ Εθνικό'!E18+'Α2.2.2 ΠΔΕ Συγχρημ.'!E18+'Α2.2.3 ΤΑΑ'!E18+'Α2.2.4 Πράσινο Ταμείο'!E18+'Α2.2.5 ΑΝΤΩΝΗΣ ΤΡΙΤΣΗΣ κτλ'!E18 -> 0 | F18: ='Α2.2.1 ΠΔΕ Εθνικό'!F18+'Α2.2.2 ΠΔΕ Συγχρημ.'!F18+'Α2.2.3 ΤΑΑ'!F18+'Α2.2.4 Πράσινο Ταμείο'!F18+'Α2.2.5 ΑΝΤΩΝΗΣ ΤΡΙΤΣΗΣ κτλ'!F18 -> 0 | G18: ='Α2.2.1 ΠΔΕ Εθνικό'!G18+'Α2.2.2 ΠΔΕ Συγχρημ.'!G18+'Α2.2.3 ΤΑΑ'!G18+'Α2.2.4 Πράσινο Ταμείο'!G18+'Α2.2.5 ΑΝΤΩΝΗΣ ΤΡΙΤΣΗΣ κτλ'!G18 -> 0 | H18: ='Α2.2.1 ΠΔΕ Εθνικό'!H18+'Α2.2.2 ΠΔΕ Συγχρημ.'!H18+'Α2.2.3 ΤΑΑ'!H18+'Α2.2.4 Πράσινο Ταμείο'!H18+'Α2.2.5 ΑΝΤΩΝΗΣ ΤΡΙΤΣΗΣ κτλ'!H18 -> 0 | I18: ='Α2.2.1 ΠΔΕ Εθνικό'!I18+'Α2.2.2 ΠΔΕ Συγχρημ.'!I18+'Α2.2.3 ΤΑΑ'!I18+'Α2.2.4 Πράσινο Ταμείο'!I18+'Α2.2.5 ΑΝΤΩΝΗΣ ΤΡΙΤΣΗΣ κτλ'!I18 -> 0 | J18: ='Α2.2.1 ΠΔΕ Εθνικό'!J18+'Α2.2.2 ΠΔΕ Συγχρημ.'!J18+'Α2.2.3 ΤΑΑ'!J18+'Α2.2.4 Πράσινο Ταμείο'!J18+'Α2.2.5 ΑΝΤΩΝΗΣ ΤΡΙΤΣΗΣ κτλ'!J18 -> 0 | K18: ='Α2.2.1 ΠΔΕ Εθνικό'!K18+'Α2.2.2 ΠΔΕ Συγχρημ.'!K18+'Α2.2.3 ΤΑΑ'!K18+'Α2.2.4 Πράσινο Ταμείο'!K18+'Α2.2.5 ΑΝΤΩΝΗΣ ΤΡΙΤΣΗΣ κτλ'!K18 -> 0 | L18: ='Α2.2.1 ΠΔΕ Εθνικό'!L18+'Α2.2.2 ΠΔΕ Συγχρημ.'!L18+'Α2.2.3 ΤΑΑ'!L18+'Α2.2.4 Πράσινο Ταμείο'!L18+'Α2.2.5 ΑΝΤΩΝΗΣ ΤΡΙΤΣΗΣ κτλ'!L18 -> 0
A19: 14 | B19: 60 | C19: Αμοιβές και έξοδα προσωπικού (60 εκτός 60.05) | D19: ='Α2.2.1 ΠΔΕ Εθνικό'!D19+'Α2.2.2 ΠΔΕ Συγχρημ.'!D19+'Α2.2.3 ΤΑΑ'!D19+'Α2.2.4 Πράσινο Ταμείο'!D19+'Α2.2.5 ΑΝΤΩΝΗΣ ΤΡΙΤΣΗΣ κτλ'!D19 -> 0 | E19: ='Α2.2.1 ΠΔΕ Εθνικό'!E19+'Α2.2.2 ΠΔΕ Συγχρημ.'!E19+'Α2.2.3 ΤΑΑ'!E19+'Α2.2.4 Πράσινο Ταμείο'!E19+'Α2.2.5 ΑΝΤΩΝΗΣ ΤΡΙΤΣΗΣ κτλ'!E19 -> 0 | F19: ='Α2.2.1 ΠΔΕ Εθνικό'!F19+'Α2.2.2 ΠΔΕ Συγχρημ.'!F19+'Α2.2.3 ΤΑΑ'!F19+'Α2.2.4 Πράσινο Ταμείο'!F19+'Α2.2.5 ΑΝΤΩΝΗΣ ΤΡΙΤΣΗΣ κτλ'!F19 -> 0 | G19: ='Α2.2.1 ΠΔΕ Εθνικό'!G19+'Α2.2.2 ΠΔΕ Συγχρημ.'!G19+'Α2.2.3 ΤΑΑ'!G19+'Α2.2.4 Πράσινο Ταμείο'!G19+'Α2.2.5 ΑΝΤΩΝΗΣ ΤΡΙΤΣΗΣ κτλ'!G19 -> 0 | H19: ='Α2.2.1 ΠΔΕ Εθνικό'!H19+'Α2.2.2 ΠΔΕ Συγχρημ.'!H19+'Α2.2.3 ΤΑΑ'!H19+'Α2.2.4 Πράσινο Ταμείο'!H19+'Α2.2.5 ΑΝΤΩΝΗΣ ΤΡΙΤΣΗΣ κτλ'!H19 -> 0 | I19: ='Α2.2.1 ΠΔΕ Εθνικό'!I19+'Α2.2.2 ΠΔΕ Συγχρημ.'!I19+'Α2.2.3 ΤΑΑ'!I19+'Α2.2.4 Πράσινο Ταμείο'!I19+'Α2.2.5 ΑΝΤΩΝΗΣ ΤΡΙΤΣΗΣ κτλ'!I19 -> 0 | J19: ='Α2.2.1 ΠΔΕ Εθνικό'!J19+'Α2.2.2 ΠΔΕ Συγχρημ.'!J19+'Α2.2.3 ΤΑΑ'!J19+'Α2.2.4 Πράσινο Ταμείο'!J19+'Α2.2.5 ΑΝΤΩΝΗΣ ΤΡΙΤΣΗΣ κτλ'!J19 -> 0 | K19: ='Α2.2.1 ΠΔΕ Εθνικό'!K19+'Α2.2.2 ΠΔΕ Συγχρημ.'!K19+'Α2.2.3 ΤΑΑ'!K19+'Α2.2.4 Πράσινο Ταμείο'!K19+'Α2.2.5 ΑΝΤΩΝΗΣ ΤΡΙΤΣΗΣ κτλ'!K19 -> 0 | L19: ='Α2.2.1 ΠΔΕ Εθνικό'!L19+'Α2.2.2 ΠΔΕ Συγχρημ.'!L19+'Α2.2.3 ΤΑΑ'!L19+'Α2.2.4 Πράσινο Ταμείο'!L19+'Α2.2.5 ΑΝΤΩΝΗΣ ΤΡΙΤΣΗΣ κτλ'!L19 -> 0
A20: 15 | B20: 61 | C20: Αμοιβές και έξοδα τρίτων (61) | D20: ='Α2.2.1 ΠΔΕ Εθνικό'!D20+'Α2.2.2 ΠΔΕ Συγχρημ.'!D20+'Α2.2.3 ΤΑΑ'!D20+'Α2.2.4 Πράσινο Ταμείο'!D20+'Α2.2.5 ΑΝΤΩΝΗΣ ΤΡΙΤΣΗΣ κτλ'!D20 -> 0 | E20: ='Α2.2.1 ΠΔΕ Εθνικό'!E20+'Α2.2.2 ΠΔΕ Συγχρημ.'!E20+'Α2.2.3 ΤΑΑ'!E20+'Α2.2.4 Πράσινο Ταμείο'!E20+'Α2.2.5 ΑΝΤΩΝΗΣ ΤΡΙΤΣΗΣ κτλ'!E20 -> 0 | F20: ='Α2.2.1 ΠΔΕ Εθνικό'!F20+'Α2.2.2 ΠΔΕ Συγχρημ.'!F20+'Α2.2.3 ΤΑΑ'!F20+'Α2.2.4 Πράσινο Ταμείο'!F20+'Α2.2.5 ΑΝΤΩΝΗΣ ΤΡΙΤΣΗΣ κτλ'!F20 -> 0 | G20: ='Α2.2.1 ΠΔΕ Εθνικό'!G20+'Α2.2.2 ΠΔΕ Συγχρημ.'!G20+'Α2.2.3 ΤΑΑ'!G20+'Α2.2.4 Πράσινο Ταμείο'!G20+'Α2.2.5 ΑΝΤΩΝΗΣ ΤΡΙΤΣΗΣ κτλ'!G20 -> 0 | H20: ='Α2.2.1 ΠΔΕ Εθνικό'!H20+'Α2.2.2 ΠΔΕ Συγχρημ.'!H20+'Α2.2.3 ΤΑΑ'!H20+'Α2.2.4 Πράσινο Ταμείο'!H20+'Α2.2.5 ΑΝΤΩΝΗΣ ΤΡΙΤΣΗΣ κτλ'!H20 -> 0 | I20: ='Α2.2.1 ΠΔΕ Εθνικό'!I20+'Α2.2.2 ΠΔΕ Συγχρημ.'!I20+'Α2.2.3 ΤΑΑ'!I20+'Α2.2.4 Πράσινο Ταμείο'!I20+'Α2.2.5 ΑΝΤΩΝΗΣ ΤΡΙΤΣΗΣ κτλ'!I20 -> 0 | J20: ='Α2.2.1 ΠΔΕ Εθνικό'!J20+'Α2.2.2 ΠΔΕ Συγχρημ.'!J20+'Α2.2.3 ΤΑΑ'!J20+'Α2.2.4 Πράσινο Ταμείο'!J20+'Α2.2.5 ΑΝΤΩΝΗΣ ΤΡΙΤΣΗΣ κτλ'!J20 -> 0 | K20: ='Α2.2.1 ΠΔΕ Εθνικό'!K20+'Α2.2.2 ΠΔΕ Συγχρημ.'!K20+'Α2.2.3 ΤΑΑ'!K20+'Α2.2.4 Πράσινο Ταμείο'!K20+'Α2.2.5 ΑΝΤΩΝΗΣ ΤΡΙΤΣΗΣ κτλ'!K20 -> 0 | L20: ='Α2.2.1 ΠΔΕ Εθνικό'!L20+'Α2.2.2 ΠΔΕ Συγχρημ.'!L20+'Α2.2.3 ΤΑΑ'!L20+'Α2.2.4 Πράσινο Ταμείο'!L20+'Α2.2.5 ΑΝΤΩΝΗΣ ΤΡΙΤΣΗΣ κτλ'!L20 -> 0
A21: 16 | B21: 62 | C21: Παροχές τρίτων (62) | D21: ='Α2.2.1 ΠΔΕ Εθνικό'!D21+'Α2.2.2 ΠΔΕ Συγχρημ.'!D21+'Α2.2.3 ΤΑΑ'!D21+'Α2.2.4 Πράσινο Ταμείο'!D21+'Α2.2.5 ΑΝΤΩΝΗΣ ΤΡΙΤΣΗΣ κτλ'!D21 -> 0 | E21: ='Α2.2.1 ΠΔΕ Εθνικό'!E21+'Α2.2.2 ΠΔΕ Συγχρημ.'!E21+'Α2.2.3 ΤΑΑ'!E21+'Α2.2.4 Πράσινο Ταμείο'!E21+'Α2.2.5 ΑΝΤΩΝΗΣ ΤΡΙΤΣΗΣ κτλ'!E21 -> 0 | F21: ='Α2.2.1 ΠΔΕ Εθνικό'!F21+'Α2.2.2 ΠΔΕ Συγχρημ.'!F21+'Α2.2.3 ΤΑΑ'!F21+'Α2.2.4 Πράσινο Ταμείο'!F21+'Α2.2.5 ΑΝΤΩΝΗΣ ΤΡΙΤΣΗΣ κτλ'!F21 -> 0 | G21: ='Α2.2.1 ΠΔΕ Εθνικό'!G21+'Α2.2.2 ΠΔΕ Συγχρημ.'!G21+'Α2.2.3 ΤΑΑ'!G21+'Α2.2.4 Πράσινο Ταμείο'!G21+'Α2.2.5 ΑΝΤΩΝΗΣ ΤΡΙΤΣΗΣ κτλ'!G21 -> 0 | H21: ='Α2.2.1 ΠΔΕ Εθνικό'!H21+'Α2.2.2 ΠΔΕ Συγχρημ.'!H21+'Α2.2.3 ΤΑΑ'!H21+'Α2.2.4 Πράσινο Ταμείο'!H21+'Α2.2.5 ΑΝΤΩΝΗΣ ΤΡΙΤΣΗΣ κτλ'!H21 -> 0 | I21: ='Α2.2.1 ΠΔΕ Εθνικό'!I21+'Α2.2.2 ΠΔΕ Συγχρημ.'!I21+'Α2.2.3 ΤΑΑ'!I21+'Α2.2.4 Πράσινο Ταμείο'!I21+'Α2.2.5 ΑΝΤΩΝΗΣ ΤΡΙΤΣΗΣ κτλ'!I21 -> 0 | J21: ='Α2.2.1 ΠΔΕ Εθνικό'!J21+'Α2.2.2 ΠΔΕ Συγχρημ.'!J21+'Α2.2.3 ΤΑΑ'!J21+'Α2.2.4 Πράσινο Ταμείο'!J21+'Α2.2.5 ΑΝΤΩΝΗΣ ΤΡΙΤΣΗΣ κτλ'!J21 -> 0 | K21: ='Α2.2.1 ΠΔΕ Εθνικό'!K21+'Α2.2.2 ΠΔΕ Συγχρημ.'!K21+'Α2.2.3 ΤΑΑ'!K21+'Α2.2.4 Πράσινο Ταμείο'!K21+'Α2.2.5 ΑΝΤΩΝΗΣ ΤΡΙΤΣΗΣ κτλ'!K21 -> 0 | L21: ='Α2.2.1 ΠΔΕ Εθνικό'!L21+'Α2.2.2 ΠΔΕ Συγχρημ.'!L21+'Α2.2.3 ΤΑΑ'!L21+'Α2.2.4 Πράσινο Ταμείο'!L21+'Α2.2.5 ΑΝΤΩΝΗΣ ΤΡΙΤΣΗΣ κτλ'!L21 -> 0
A22: 17 | B22: 63 | C22: Φόροι τέλη (63) | D22: ='Α2.2.1 ΠΔΕ Εθνικό'!D22+'Α2.2.2 ΠΔΕ Συγχρημ.'!D22+'Α2.2.3 ΤΑΑ'!D22+'Α2.2.4 Πράσινο Ταμείο'!D22+'Α2.2.5 ΑΝΤΩΝΗΣ ΤΡΙΤΣΗΣ κτλ'!D22 -> 0 | E22: ='Α2.2.1 ΠΔΕ Εθνικό'!E22+'Α2.2.2 ΠΔΕ Συγχρημ.'!E22+'Α2.2.3 ΤΑΑ'!E22+'Α2.2.4 Πράσινο Ταμείο'!E22+'Α2.2.5 ΑΝΤΩΝΗΣ ΤΡΙΤΣΗΣ κτλ'!E22 -> 0 | F22: ='Α2.2.1 ΠΔΕ Εθνικό'!F22+'Α2.2.2 ΠΔΕ Συγχρημ.'!F22+'Α2.2.3 ΤΑΑ'!F22+'Α2.2.4 Πράσινο Ταμείο'!F22+'Α2.2.5 ΑΝΤΩΝΗΣ ΤΡΙΤΣΗΣ κτλ'!F22 -> 0 | G22: ='Α2.2.1 ΠΔΕ Εθνικό'!G22+'Α2.2.2 ΠΔΕ Συγχρημ.'!G22+'Α2.2.3 ΤΑΑ'!G22+'Α2.2.4 Πράσινο Ταμείο'!G22+'Α2.2.5 ΑΝΤΩΝΗΣ ΤΡΙΤΣΗΣ κτλ'!G22 -> 0 | H22: ='Α2.2.1 ΠΔΕ Εθνικό'!H22+'Α2.2.2 ΠΔΕ Συγχρημ.'!H22+'Α2.2.3 ΤΑΑ'!H22+'Α2.2.4 Πράσινο Ταμείο'!H22+'Α2.2.5 ΑΝΤΩΝΗΣ ΤΡΙΤΣΗΣ κτλ'!H22 -> 0 | I22: ='Α2.2.1 ΠΔΕ Εθνικό'!I22+'Α2.2.2 ΠΔΕ Συγχρημ.'!I22+'Α2.2.3 ΤΑΑ'!I22+'Α2.2.4 Πράσινο Ταμείο'!I22+'Α2.2.5 ΑΝΤΩΝΗΣ ΤΡΙΤΣΗΣ κτλ'!I22 -> 0 | J22: ='Α2.2.1 ΠΔΕ Εθνικό'!J22+'Α2.2.2 ΠΔΕ Συγχρημ.'!J22+'Α2.2.3 ΤΑΑ'!J22+'Α2.2.4 Πράσινο Ταμείο'!J22+'Α2.2.5 ΑΝΤΩΝΗΣ ΤΡΙΤΣΗΣ κτλ'!J22 -> 0 | K22: ='Α2.2.1 ΠΔΕ Εθνικό'!K22+'Α2.2.2 ΠΔΕ Συγχρημ.'!K22+'Α2.2.3 ΤΑΑ'!K22+'Α2.2.4 Πράσινο Ταμείο'!K22+'Α2.2.5 ΑΝΤΩΝΗΣ ΤΡΙΤΣΗΣ κτλ'!K22 -> 0 | L22: ='Α2.2.1 ΠΔΕ Εθνικό'!L22+'Α2.2.2 ΠΔΕ Συγχρημ.'!L22+'Α2.2.3 ΤΑΑ'!L22+'Α2.2.4 Πράσινο Ταμείο'!L22+'Α2.2.5 ΑΝΤΩΝΗΣ ΤΡΙΤΣΗΣ κτλ'!L22 -> 0
A23: 18 | B23: 64 | C23: Διάφορα έξοδα (64 συν 60.05, πλην 64.11 και 64.12) | D23: ='Α2.2.1 ΠΔΕ Εθνικό'!D23+'Α2.2.2 ΠΔΕ Συγχρημ.'!D23+'Α2.2.3 ΤΑΑ'!D23+'Α2.2.4 Πράσινο Ταμείο'!D23+'Α2.2.5 ΑΝΤΩΝΗΣ ΤΡΙΤΣΗΣ κτλ'!D23 -> 0 | E23: ='Α2.2.1 ΠΔΕ Εθνικό'!E23+'Α2.2.2 ΠΔΕ Συγχρημ.'!E23+'Α2.2.3 ΤΑΑ'!E23+'Α2.2.4 Πράσινο Ταμείο'!E23+'Α2.2.5 ΑΝΤΩΝΗΣ ΤΡΙΤΣΗΣ κτλ'!E23 -> 0 | F23: ='Α2.2.1 ΠΔΕ Εθνικό'!F23+'Α2.2.2 ΠΔΕ Συγχρημ.'!F23+'Α2.2.3 ΤΑΑ'!F23+'Α2.2.4 Πράσινο Ταμείο'!F23+'Α2.2.5 ΑΝΤΩΝΗΣ ΤΡΙΤΣΗΣ κτλ'!F23 -> 0 | G23: ='Α2.2.1 ΠΔΕ Εθνικό'!G23+'Α2.2.2 ΠΔΕ Συγχρημ.'!G23+'Α2.2.3 ΤΑΑ'!G23+'Α2.2.4 Πράσινο Ταμείο'!G23+'Α2.2.5 ΑΝΤΩΝΗΣ ΤΡΙΤΣΗΣ κτλ'!G23 -> 0 | H23: ='Α2.2.1 ΠΔΕ Εθνικό'!H23+'Α2.2.2 ΠΔΕ Συγχρημ.'!H23+'Α2.2.3 ΤΑΑ'!H23+'Α2.2.4 Πράσινο Ταμείο'!H23+'Α2.2.5 ΑΝΤΩΝΗΣ ΤΡΙΤΣΗΣ κτλ'!H23 -> 0 | I23: ='Α2.2.1 ΠΔΕ Εθνικό'!I23+'Α2.2.2 ΠΔΕ Συγχρημ.'!I23+'Α2.2.3 ΤΑΑ'!I23+'Α2.2.4 Πράσινο Ταμείο'!I23+'Α2.2.5 ΑΝΤΩΝΗΣ ΤΡΙΤΣΗΣ κτλ'!I23 -> 0 | J23: ='Α2.2.1 ΠΔΕ Εθνικό'!J23+'Α2.2.2 ΠΔΕ Συγχρημ.'!J23+'Α2.2.3 ΤΑΑ'!J23+'Α2.2.4 Πράσινο Ταμείο'!J23+'Α2.2.5 ΑΝΤΩΝΗΣ ΤΡΙΤΣΗΣ κτλ'!J23 -> 0 | K23: ='Α2.2.1 ΠΔΕ Εθνικό'!K23+'Α2.2.2 ΠΔΕ Συγχρημ.'!K23+'Α2.2.3 ΤΑΑ'!K23+'Α2.2.4 Πράσινο Ταμείο'!K23+'Α2.2.5 ΑΝΤΩΝΗΣ ΤΡΙΤΣΗΣ κτλ'!K23 -> 0 | L23: ='Α2.2.1 ΠΔΕ Εθνικό'!L23+'Α2.2.2 ΠΔΕ Συγχρημ.'!L23+'Α2.2.3 ΤΑΑ'!L23+'Α2.2.4 Πράσινο Ταμείο'!L23+'Α2.2.5 ΑΝΤΩΝΗΣ ΤΡΙΤΣΗΣ κτλ'!L23 -> 0
A24: 19 | B24: 65 | C24: Τόκοι και συναφή έξοδα (65 συν 16.18) | D24: ='Α2.2.1 ΠΔΕ Εθνικό'!D24+'Α2.2.2 ΠΔΕ Συγχρημ.'!D24+'Α2.2.3 ΤΑΑ'!D24+'Α2.2.4 Πράσινο Ταμείο'!D24+'Α2.2.5 ΑΝΤΩΝΗΣ ΤΡΙΤΣΗΣ κτλ'!D24 -> 0 | E24: ='Α2.2.1 ΠΔΕ Εθνικό'!E24+'Α2.2.2 ΠΔΕ Συγχρημ.'!E24+'Α2.2.3 ΤΑΑ'!E24+'Α2.2.4 Πράσινο Ταμείο'!E24+'Α2.2.5 ΑΝΤΩΝΗΣ ΤΡΙΤΣΗΣ κτλ'!E24 -> 0 | F24: ='Α2.2.1 ΠΔΕ Εθνικό'!F24+'Α2.2.2 ΠΔΕ Συγχρημ.'!F24+'Α2.2.3 ΤΑΑ'!F24+'Α2.2.4 Πράσινο Ταμείο'!F24+'Α2.2.5 ΑΝΤΩΝΗΣ ΤΡΙΤΣΗΣ κτλ'!F24 -> 0 | G24: ='Α2.2.1 ΠΔΕ Εθνικό'!G24+'Α2.2.2 ΠΔΕ Συγχρημ.'!G24+'Α2.2.3 ΤΑΑ'!G24+'Α2.2.4 Πράσινο Ταμείο'!G24+'Α2.2.5 ΑΝΤΩΝΗΣ ΤΡΙΤΣΗΣ κτλ'!G24 -> 0 | H24: ='Α2.2.1 ΠΔΕ Εθνικό'!H24+'Α2.2.2 ΠΔΕ Συγχρημ.'!H24+'Α2.2.3 ΤΑΑ'!H24+'Α2.2.4 Πράσινο Ταμείο'!H24+'Α2.2.5 ΑΝΤΩΝΗΣ ΤΡΙΤΣΗΣ κτλ'!H24 -> 0 | I24: ='Α2.2.1 ΠΔΕ Εθνικό'!I24+'Α2.2.2 ΠΔΕ Συγχρημ.'!I24+'Α2.2.3 ΤΑΑ'!I24+'Α2.2.4 Πράσινο Ταμείο'!I24+'Α2.2.5 ΑΝΤΩΝΗΣ ΤΡΙΤΣΗΣ κτλ'!I24 -> 0 | J24: ='Α2.2.1 ΠΔΕ Εθνικό'!J24+'Α2.2.2 ΠΔΕ Συγχρημ.'!J24+'Α2.2.3 ΤΑΑ'!J24+'Α2.2.4 Πράσινο Ταμείο'!J24+'Α2.2.5 ΑΝΤΩΝΗΣ ΤΡΙΤΣΗΣ κτλ'!J24 -> 0 | K24: ='Α2.2.1 ΠΔΕ Εθνικό'!K24+'Α2.2.2 ΠΔΕ Συγχρημ.'!K24+'Α2.2.3 ΤΑΑ'!K24+'Α2.2.4 Πράσινο Ταμείο'!K24+'Α2.2.5 ΑΝΤΩΝΗΣ ΤΡΙΤΣΗΣ κτλ'!K24 -> 0 | L24: ='Α2.2.1 ΠΔΕ Εθνικό'!L24+'Α2.2.2 ΠΔΕ Συγχρημ.'!L24+'Α2.2.3 ΤΑΑ'!L24+'Α2.2.4 Πράσινο Ταμείο'!L24+'Α2.2.5 ΑΝΤΩΝΗΣ ΤΡΙΤΣΗΣ κτλ'!L24 -> 0
